| Back to Multiple platform build/check report for BioC 3.17 |
|
This page was generated on 2023-04-12 10:55:39 -0400 (Wed, 12 Apr 2023).
| Hostname | OS | Arch (*) | R version | Installed pkgs |
|---|---|---|---|---|
| nebbiolo1 | Linux (Ubuntu 22.04.1 LTS) | x86_64 | 4.3.0 alpha (2023-04-03 r84154) | 4547 |
| nebbiolo2 | Linux (Ubuntu 20.04.5 LTS) | x86_64 | R Under development (unstable) (2023-02-14 r83833) -- "Unsuffered Consequences" | 4333 |
| Click on any hostname to see more info about the system (e.g. compilers) (*) as reported by 'uname -p', except on Windows and Mac OS X | ||||
|
To the developers/maintainers of the MOFA2 package: - Allow up to 24 hours (and sometimes 48 hours) for your latest push to git@git.bioconductor.org:packages/MOFA2.git to reflect on this report. See Troubleshooting Build Report for more information. - Use the following Renviron settings to reproduce errors and warnings. Note: If "R CMD check" recently failed on the Linux builder over a missing dependency, add the missing dependency to "Suggests" in your DESCRIPTION file. See the Renviron.bioc for details. |
| Package 1260/2207 | Hostname | OS / Arch | INSTALL | BUILD | CHECK | BUILD BIN | ||||||||
| MOFA2 1.9.2 (landing page) Ricard Argelaguet
| nebbiolo1 | Linux (Ubuntu 22.04.1 LTS) / x86_64 | OK | OK | OK | |||||||||
| nebbiolo2 | Linux (Ubuntu 20.04.5 LTS) / x86_64 | OK | OK | OK | ||||||||||
| Package: MOFA2 |
| Version: 1.9.2 |
| Command: /home/biocbuild/bbs-3.17-bioc/R/bin/R CMD check --install=check:MOFA2.install-out.txt --library=/home/biocbuild/bbs-3.17-bioc/R/site-library --timings MOFA2_1.9.2.tar.gz |
| StartedAt: 2023-04-12 07:36:08 -0400 (Wed, 12 Apr 2023) |
| EndedAt: 2023-04-12 07:41:21 -0400 (Wed, 12 Apr 2023) |
| EllapsedTime: 313.8 seconds |
| RetCode: 0 |
| Status: OK |
| CheckDir: MOFA2.Rcheck |
| Warnings: 0 |
##############################################################################
##############################################################################
###
### Running command:
###
### /home/biocbuild/bbs-3.17-bioc/R/bin/R CMD check --install=check:MOFA2.install-out.txt --library=/home/biocbuild/bbs-3.17-bioc/R/site-library --timings MOFA2_1.9.2.tar.gz
###
##############################################################################
##############################################################################
* using log directory ‘/home/biocbuild/bbs-3.17-bioc/meat/MOFA2.Rcheck’
* using R Under development (unstable) (2023-02-14 r83833)
* using platform: x86_64-pc-linux-gnu (64-bit)
* R was compiled by
gcc (Ubuntu 9.4.0-1ubuntu1~20.04.1) 9.4.0
GNU Fortran (Ubuntu 9.4.0-1ubuntu1~20.04.1) 9.4.0
* running under: Ubuntu 20.04.6 LTS
* using session charset: UTF-8
* checking for file ‘MOFA2/DESCRIPTION’ ... OK
* checking extension type ... Package
* this is package ‘MOFA2’ version ‘1.9.2’
* package encoding: UTF-8
* checking package namespace information ... OK
* checking package dependencies ... OK
* checking if this is a source package ... OK
* checking if there is a namespace ... OK
* checking for hidden files and directories ... OK
* checking for portable file names ... OK
* checking for sufficient/correct file permissions ... OK
* checking whether package ‘MOFA2’ can be installed ... NOTE
Found the following notes/warnings:
Non-staged installation was used
See ‘/home/biocbuild/bbs-3.17-bioc/meat/MOFA2.Rcheck/00install.out’ for details.
* checking installed package size ... OK
* checking package directory ... OK
* checking ‘build’ directory ... OK
* checking DESCRIPTION meta-information ... OK
* checking top-level files ... OK
* checking for left-over files ... OK
* checking index information ... OK
* checking package subdirectories ... OK
* checking R files for non-ASCII characters ... OK
* checking R files for syntax errors ... OK
* checking whether the package can be loaded ... OK
* checking whether the package can be loaded with stated dependencies ... OK
* checking whether the package can be unloaded cleanly ... OK
* checking whether the namespace can be loaded with stated dependencies ... OK
* checking whether the namespace can be unloaded cleanly ... OK
* checking loading without being on the library search path ... OK
* checking dependencies in R code ... OK
* checking S3 generic/method consistency ... OK
* checking replacement functions ... OK
* checking foreign function calls ... OK
* checking R code for possible problems ... NOTE
.plot_factors_vs_cov_1d: no visible binding for global variable
‘value.factor’
.plot_factors_vs_cov_1d: no visible binding for global variable
‘value_scaled’
.plot_factors_vs_cov_1d: no visible binding for global variable
‘value.covariate’
.plot_factors_vs_cov_1d: no visible binding for global variable ‘value’
.plot_factors_vs_cov_2d: no visible binding for global variable
‘value.factor’
.set_xax: no visible binding for global variable ‘value’
add_mofa_factors_to_seurat: no visible global function definition for
‘CreateDimReducObject’
create_mofa_from_SingleCellExperiment: no visible global function
definition for ‘colData’
get_interpolated_factors: no visible binding for global variable ‘L1’
get_interpolated_factors: no visible binding for global variable ‘L2’
get_interpolated_factors: no visible binding for global variable
‘value’
get_interpolated_factors: no visible binding for global variable
‘covariate’
get_interpolated_factors: no visible binding for global variable
‘covariate_value’
get_interpolated_factors: no visible binding for global variable
‘sample_id’
interpolate_factors: no visible binding for global variable ‘.’
plot_alignment: no visible binding for global variable ‘group’
plot_alignment: no visible binding for global variable ‘value.warped’
plot_alignment: no visible binding for global variable
‘value.unaligned’
plot_contribution_scores: no visible binding for global variable ‘view’
plot_data_overview: no visible binding for global variable ‘view’
plot_data_overview: no visible binding for global variable ‘ptotal’
plot_data_overview: no visible binding for global variable ‘ntotal’
plot_data_overview: no visible binding for global variable ‘group’
plot_data_overview: no visible binding for global variable
‘group_label’
plot_dimred: no visible binding for global variable ‘.’
plot_enrichment_detailed: no visible binding for global variable
‘pathway’
plot_enrichment_detailed: no visible binding for global variable
‘feature.statistic’
plot_factors_vs_cov: no visible binding for global variable ‘E2’
plot_factors_vs_cov: no visible binding for global variable ‘value’
plot_interpolation_vs_covariate: no visible binding for global variable
‘variance’
plot_interpolation_vs_covariate: no visible binding for global variable
‘group’
plot_interpolation_vs_covariate: no visible binding for global variable
‘value.covariate’
plot_interpolation_vs_covariate: no visible binding for global variable
‘value.factor’
plot_interpolation_vs_covariate: no visible binding for global variable
‘ymin’
plot_interpolation_vs_covariate: no visible binding for global variable
‘ymax’
plot_sharedness: no visible binding for global variable ‘sharedness’
plot_sharedness: no visible binding for global variable ‘value’
plot_smoothness: no visible binding for global variable ‘value’
plot_smoothness: no visible binding for global variable ‘smoothness’
plot_top_weights: no visible binding for global variable ‘value’
plot_weights: no visible binding for global variable ‘value’
plot_weights: no visible binding for global variable ‘.’
summarise_factors: no visible binding for global variable ‘value’
summarise_factors: no visible binding for global variable ‘level’
summarise_factors: no visible binding for global variable ‘group’
Undefined global functions or variables:
. CreateDimReducObject E2 L1 L2 colData covariate covariate_value
feature.statistic group group_label level ntotal pathway ptotal
sample_id sharedness smoothness value value.covariate value.factor
value.unaligned value.warped value_scaled variance view ymax ymin
* checking Rd files ... OK
* checking Rd metadata ... OK
* checking Rd cross-references ... NOTE
Package unavailable to check Rd xrefs: ‘PCGSE’
* checking for missing documentation entries ... OK
* checking for code/documentation mismatches ... OK
* checking Rd \usage sections ... OK
* checking Rd contents ... OK
* checking for unstated dependencies in examples ... OK
* checking line endings in shell scripts ... OK
* checking files in ‘vignettes’ ... OK
* checking examples ... OK
* checking for unstated dependencies in ‘tests’ ... OK
* checking tests ...
Running ‘testthat.R’
OK
* checking for unstated dependencies in vignettes ... OK
* checking package vignettes in ‘inst/doc’ ... OK
* checking running R code from vignettes ...
‘MEFISTO_temporal.Rmd’ using ‘UTF-8’... OK
‘downstream_analysis.Rmd’ using ‘UTF-8’... OK
‘getting_started_R.Rmd’ using ‘UTF-8’... OK
NONE
* checking re-building of vignette outputs ... OK
* checking PDF version of manual ... OK
* DONE
Status: 3 NOTEs
See
‘/home/biocbuild/bbs-3.17-bioc/meat/MOFA2.Rcheck/00check.log’
for details.
MOFA2.Rcheck/00install.out
############################################################################## ############################################################################## ### ### Running command: ### ### /home/biocbuild/bbs-3.17-bioc/R/bin/R CMD INSTALL MOFA2 ### ############################################################################## ############################################################################## * installing to library ‘/home/biocbuild/bbs-3.17-bioc/R/site-library’ * installing *source* package ‘MOFA2’ ... ** using non-staged installation via StagedInstall field ** R ** inst ** byte-compile and prepare package for lazy loading Creating a generic function for ‘rownames’ from package ‘base’ in package ‘MOFA2’ Creating a generic function for ‘colnames’ from package ‘base’ in package ‘MOFA2’ Creating a generic function for ‘nrow’ from package ‘base’ in package ‘MOFA2’ Creating a generic function for ‘ncol’ from package ‘base’ in package ‘MOFA2’ Creating a generic function for ‘rownames<-’ from package ‘base’ in package ‘MOFA2’ Creating a generic function for ‘colnames<-’ from package ‘base’ in package ‘MOFA2’ ** help *** installing help indices ** building package indices ** installing vignettes ** testing if installed package can be loaded * DONE (MOFA2)
MOFA2.Rcheck/tests/testthat.Rout
R Under development (unstable) (2023-02-14 r83833) -- "Unsuffered Consequences"
Copyright (C) 2023 The R Foundation for Statistical Computing
Platform: x86_64-pc-linux-gnu (64-bit)
R is free software and comes with ABSOLUTELY NO WARRANTY.
You are welcome to redistribute it under certain conditions.
Type 'license()' or 'licence()' for distribution details.
R is a collaborative project with many contributors.
Type 'contributors()' for more information and
'citation()' on how to cite R or R packages in publications.
Type 'demo()' for some demos, 'help()' for on-line help, or
'help.start()' for an HTML browser interface to help.
Type 'q()' to quit R.
> library(testthat)
> library(MOFA2)
Attaching package: 'MOFA2'
The following object is masked from 'package:stats':
predict
>
> test_check("MOFA2")
single_group
100
____________
| |
view_0 1000 | 100% |
|____________|
____________
| |
view_1 1000 | 100% |
|____________|
[ FAIL 0 | WARN 0 | SKIP 0 | PASS 25 ]
>
> proc.time()
user system elapsed
11.748 0.962 12.691
MOFA2.Rcheck/MOFA2-Ex.timings
| name | user | system | elapsed | |
| add_mofa_factors_to_seurat | 0.006 | 0.000 | 0.006 | |
| calculate_contribution_scores | 0.220 | 0.000 | 0.224 | |
| calculate_variance_explained | 1.989 | 0.124 | 2.114 | |
| calculate_variance_explained_per_sample | 0.843 | 0.104 | 0.948 | |
| cluster_samples | 0.143 | 0.004 | 0.147 | |
| compare_elbo | 0.284 | 0.012 | 0.296 | |
| compare_factors | 0.328 | 0.000 | 0.328 | |
| covariates_names | 0.187 | 0.004 | 0.195 | |
| create_mofa | 1.19 | 0.02 | 1.21 | |
| create_mofa_from_df | 0.58 | 0.00 | 0.58 | |
| create_mofa_from_matrix | 0.010 | 0.000 | 0.011 | |
| factors_names | 0.148 | 0.000 | 0.149 | |
| features_metadata | 0.785 | 0.060 | 0.845 | |
| features_names | 0.142 | 0.016 | 0.157 | |
| get_covariates | 0.187 | 0.004 | 0.192 | |
| get_data | 0.632 | 0.008 | 0.640 | |
| get_default_data_options | 1.569 | 0.072 | 1.641 | |
| get_default_mefisto_options | 0.147 | 0.000 | 0.147 | |
| get_default_model_options | 0.595 | 0.028 | 0.623 | |
| get_default_stochastic_options | 0.610 | 0.008 | 0.618 | |
| get_default_training_options | 0.616 | 0.008 | 0.625 | |
| get_dimensions | 0.190 | 0.000 | 0.191 | |
| get_elbo | 0.253 | 0.012 | 0.265 | |
| get_expectations | 0.276 | 0.034 | 0.310 | |
| get_factors | 0.172 | 0.000 | 0.171 | |
| get_imputed_data | 0.197 | 0.004 | 0.201 | |
| get_lengthscales | 0.220 | 0.004 | 0.224 | |
| get_scales | 0.209 | 0.008 | 0.217 | |
| get_variance_explained | 0.180 | 0.008 | 0.188 | |
| get_weights | 0.181 | 0.000 | 0.181 | |
| groups_names | 0.169 | 0.000 | 0.168 | |
| impute | 0.193 | 0.004 | 0.197 | |
| interpolate_factors | 0.232 | 0.004 | 0.237 | |
| load_model | 0.197 | 0.004 | 0.200 | |
| make_example_data | 0.004 | 0.000 | 0.003 | |
| plot_ascii_data | 0.189 | 0.008 | 0.197 | |
| plot_data_heatmap | 0.223 | 0.004 | 0.226 | |
| plot_data_overview | 1.187 | 0.104 | 1.290 | |
| plot_data_scatter | 1.458 | 0.024 | 1.481 | |
| plot_data_vs_cov | 0.532 | 0.000 | 0.532 | |
| plot_dimred | 4.451 | 0.083 | 4.506 | |
| plot_factor | 1.277 | 0.032 | 1.309 | |
| plot_factor_cor | 0.206 | 0.012 | 0.218 | |
| plot_factors | 0.581 | 0.004 | 0.584 | |
| plot_factors_vs_cov | 0.532 | 0.004 | 0.536 | |
| plot_group_kernel | 0.370 | 0.008 | 0.378 | |
| plot_interpolation_vs_covariate | 0.528 | 0.008 | 0.535 | |
| plot_smoothness | 0.216 | 0.000 | 0.216 | |
| plot_top_weights | 0.963 | 0.020 | 0.983 | |
| plot_variance_explained | 1.774 | 0.028 | 1.802 | |
| plot_variance_explained_by_covariates | 1.257 | 0.016 | 1.273 | |
| plot_variance_explained_per_feature | 0.413 | 0.000 | 0.413 | |
| plot_weights | 2.998 | 0.088 | 3.086 | |
| plot_weights_heatmap | 0.358 | 0.028 | 0.387 | |
| plot_weights_scatter | 0.377 | 0.008 | 0.385 | |
| predict | 0.217 | 0.004 | 0.222 | |
| prepare_mofa | 0.732 | 0.032 | 0.764 | |
| run_mofa | 0.709 | 0.000 | 0.708 | |
| run_tsne | 0.193 | 0.000 | 0.194 | |
| run_umap | 0.221 | 0.004 | 0.225 | |
| samples_metadata | 0.195 | 0.008 | 0.202 | |
| samples_names | 0.255 | 0.008 | 0.263 | |
| set_covariates | 0.054 | 0.004 | 0.058 | |
| subset_factors | 0.379 | 0.004 | 0.383 | |
| subset_groups | 0.391 | 0.004 | 0.394 | |
| subset_samples | 0.238 | 0.012 | 0.250 | |
| subset_views | 1.217 | 0.088 | 1.306 | |
| views_names | 0.178 | 0.012 | 0.189 | |