| Back to Multiple platform build/check report for BioC 3.17 | 
  | 
This page was generated on 2023-04-12 10:55:37 -0400 (Wed, 12 Apr 2023).
| Hostname | OS | Arch (*) | R version | Installed pkgs | 
|---|---|---|---|---|
| nebbiolo1 | Linux (Ubuntu 22.04.1 LTS) | x86_64 | 4.3.0 alpha (2023-04-03 r84154) | 4547 | 
| nebbiolo2 | Linux (Ubuntu 20.04.5 LTS) | x86_64 | R Under development (unstable) (2023-02-14 r83833) -- "Unsuffered Consequences" | 4333 | 
| Click on any hostname to see more info about the system (e.g. compilers) (*) as reported by 'uname -p', except on Windows and Mac OS X | ||||
| 
To the developers/maintainers of the GRmetrics package: - Allow up to 24 hours (and sometimes 48 hours) for your latest push to git@git.bioconductor.org:packages/GRmetrics.git to reflect on this report. See Troubleshooting Build Report for more information. - Use the following Renviron settings to reproduce errors and warnings. Note: If "R CMD check" recently failed on the Linux builder over a missing dependency, add the missing dependency to "Suggests" in your DESCRIPTION file. See the Renviron.bioc for details.  | 
| Package 875/2207 | Hostname | OS / Arch | INSTALL | BUILD | CHECK | BUILD BIN | ||||||||
| GRmetrics 1.25.0  (landing page) Nicholas Clark 
  | nebbiolo1 | Linux (Ubuntu 22.04.1 LTS) / x86_64 | OK | OK | OK | |||||||||
| nebbiolo2 | Linux (Ubuntu 20.04.5 LTS) / x86_64 | OK | OK | OK | ||||||||||
| Package: GRmetrics | 
| Version: 1.25.0 | 
| Command: /home/biocbuild/bbs-3.17-bioc/R/bin/R CMD check --install=check:GRmetrics.install-out.txt --library=/home/biocbuild/bbs-3.17-bioc/R/site-library --timings GRmetrics_1.25.0.tar.gz | 
| StartedAt: 2023-04-12 06:40:35 -0400 (Wed, 12 Apr 2023) | 
| EndedAt: 2023-04-12 06:43:40 -0400 (Wed, 12 Apr 2023) | 
| EllapsedTime: 184.5 seconds | 
| RetCode: 0 | 
| Status: OK | 
| CheckDir: GRmetrics.Rcheck | 
| Warnings: 0 | 
##############################################################################
##############################################################################
###
### Running command:
###
###   /home/biocbuild/bbs-3.17-bioc/R/bin/R CMD check --install=check:GRmetrics.install-out.txt --library=/home/biocbuild/bbs-3.17-bioc/R/site-library --timings GRmetrics_1.25.0.tar.gz
###
##############################################################################
##############################################################################
* using log directory ‘/home/biocbuild/bbs-3.17-bioc/meat/GRmetrics.Rcheck’
* using R Under development (unstable) (2023-02-14 r83833)
* using platform: x86_64-pc-linux-gnu (64-bit)
* R was compiled by
    gcc (Ubuntu 9.4.0-1ubuntu1~20.04.1) 9.4.0
    GNU Fortran (Ubuntu 9.4.0-1ubuntu1~20.04.1) 9.4.0
* running under: Ubuntu 20.04.6 LTS
* using session charset: UTF-8
* checking for file ‘GRmetrics/DESCRIPTION’ ... OK
* checking extension type ... Package
* this is package ‘GRmetrics’ version ‘1.25.0’
* checking package namespace information ... OK
* checking package dependencies ... OK
* checking if this is a source package ... OK
* checking if there is a namespace ... OK
* checking for hidden files and directories ... OK
* checking for portable file names ... OK
* checking for sufficient/correct file permissions ... OK
* checking whether package ‘GRmetrics’ can be installed ... OK
* checking installed package size ... OK
* checking package directory ... OK
* checking ‘build’ directory ... OK
* checking DESCRIPTION meta-information ... OK
* checking top-level files ... OK
* checking for left-over files ... OK
* checking index information ... OK
* checking package subdirectories ... OK
* checking R files for non-ASCII characters ... OK
* checking R files for syntax errors ... OK
* checking whether the package can be loaded ... OK
* checking whether the package can be loaded with stated dependencies ... OK
* checking whether the package can be unloaded cleanly ... OK
* checking whether the namespace can be loaded with stated dependencies ... OK
* checking whether the namespace can be unloaded cleanly ... OK
* checking loading without being on the library search path ... OK
* checking dependencies in R code ... NOTE
Package in Depends field not imported from: ‘SummarizedExperiment’
  These packages need to be imported from (in the NAMESPACE file)
  for when this namespace is loaded but not attached.
* checking S3 generic/method consistency ... OK
* checking replacement functions ... OK
* checking foreign function calls ... OK
* checking R code for possible problems ... NOTE
.GRlogisticFit: no visible binding for global variable ‘experiment’
GRdrawDRC: no visible binding for global variable ‘GRvalue’
Undefined global functions or variables:
  GRvalue experiment
* checking Rd files ... OK
* checking Rd metadata ... OK
* checking Rd cross-references ... OK
* checking for missing documentation entries ... OK
* checking for code/documentation mismatches ... OK
* checking Rd \usage sections ... OK
* checking Rd contents ... OK
* checking for unstated dependencies in examples ... OK
* checking contents of ‘data’ directory ... OK
* checking data for non-ASCII characters ... OK
* checking LazyData ... OK
* checking data for ASCII and uncompressed saves ... OK
* checking files in ‘vignettes’ ... OK
* checking examples ... OK
Examples with CPU (user + system) or elapsed time > 5s
           user system elapsed
GRfit     9.717  0.176  10.337
GRscatter 6.477  0.128   6.718
GRdrawDRC 4.959  0.311   5.452
* checking for unstated dependencies in ‘tests’ ... OK
* checking tests ...
  Running ‘test.R’
 OK
* checking for unstated dependencies in vignettes ... OK
* checking package vignettes in ‘inst/doc’ ... OK
* checking running R code from vignettes ...
  ‘GRmetrics-vignette.Rmd’ using ‘UTF-8’... OK
 NONE
* checking re-building of vignette outputs ... OK
* checking PDF version of manual ... OK
* DONE
Status: 2 NOTEs
See
  ‘/home/biocbuild/bbs-3.17-bioc/meat/GRmetrics.Rcheck/00check.log’
for details.
GRmetrics.Rcheck/00install.out
############################################################################## ############################################################################## ### ### Running command: ### ### /home/biocbuild/bbs-3.17-bioc/R/bin/R CMD INSTALL GRmetrics ### ############################################################################## ############################################################################## * installing to library ‘/home/biocbuild/bbs-3.17-bioc/R/site-library’ * installing *source* package ‘GRmetrics’ ... ** using staged installation ** R ** data *** moving datasets to lazyload DB ** inst ** byte-compile and prepare package for lazy loading ** help *** installing help indices ** building package indices ** installing vignettes ** testing if installed package can be loaded from temporary location ** testing if installed package can be loaded from final location ** testing if installed package keeps a record of temporary installation path * DONE (GRmetrics)
GRmetrics.Rcheck/tests/test.Rout
R Under development (unstable) (2023-02-14 r83833) -- "Unsuffered Consequences"
Copyright (C) 2023 The R Foundation for Statistical Computing
Platform: x86_64-pc-linux-gnu (64-bit)
R is free software and comes with ABSOLUTELY NO WARRANTY.
You are welcome to redistribute it under certain conditions.
Type 'license()' or 'licence()' for distribution details.
R is a collaborative project with many contributors.
Type 'contributors()' for more information and
'citation()' on how to cite R or R packages in publications.
Type 'demo()' for some demos, 'help()' for on-line help, or
'help.start()' for an HTML browser interface to help.
Type 'q()' to quit R.
> # Case C (example 4) test
> #install.packages('readr')      # un-comment and install these packages if necessary
> #install.packages('devtools')   # un-comment and install these packages if necessary
> ## try http:// if https:// URLs are not supported
> #if (!requireNamespace("BiocManager", quietly=TRUE))
>     #install.packages("BiocManager")
> #BiocManager::install("SummarizedExperiment")
> 
> # Load GRmetrics functions
> library(GRmetrics)
Loading required package: SummarizedExperiment
Loading required package: MatrixGenerics
Loading required package: matrixStats
Attaching package: 'MatrixGenerics'
The following objects are masked from 'package:matrixStats':
    colAlls, colAnyNAs, colAnys, colAvgsPerRowSet, colCollapse,
    colCounts, colCummaxs, colCummins, colCumprods, colCumsums,
    colDiffs, colIQRDiffs, colIQRs, colLogSumExps, colMadDiffs,
    colMads, colMaxs, colMeans2, colMedians, colMins, colOrderStats,
    colProds, colQuantiles, colRanges, colRanks, colSdDiffs, colSds,
    colSums2, colTabulates, colVarDiffs, colVars, colWeightedMads,
    colWeightedMeans, colWeightedMedians, colWeightedSds,
    colWeightedVars, rowAlls, rowAnyNAs, rowAnys, rowAvgsPerColSet,
    rowCollapse, rowCounts, rowCummaxs, rowCummins, rowCumprods,
    rowCumsums, rowDiffs, rowIQRDiffs, rowIQRs, rowLogSumExps,
    rowMadDiffs, rowMads, rowMaxs, rowMeans2, rowMedians, rowMins,
    rowOrderStats, rowProds, rowQuantiles, rowRanges, rowRanks,
    rowSdDiffs, rowSds, rowSums2, rowTabulates, rowVarDiffs, rowVars,
    rowWeightedMads, rowWeightedMeans, rowWeightedMedians,
    rowWeightedSds, rowWeightedVars
Loading required package: GenomicRanges
Loading required package: stats4
Loading required package: BiocGenerics
Attaching package: 'BiocGenerics'
The following objects are masked from 'package:stats':
    IQR, mad, sd, var, xtabs
The following objects are masked from 'package:base':
    Filter, Find, Map, Position, Reduce, anyDuplicated, aperm, append,
    as.data.frame, basename, cbind, colnames, dirname, do.call,
    duplicated, eval, evalq, get, grep, grepl, intersect, is.unsorted,
    lapply, mapply, match, mget, order, paste, pmax, pmax.int, pmin,
    pmin.int, rank, rbind, rownames, sapply, setdiff, sort, table,
    tapply, union, unique, unsplit, which.max, which.min
Loading required package: S4Vectors
Attaching package: 'S4Vectors'
The following objects are masked from 'package:base':
    I, expand.grid, unname
Loading required package: IRanges
Loading required package: GenomeInfoDb
Loading required package: Biobase
Welcome to Bioconductor
    Vignettes contain introductory material; view with
    'browseVignettes()'. To cite Bioconductor, see
    'citation("Biobase")', and for packages 'citation("pkgname")'.
Attaching package: 'Biobase'
The following object is masked from 'package:MatrixGenerics':
    rowMedians
The following objects are masked from 'package:matrixStats':
    anyMissing, rowMedians
> # Load Case C (example 4) input
> data("inputCaseC")
> # Run GRfit function with case = "C"
> output4 = GRfit(inputData = inputCaseC, groupingVariables = c('cell_line','agent', 'perturbation','replicate', 'time'), case = "C")
There were 50 or more warnings (use warnings() to see the first 50)
> 
> # Load Case A (example 1) input
> data("inputCaseA")
> # Run GRfit function with case = "A"
> output1 = GRfit(inputData = inputCaseA, groupingVariables = c('cell_line','agent', 'perturbation','replicate', 'time'), case = "A")
There were 50 or more warnings (use warnings() to see the first 50)
> 
> # change type integer to numeric for the sake of testing
> metadata(output1)[[1]]$replicate = as.numeric(metadata(output1)[[1]]$replicate)
> all.equal(output1, output4)
[1] "Attributes: < Component \"metadata\": Component 1: Attributes: < Component \"class\": Lengths (3, 1) differ (string compare on first 1) > >"
[2] "Attributes: < Component \"metadata\": Component 1: Attributes: < Component \"class\": 1 string mismatch > >"                                
> #[1] TRUE
> # Test passed - output from Case C matches output from Case A
> 
> proc.time()
   user  system elapsed 
 19.633   0.508  20.287 
GRmetrics.Rcheck/GRmetrics-Ex.timings
| name | user | system | elapsed | |
| GRbox | 0 | 0 | 0 | |
| GRdrawDRC | 4.959 | 0.311 | 5.452 | |
| GRfit | 9.717 | 0.176 | 10.337 | |
| GRgetDefs | 0.714 | 0.032 | 0.746 | |
| GRgetGroupVars | 0.679 | 0.011 | 0.690 | |
| GRgetMetrics | 0.856 | 0.000 | 0.855 | |
| GRgetValues | 1.046 | 0.016 | 1.208 | |
| GRscatter | 6.477 | 0.128 | 6.718 | |