| Back to Multiple platform build/check report for BioC 3.17 |
|
This page was generated on 2023-04-12 10:55:23 -0400 (Wed, 12 Apr 2023).
| Hostname | OS | Arch (*) | R version | Installed pkgs |
|---|---|---|---|---|
| nebbiolo1 | Linux (Ubuntu 22.04.1 LTS) | x86_64 | 4.3.0 alpha (2023-04-03 r84154) | 4547 |
| nebbiolo2 | Linux (Ubuntu 20.04.5 LTS) | x86_64 | R Under development (unstable) (2023-02-14 r83833) -- "Unsuffered Consequences" | 4333 |
| Click on any hostname to see more info about the system (e.g. compilers) (*) as reported by 'uname -p', except on Windows and Mac OS X | ||||
|
To the developers/maintainers of the DeMixT package: - Allow up to 24 hours (and sometimes 48 hours) for your latest push to git@git.bioconductor.org:packages/DeMixT.git to reflect on this report. See Troubleshooting Build Report for more information. - Use the following Renviron settings to reproduce errors and warnings. Note: If "R CMD check" recently failed on the Linux builder over a missing dependency, add the missing dependency to "Suggests" in your DESCRIPTION file. See the Renviron.bioc for details. |
| Package 523/2207 | Hostname | OS / Arch | INSTALL | BUILD | CHECK | BUILD BIN | ||||||||
| DeMixT 1.15.0 (landing page) Shuai Guo
| nebbiolo1 | Linux (Ubuntu 22.04.1 LTS) / x86_64 | OK | OK | WARNINGS | |||||||||
| nebbiolo2 | Linux (Ubuntu 20.04.5 LTS) / x86_64 | OK | OK | WARNINGS | ||||||||||
| Package: DeMixT |
| Version: 1.15.0 |
| Command: /home/biocbuild/bbs-3.17-bioc/R/bin/R CMD INSTALL DeMixT |
| StartedAt: 2023-04-11 15:29:26 -0400 (Tue, 11 Apr 2023) |
| EndedAt: 2023-04-11 15:30:22 -0400 (Tue, 11 Apr 2023) |
| EllapsedTime: 56.8 seconds |
| RetCode: 0 |
| Status: OK |
##############################################################################
##############################################################################
###
### Running command:
###
### /home/biocbuild/bbs-3.17-bioc/R/bin/R CMD INSTALL DeMixT
###
##############################################################################
##############################################################################
* installing to library ‘/home/biocbuild/bbs-3.17-bioc/R/site-library’
* installing *source* package ‘DeMixT’ ...
** using staged installation
** libs
using C compiler: ‘gcc (Ubuntu 11.3.0-1ubuntu1~22.04) 11.3.0’
using C++ compiler: ‘g++ (Ubuntu 11.3.0-1ubuntu1~22.04) 11.3.0’
gcc -I"/home/biocbuild/bbs-3.17-bioc/R/include" -DNDEBUG -I'/home/biocbuild/bbs-3.17-bioc/R/site-library/Rcpp/include' -I/usr/local/include -fopenmp -fpic -g -O2 -Wall -c DeMixT.c -o DeMixT.o
DeMixT.c: In function ‘Tdemix’:
DeMixT.c:37:45: warning: variable ‘st2_sig_2’ set but not used [-Wunused-but-set-variable]
37 | double *st1_mu_2, *st2_mu_2, *st1_sig_2, *st2_sig_2;
| ^~~~~~~~~
DeMixT.c:37:33: warning: variable ‘st1_sig_2’ set but not used [-Wunused-but-set-variable]
37 | double *st1_mu_2, *st2_mu_2, *st1_sig_2, *st2_sig_2;
| ^~~~~~~~~
DeMixT.c:37:22: warning: variable ‘st2_mu_2’ set but not used [-Wunused-but-set-variable]
37 | double *st1_mu_2, *st2_mu_2, *st1_sig_2, *st2_sig_2;
| ^~~~~~~~
DeMixT.c:37:11: warning: variable ‘st1_mu_2’ set but not used [-Wunused-but-set-variable]
37 | double *st1_mu_2, *st2_mu_2, *st1_sig_2, *st2_sig_2;
| ^~~~~~~~
DeMixT.c: In function ‘gettumor’:
DeMixT.c:591:21: warning: variable ‘obj_new’ set but not used [-Wunused-but-set-variable]
591 | double obj_old, obj_new;
| ^~~~~~~
DeMixT.c:591:12: warning: variable ‘obj_old’ set but not used [-Wunused-but-set-variable]
591 | double obj_old, obj_new;
| ^~~~~~~
DeMixT.c: In function ‘getpi’:
DeMixT.c:1280:21: warning: variable ‘obj_new’ set but not used [-Wunused-but-set-variable]
1280 | double obj_old, obj_new;
| ^~~~~~~
DeMixT.c:1280:12: warning: variable ‘obj_old’ set but not used [-Wunused-but-set-variable]
1280 | double obj_old, obj_new;
| ^~~~~~~
DeMixT.c: In function ‘getspikeinpi’:
DeMixT.c:1307:25: warning: variable ‘obj_new’ set but not used [-Wunused-but-set-variable]
1307 | double obj_old, obj_new;
| ^~~~~~~
DeMixT.c:1307:16: warning: variable ‘obj_old’ set but not used [-Wunused-but-set-variable]
1307 | double obj_old, obj_new;
| ^~~~~~~
DeMixT.c: In function ‘getpiT’:
DeMixT.c:1322:21: warning: variable ‘obj_new’ set but not used [-Wunused-but-set-variable]
1322 | double obj_old, obj_new;
| ^~~~~~~
DeMixT.c:1322:12: warning: variable ‘obj_old’ set but not used [-Wunused-but-set-variable]
1322 | double obj_old, obj_new;
| ^~~~~~~
DeMixT.c: In function ‘Tdemix’:
DeMixT.c:195:11: warning: ‘Tavgtmp’ may be used uninitialized in this function [-Wmaybe-uninitialized]
195 | if(Tavgtmp <= 0) Tavgtmp = exp(10*log(2.0) + p->Tsigma[j]/2.0*pow(log(2.0), 2.0));
| ^
DeMixT.c:94:8: warning: argument 1 range [18446744071562067968, 18446744073709551615] exceeds maximum object size 9223372036854775807 [-Walloc-size-larger-than=]
94 | FD = calloc(nS ,sizeof(double *));
| ^~~~~~~~~~~~~~~~~~~~~~~~~~~~
In file included from DeMixT.c:8:
/usr/include/stdlib.h:543:14: note: in a call to allocation function ‘calloc’ declared here
543 | extern void *calloc (size_t __nmemb, size_t __size)
| ^~~~~~
g++ -std=gnu++17 -I"/home/biocbuild/bbs-3.17-bioc/R/include" -DNDEBUG -I'/home/biocbuild/bbs-3.17-bioc/R/site-library/Rcpp/include' -I/usr/local/include -fpic -g -O2 -Wall -c Profile_2D.cpp -o Profile_2D.o
g++ -std=gnu++17 -I"/home/biocbuild/bbs-3.17-bioc/R/include" -DNDEBUG -I'/home/biocbuild/bbs-3.17-bioc/R/site-library/Rcpp/include' -I/usr/local/include -fpic -g -O2 -Wall -c RcppExports.cpp -o RcppExports.o
gcc -I"/home/biocbuild/bbs-3.17-bioc/R/include" -DNDEBUG -I'/home/biocbuild/bbs-3.17-bioc/R/site-library/Rcpp/include' -I/usr/local/include -fopenmp -fpic -g -O2 -Wall -c init.c -o init.o
gcc -I"/home/biocbuild/bbs-3.17-bioc/R/include" -DNDEBUG -I'/home/biocbuild/bbs-3.17-bioc/R/site-library/Rcpp/include' -I/usr/local/include -fopenmp -fpic -g -O2 -Wall -c registerDynamicSymbol.c -o registerDynamicSymbol.o
g++ -std=gnu++17 -shared -L/home/biocbuild/bbs-3.17-bioc/R/lib -L/usr/local/lib -o DeMixT.so DeMixT.o Profile_2D.o RcppExports.o init.o registerDynamicSymbol.o -fopenmp -L/home/biocbuild/bbs-3.17-bioc/R/lib -lR
installing to /home/biocbuild/bbs-3.17-bioc/R/site-library/00LOCK-DeMixT/00new/DeMixT/libs
** R
** data
*** moving datasets to lazyload DB
** inst
** byte-compile and prepare package for lazy loading
Warning: replacing previous import ‘ggplot2::%+%’ by ‘psych::%+%’ when loading ‘DeMixT’
Warning: replacing previous import ‘SummarizedExperiment::distance’ by ‘psych::distance’ when loading ‘DeMixT’
Warning: replacing previous import ‘ggplot2::alpha’ by ‘psych::alpha’ when loading ‘DeMixT’
** help
*** installing help indices
** building package indices
** installing vignettes
** testing if installed package can be loaded from temporary location
Warning: replacing previous import ‘ggplot2::%+%’ by ‘psych::%+%’ when loading ‘DeMixT’
Warning: replacing previous import ‘SummarizedExperiment::distance’ by ‘psych::distance’ when loading ‘DeMixT’
Warning: replacing previous import ‘ggplot2::alpha’ by ‘psych::alpha’ when loading ‘DeMixT’
** checking absolute paths in shared objects and dynamic libraries
** testing if installed package can be loaded from final location
Warning: replacing previous import ‘ggplot2::%+%’ by ‘psych::%+%’ when loading ‘DeMixT’
Warning: replacing previous import ‘SummarizedExperiment::distance’ by ‘psych::distance’ when loading ‘DeMixT’
Warning: replacing previous import ‘ggplot2::alpha’ by ‘psych::alpha’ when loading ‘DeMixT’
** testing if installed package keeps a record of temporary installation path
* DONE (DeMixT)