| Back to Build/check report for BioC 3.17 |
|
This page was generated on 2023-01-02 09:00:54 -0500 (Mon, 02 Jan 2023).
| Hostname | OS | Arch (*) | R version | Installed pkgs |
|---|---|---|---|---|
| palomino5 | Windows Server 2022 Datacenter | x64 | R Under development (unstable) (2022-12-25 r83502 ucrt) -- "Unsuffered Consequences" | 4165 |
| Click on any hostname to see more info about the system (e.g. compilers) (*) as reported by 'uname -p', except on Windows and Mac OS X | ||||
|
To the developers/maintainers of the trackViewer package: Make sure to use the following settings in order to reproduce any error or warning you see on this page. |
| Package 2050/2158 | Hostname | OS / Arch | INSTALL | BUILD | CHECK | BUILD BIN | ||||||||
| trackViewer 1.35.2 (landing page) Jianhong Ou
| palomino5 | Windows Server 2022 Datacenter / x64 | OK | OK | OK | OK | ||||||||
| Package: trackViewer |
| Version: 1.35.2 |
| Command: F:\biocbuild\bbs-3.17-bioc\R\bin\R.exe CMD check --no-multiarch --install=check:trackViewer.install-out.txt --library=F:\biocbuild\bbs-3.17-bioc\R\library --no-vignettes --timings trackViewer_1.35.2.tar.gz |
| StartedAt: 2022-12-29 04:15:22 -0500 (Thu, 29 Dec 2022) |
| EndedAt: 2022-12-29 04:22:04 -0500 (Thu, 29 Dec 2022) |
| EllapsedTime: 401.8 seconds |
| RetCode: 0 |
| Status: OK |
| CheckDir: trackViewer.Rcheck |
| Warnings: 0 |
##############################################################################
##############################################################################
###
### Running command:
###
### F:\biocbuild\bbs-3.17-bioc\R\bin\R.exe CMD check --no-multiarch --install=check:trackViewer.install-out.txt --library=F:\biocbuild\bbs-3.17-bioc\R\library --no-vignettes --timings trackViewer_1.35.2.tar.gz
###
##############################################################################
##############################################################################
* using log directory 'F:/biocbuild/bbs-3.17-bioc-rtools43/meat/trackViewer.Rcheck'
* using R Under development (unstable) (2022-12-25 r83502 ucrt)
* using platform: x86_64-w64-mingw32 (64-bit)
* R was compiled by
gcc.exe (GCC) 10.4.0
GNU Fortran (GCC) 10.4.0
* running under: Windows Server x64 (build 20348)
* using session charset: UTF-8
* using option '--no-vignettes'
* checking for file 'trackViewer/DESCRIPTION' ... OK
* checking extension type ... Package
* this is package 'trackViewer' version '1.35.2'
* package encoding: UTF-8
* checking package namespace information ... OK
* checking package dependencies ... OK
* checking if this is a source package ... OK
* checking if there is a namespace ... OK
* checking for hidden files and directories ... OK
* checking for portable file names ... OK
* checking whether package 'trackViewer' can be installed ... OK
* used C++ compiler: 'G__~1.EXE (GCC) 12.2.0'
* checking installed package size ... NOTE
installed size is 5.5Mb
sub-directories of 1Mb or more:
extdata 3.0Mb
libs 1.1Mb
* checking package directory ... OK
* checking 'build' directory ... OK
* checking DESCRIPTION meta-information ... OK
* checking top-level files ... OK
* checking for left-over files ... OK
* checking index information ... OK
* checking package subdirectories ... OK
* checking R files for non-ASCII characters ... OK
* checking R files for syntax errors ... OK
* checking whether the package can be loaded ... OK
* checking whether the package can be loaded with stated dependencies ... OK
* checking whether the package can be unloaded cleanly ... OK
* checking whether the namespace can be loaded with stated dependencies ... OK
* checking whether the namespace can be unloaded cleanly ... OK
* checking dependencies in R code ... OK
* checking S3 generic/method consistency ... OK
* checking replacement functions ... OK
* checking foreign function calls ... OK
* checking R code for possible problems ... OK
* checking Rd files ... OK
* checking Rd metadata ... OK
* checking Rd cross-references ... OK
* checking for missing documentation entries ... OK
* checking for code/documentation mismatches ... OK
* checking Rd \usage sections ... OK
* checking Rd contents ... OK
* checking for unstated dependencies in examples ... OK
* checking line endings in C/C++/Fortran sources/headers ... OK
* checking line endings in Makefiles ... OK
* checking compilation flags in Makevars ... OK
* checking for GNU extensions in Makefiles ... OK
* checking for portable use of $(BLAS_LIBS) and $(LAPACK_LIBS) ... OK
* checking use of PKG_*FLAGS in Makefiles ... OK
* checking compiled code ... NOTE
Note: information on .o files for x64 is not available
File 'F:/biocbuild/bbs-3.17-bioc/R/library/trackViewer/libs/x64/trackViewer.dll':
Found 'abort', possibly from 'abort' (C), 'runtime' (Fortran)
Found 'exit', possibly from 'exit' (C), 'stop' (Fortran)
Compiled code should not call entry points which might terminate R nor
write to stdout/stderr instead of to the console, nor use Fortran I/O
nor system RNGs nor [v]sprintf. The detected symbols are linked into
the code but might come from libraries and not actually be called.
See 'Writing portable packages' in the 'Writing R Extensions' manual.
* checking files in 'vignettes' ... OK
* checking examples ... OK
Examples with CPU (user + system) or elapsed time > 5s
user system elapsed
trackViewer-package 17.03 0.11 17.14
browseTracks 12.73 0.08 12.81
viewTracks 12.34 0.04 12.38
parseWIG 12.13 0.08 12.20
* checking for unstated dependencies in 'tests' ... OK
* checking tests ...
Running 'runTests.R'
OK
* checking for unstated dependencies in vignettes ... OK
* checking package vignettes in 'inst/doc' ... OK
* checking running R code from vignettes ... SKIPPED
* checking re-building of vignette outputs ... SKIPPED
* checking PDF version of manual ... OK
* DONE
Status: 2 NOTEs
See
'F:/biocbuild/bbs-3.17-bioc-rtools43/meat/trackViewer.Rcheck/00check.log'
for details.
trackViewer.Rcheck/00install.out
##############################################################################
##############################################################################
###
### Running command:
###
### F:\biocbuild\bbs-3.17-bioc\R\bin\R.exe CMD INSTALL trackViewer
###
##############################################################################
##############################################################################
* installing to library 'F:/biocbuild/bbs-3.17-bioc/R/library'
* installing *source* package 'trackViewer' ...
** using staged installation
** libs
using C++ compiler: 'G__~1.EXE (GCC) 12.2.0'
g++ -std=gnu++11 -I"F:/biocbuild/bbs-3.17-bioc/R/include" -DNDEBUG -I'F:/biocbuild/bbs-3.17-bioc/R/library/Rcpp/include' -I"c:/rtools42/x86_64-w64-mingw32.static.posix/include" -O2 -Wall -mfpmath=sse -msse2 -mstackrealign -c RcppExports.cpp -o RcppExports.o
g++ -std=gnu++11 -I"F:/biocbuild/bbs-3.17-bioc/R/include" -DNDEBUG -I'F:/biocbuild/bbs-3.17-bioc/R/library/Rcpp/include' -I"c:/rtools42/x86_64-w64-mingw32.static.posix/include" -O2 -Wall -mfpmath=sse -msse2 -mstackrealign -c hic.cpp -o hic.o
hic.cpp: In member function 'void HicFileHead::readHeader(std::ifstream&)':
hic.cpp:247:16: warning: unused variable 'nviPosition' [-Wunused-variable]
247 | long nviPosition = readLong(ifile);
| ^~~~~~~~~~~
hic.cpp:248:16: warning: unused variable 'nviLength' [-Wunused-variable]
248 | long nviLength = readLong(ifile);
| ^~~~~~~~~
In member function 'int body::getResolution(int)',
inlined from 'std::vector<cellData> getByCoor(std::string, int, int, std::string, int, int, int, std::string, std::string, HicFileHead&, HicFileFoot&, std::ifstream&)' at hic.cpp:799:33:
hic.cpp:751:19: warning: 'bd.body::data.resolutions::nResolutions' may be used uninitialized [-Wmaybe-uninitialized]
751 | for(int i=0; i<data.nResolutions; i++){
| ~^~~~~~~~~~~~~~~~~~
hic.cpp: In function 'std::vector<cellData> getByCoor(std::string, int, int, std::string, int, int, int, std::string, std::string, HicFileHead&, HicFileFoot&, std::ifstream&)':
hic.cpp:797:10: note: 'bd.body::data.resolutions::nResolutions' was declared here
797 | body bd;
| ^~
hic.cpp:803:39: warning: 'bd.body::data.resolutions::res' may be used uninitialized [-Wmaybe-uninitialized]
803 | resolution res = bd.data.res[resId];
| ^
hic.cpp:797:10: note: 'bd.body::data.resolutions::res' was declared here
797 | body bd;
| ^~
g++ -std=gnu++11 -shared -s -static-libgcc -o trackViewer.dll tmp.def RcppExports.o hic.o -lz -Lc:/rtools42/x86_64-w64-mingw32.static.posix/lib/x64 -Lc:/rtools42/x86_64-w64-mingw32.static.posix/lib -LF:/biocbuild/bbs-3.17-bioc/R/bin/x64 -lR
installing to F:/biocbuild/bbs-3.17-bioc/R/library/00LOCK-trackViewer/00new/trackViewer/libs/x64
** R
** inst
** byte-compile and prepare package for lazy loading
** help
*** installing help indices
** building package indices
** installing vignettes
** testing if installed package can be loaded from temporary location
** testing if installed package can be loaded from final location
** testing if installed package keeps a record of temporary installation path
* DONE (trackViewer)
trackViewer.Rcheck/tests/runTests.Rout
R Under development (unstable) (2022-12-25 r83502 ucrt) -- "Unsuffered Consequences"
Copyright (C) 2022 The R Foundation for Statistical Computing
Platform: x86_64-w64-mingw32/x64 (64-bit)
R is free software and comes with ABSOLUTELY NO WARRANTY.
You are welcome to redistribute it under certain conditions.
Type 'license()' or 'licence()' for distribution details.
R is a collaborative project with many contributors.
Type 'contributors()' for more information and
'citation()' on how to cite R or R packages in publications.
Type 'demo()' for some demos, 'help()' for on-line help, or
'help.start()' for an HTML browser interface to help.
Type 'q()' to quit R.
> require("trackViewer") || stop("unable to load Package:trackViewer")
Loading required package: trackViewer
Loading required package: GenomicRanges
Loading required package: stats4
Loading required package: BiocGenerics
Attaching package: 'BiocGenerics'
The following objects are masked from 'package:stats':
IQR, mad, sd, var, xtabs
The following objects are masked from 'package:base':
Filter, Find, Map, Position, Reduce, anyDuplicated, aperm, append,
as.data.frame, basename, cbind, colnames, dirname, do.call,
duplicated, eval, evalq, get, grep, grepl, intersect, is.unsorted,
lapply, mapply, match, mget, order, paste, pmax, pmax.int, pmin,
pmin.int, rank, rbind, rownames, sapply, setdiff, sort, table,
tapply, union, unique, unsplit, which.max, which.min
Loading required package: S4Vectors
Attaching package: 'S4Vectors'
The following objects are masked from 'package:base':
I, expand.grid, unname
Loading required package: IRanges
Attaching package: 'IRanges'
The following object is masked from 'package:grDevices':
windows
Loading required package: GenomeInfoDb
Loading required package: grid
Loading required package: Rcpp
[1] TRUE
> require("RUnit") || stop("unable to load Package:RUnit")
Loading required package: RUnit
[1] TRUE
> BiocGenerics:::testPackage("trackViewer")
RUNIT TEST PROTOCOL -- Thu Dec 29 04:21:53 2022
***********************************************
Number of test functions: 3
Number of errors: 0
Number of failures: 0
1 Test Suite :
trackViewer RUnit Tests - 3 test functions, 0 errors, 0 failures
Number of test functions: 3
Number of errors: 0
Number of failures: 0
>
> proc.time()
user system elapsed
13.78 0.76 14.50
trackViewer.Rcheck/trackViewer-Ex.timings
| name | user | system | elapsed | |
| GRoperator | 2.00 | 0.19 | 2.19 | |
| addArrowMark | 0 | 0 | 0 | |
| addGuideLine | 0 | 0 | 0 | |
| browseTracks | 12.73 | 0.08 | 12.81 | |
| coverageGR | 0.18 | 0.00 | 0.17 | |
| dandelion.plot | 1.81 | 0.02 | 1.83 | |
| geneModelFromTxdb | 4.25 | 0.23 | 4.48 | |
| geneTrack | 1.58 | 0.06 | 1.64 | |
| getCurTrackViewport | 0 | 0 | 0 | |
| getGeneIDsFromTxDb | 0.66 | 0.05 | 0.70 | |
| getLocation | 1.17 | 0.12 | 1.30 | |
| gi2track | 0.05 | 0.00 | 0.05 | |
| gieStain | 0 | 0 | 0 | |
| ideogramPlot | 0 | 0 | 0 | |
| importBam | 0.37 | 0.02 | 0.40 | |
| importData | 2.24 | 0.00 | 2.25 | |
| importGInteractions | 0.36 | 0.00 | 0.38 | |
| importScSeqScore | 0 | 0 | 0 | |
| importScore | 0.43 | 0.00 | 0.44 | |
| listChromosomes | 0.50 | 0.03 | 0.53 | |
| listResolutions | 0.00 | 0.01 | 0.02 | |
| loadIdeogram | 0 | 0 | 0 | |
| lolliplot | 0.83 | 0.03 | 0.86 | |
| optimizeStyle | 0.66 | 0.00 | 0.65 | |
| parse2GRanges | 0.01 | 0.00 | 0.02 | |
| parseWIG | 12.13 | 0.08 | 12.20 | |
| plotGInteractions | 1.03 | 0.03 | 1.06 | |
| plotGRanges | 1.30 | 0.03 | 1.33 | |
| plotIdeo | 0 | 0 | 0 | |
| plotOneIdeo | 0 | 0 | 0 | |
| trackStyle-class | 0.03 | 0.02 | 0.05 | |
| trackViewer-package | 17.03 | 0.11 | 17.14 | |
| trackViewerStyle-class | 0 | 0 | 0 | |
| viewGene | 4.05 | 0.12 | 4.17 | |
| viewTracks | 12.34 | 0.04 | 12.38 | |