| Back to Build/check report for BioC 3.17 |
|
This page was generated on 2023-01-02 09:00:54 -0500 (Mon, 02 Jan 2023).
| Hostname | OS | Arch (*) | R version | Installed pkgs |
|---|---|---|---|---|
| palomino5 | Windows Server 2022 Datacenter | x64 | R Under development (unstable) (2022-12-25 r83502 ucrt) -- "Unsuffered Consequences" | 4165 |
| Click on any hostname to see more info about the system (e.g. compilers) (*) as reported by 'uname -p', except on Windows and Mac OS X | ||||
|
To the developers/maintainers of the tomoda package: Make sure to use the following settings in order to reproduce any error or warning you see on this page. |
| Package 2041/2158 | Hostname | OS / Arch | INSTALL | BUILD | CHECK | BUILD BIN | ||||||||
| tomoda 1.9.0 (landing page) Wendao Liu
| palomino5 | Windows Server 2022 Datacenter / x64 | OK | OK | OK | OK | ||||||||
| Package: tomoda |
| Version: 1.9.0 |
| Command: F:\biocbuild\bbs-3.17-bioc\R\bin\R.exe CMD check --no-multiarch --install=check:tomoda.install-out.txt --library=F:\biocbuild\bbs-3.17-bioc\R\library --no-vignettes --timings tomoda_1.9.0.tar.gz |
| StartedAt: 2022-12-29 04:14:01 -0500 (Thu, 29 Dec 2022) |
| EndedAt: 2022-12-29 04:18:41 -0500 (Thu, 29 Dec 2022) |
| EllapsedTime: 279.6 seconds |
| RetCode: 0 |
| Status: OK |
| CheckDir: tomoda.Rcheck |
| Warnings: 0 |
##############################################################################
##############################################################################
###
### Running command:
###
### F:\biocbuild\bbs-3.17-bioc\R\bin\R.exe CMD check --no-multiarch --install=check:tomoda.install-out.txt --library=F:\biocbuild\bbs-3.17-bioc\R\library --no-vignettes --timings tomoda_1.9.0.tar.gz
###
##############################################################################
##############################################################################
* using log directory 'F:/biocbuild/bbs-3.17-bioc-rtools43/meat/tomoda.Rcheck'
* using R Under development (unstable) (2022-12-25 r83502 ucrt)
* using platform: x86_64-w64-mingw32 (64-bit)
* R was compiled by
gcc.exe (GCC) 10.4.0
GNU Fortran (GCC) 10.4.0
* running under: Windows Server x64 (build 20348)
* using session charset: UTF-8
* using option '--no-vignettes'
* checking for file 'tomoda/DESCRIPTION' ... OK
* this is package 'tomoda' version '1.9.0'
* package encoding: UTF-8
* checking package namespace information ... OK
* checking package dependencies ... OK
* checking if this is a source package ... OK
* checking if there is a namespace ... OK
* checking for hidden files and directories ... OK
* checking for portable file names ... OK
* checking whether package 'tomoda' can be installed ... OK
* checking installed package size ... OK
* checking package directory ... OK
* checking 'build' directory ... OK
* checking DESCRIPTION meta-information ... OK
* checking top-level files ... OK
* checking for left-over files ... OK
* checking index information ... OK
* checking package subdirectories ... OK
* checking R files for non-ASCII characters ... OK
* checking R files for syntax errors ... OK
* checking whether the package can be loaded ... OK
* checking whether the package can be loaded with stated dependencies ... OK
* checking whether the package can be unloaded cleanly ... OK
* checking whether the namespace can be loaded with stated dependencies ... OK
* checking whether the namespace can be unloaded cleanly ... OK
* checking dependencies in R code ... OK
* checking S3 generic/method consistency ... OK
* checking replacement functions ... OK
* checking foreign function calls ... OK
* checking R code for possible problems ... OK
* checking Rd files ... OK
* checking Rd metadata ... OK
* checking Rd cross-references ... OK
* checking for missing documentation entries ... OK
* checking for code/documentation mismatches ... OK
* checking Rd \usage sections ... OK
* checking Rd contents ... OK
* checking for unstated dependencies in examples ... OK
* checking contents of 'data' directory ... OK
* checking data for non-ASCII characters ... OK
* checking data for ASCII and uncompressed saves ... OK
* checking files in 'vignettes' ... OK
* checking examples ... OK
Examples with CPU (user + system) or elapsed time > 5s
user system elapsed
findPeakGene 46.94 0.50 47.43
geneCorHeatmap 28.61 0.58 29.22
geneEmbedPlot 22.76 0.22 22.99
expHeatmap 19.24 0.32 19.57
* checking for unstated dependencies in 'tests' ... OK
* checking tests ...
Running 'testthat.R'
OK
* checking for unstated dependencies in vignettes ... OK
* checking package vignettes in 'inst/doc' ... OK
* checking running R code from vignettes ... SKIPPED
* checking re-building of vignette outputs ... SKIPPED
* checking PDF version of manual ... OK
* DONE
Status: OK
tomoda.Rcheck/00install.out
############################################################################## ############################################################################## ### ### Running command: ### ### F:\biocbuild\bbs-3.17-bioc\R\bin\R.exe CMD INSTALL tomoda ### ############################################################################## ############################################################################## * installing to library 'F:/biocbuild/bbs-3.17-bioc/R/library' * installing *source* package 'tomoda' ... ** using staged installation ** R ** data ** byte-compile and prepare package for lazy loading ** help *** installing help indices ** building package indices ** installing vignettes ** testing if installed package can be loaded from temporary location ** testing if installed package can be loaded from final location ** testing if installed package keeps a record of temporary installation path * DONE (tomoda)
tomoda.Rcheck/tests/testthat.Rout
R Under development (unstable) (2022-12-25 r83502 ucrt) -- "Unsuffered Consequences"
Copyright (C) 2022 The R Foundation for Statistical Computing
Platform: x86_64-w64-mingw32/x64 (64-bit)
R is free software and comes with ABSOLUTELY NO WARRANTY.
You are welcome to redistribute it under certain conditions.
Type 'license()' or 'licence()' for distribution details.
R is a collaborative project with many contributors.
Type 'contributors()' for more information and
'citation()' on how to cite R or R packages in publications.
Type 'demo()' for some demos, 'help()' for on-line help, or
'help.start()' for an HTML browser interface to help.
Type 'q()' to quit R.
> library(testthat)
> library(tomoda)
>
> test_check("tomoda")
[ FAIL 0 | WARN 1 | SKIP 0 | PASS 43 ]
[ FAIL 0 | WARN 1 | SKIP 0 | PASS 43 ]
>
> proc.time()
user system elapsed
26.82 1.01 27.78
tomoda.Rcheck/tomoda-Ex.timings
| name | user | system | elapsed | |
| corHeatmap | 1.51 | 0.01 | 1.53 | |
| createTomo | 1.25 | 0.02 | 1.27 | |
| embedPlot | 2.68 | 0.02 | 2.72 | |
| expHeatmap | 19.24 | 0.32 | 19.57 | |
| findPeak | 0 | 0 | 0 | |
| findPeakGene | 46.94 | 0.50 | 47.43 | |
| geneCorHeatmap | 28.61 | 0.58 | 29.22 | |
| geneEmbedPlot | 22.76 | 0.22 | 22.99 | |
| hierarchClust | 0.97 | 0.03 | 1.00 | |
| kmeansClust | 0.78 | 0.02 | 0.79 | |
| linePlot | 1.30 | 0.11 | 1.41 | |
| normalizeTomo | 0.12 | 0.00 | 0.12 | |
| runPCA | 0.83 | 0.01 | 0.85 | |
| runTSNE | 0.89 | 0.05 | 0.94 | |
| runUMAP | 1.19 | 0.05 | 1.23 | |
| scaleTomo | 0.44 | 0.00 | 0.43 | |
| tomoMatrix | 0.46 | 0.03 | 0.49 | |
| tomoSummarizedExperiment | 0.46 | 0.00 | 0.47 | |