| Back to Build/check report for BioC 3.17 |
|
This page was generated on 2023-01-02 09:00:53 -0500 (Mon, 02 Jan 2023).
| Hostname | OS | Arch (*) | R version | Installed pkgs |
|---|---|---|---|---|
| palomino5 | Windows Server 2022 Datacenter | x64 | R Under development (unstable) (2022-12-25 r83502 ucrt) -- "Unsuffered Consequences" | 4165 |
| Click on any hostname to see more info about the system (e.g. compilers) (*) as reported by 'uname -p', except on Windows and Mac OS X | ||||
|
To the developers/maintainers of the supraHex package: Make sure to use the following settings in order to reproduce any error or warning you see on this page. |
| Package 1976/2158 | Hostname | OS / Arch | INSTALL | BUILD | CHECK | BUILD BIN | ||||||||
| supraHex 1.37.0 (landing page) Hai Fang
| palomino5 | Windows Server 2022 Datacenter / x64 | OK | OK | OK | OK | ||||||||
| Package: supraHex |
| Version: 1.37.0 |
| Command: F:\biocbuild\bbs-3.17-bioc\R\bin\R.exe CMD check --no-multiarch --install=check:supraHex.install-out.txt --library=F:\biocbuild\bbs-3.17-bioc\R\library --no-vignettes --timings supraHex_1.37.0.tar.gz |
| StartedAt: 2022-12-29 04:02:52 -0500 (Thu, 29 Dec 2022) |
| EndedAt: 2022-12-29 04:04:06 -0500 (Thu, 29 Dec 2022) |
| EllapsedTime: 73.9 seconds |
| RetCode: 0 |
| Status: OK |
| CheckDir: supraHex.Rcheck |
| Warnings: 0 |
##############################################################################
##############################################################################
###
### Running command:
###
### F:\biocbuild\bbs-3.17-bioc\R\bin\R.exe CMD check --no-multiarch --install=check:supraHex.install-out.txt --library=F:\biocbuild\bbs-3.17-bioc\R\library --no-vignettes --timings supraHex_1.37.0.tar.gz
###
##############################################################################
##############################################################################
* using log directory 'F:/biocbuild/bbs-3.17-bioc-rtools43/meat/supraHex.Rcheck'
* using R Under development (unstable) (2022-12-25 r83502 ucrt)
* using platform: x86_64-w64-mingw32 (64-bit)
* R was compiled by
gcc.exe (GCC) 10.4.0
GNU Fortran (GCC) 10.4.0
* running under: Windows Server x64 (build 20348)
* using session charset: UTF-8
* using option '--no-vignettes'
* checking for file 'supraHex/DESCRIPTION' ... OK
* checking extension type ... Package
* this is package 'supraHex' version '1.37.0'
* checking package namespace information ... OK
* checking package dependencies ... OK
* checking if this is a source package ... OK
* checking if there is a namespace ... OK
* checking for hidden files and directories ... OK
* checking for portable file names ... OK
* checking whether package 'supraHex' can be installed ... OK
* checking installed package size ... OK
* checking package directory ... OK
* checking 'build' directory ... OK
* checking DESCRIPTION meta-information ... OK
* checking top-level files ... OK
* checking for left-over files ... OK
* checking index information ... OK
* checking package subdirectories ... OK
* checking R files for non-ASCII characters ... OK
* checking R files for syntax errors ... OK
* checking whether the package can be loaded ... OK
* checking whether the package can be loaded with stated dependencies ... OK
* checking whether the package can be unloaded cleanly ... OK
* checking whether the namespace can be loaded with stated dependencies ... OK
* checking whether the namespace can be unloaded cleanly ... OK
* checking dependencies in R code ... OK
* checking S3 generic/method consistency ... OK
* checking replacement functions ... OK
* checking foreign function calls ... OK
* checking R code for possible problems ... OK
* checking Rd files ... OK
* checking Rd metadata ... OK
* checking Rd cross-references ... OK
* checking for missing documentation entries ... OK
* checking for code/documentation mismatches ... OK
* checking Rd \usage sections ... OK
* checking Rd contents ... OK
* checking for unstated dependencies in examples ... OK
* checking contents of 'data' directory ... OK
* checking data for non-ASCII characters ... OK
* checking data for ASCII and uncompressed saves ... OK
* checking sizes of PDF files under 'inst/doc' ... OK
* checking files in 'vignettes' ... OK
* checking examples ... OK
* checking for unstated dependencies in vignettes ... OK
* checking package vignettes in 'inst/doc' ... OK
* checking running R code from vignettes ... SKIPPED
* checking re-building of vignette outputs ... SKIPPED
* checking PDF version of manual ... OK
* DONE
Status: OK
supraHex.Rcheck/00install.out
############################################################################## ############################################################################## ### ### Running command: ### ### F:\biocbuild\bbs-3.17-bioc\R\bin\R.exe CMD INSTALL supraHex ### ############################################################################## ############################################################################## * installing to library 'F:/biocbuild/bbs-3.17-bioc/R/library' * installing *source* package 'supraHex' ... ** using staged installation ** R ** data ** inst ** byte-compile and prepare package for lazy loading ** help *** installing help indices ** building package indices ** installing vignettes ** testing if installed package can be loaded from temporary location ** testing if installed package can be loaded from final location ** testing if installed package keeps a record of temporary installation path * DONE (supraHex)
supraHex.Rcheck/supraHex-Ex.timings
| name | user | system | elapsed | |
| sBMH | 0.08 | 0.00 | 0.07 | |
| sCompReorder | 2.70 | 0.07 | 2.79 | |
| sDistance | 0.33 | 0.00 | 0.32 | |
| sDmat | 0.33 | 0.02 | 0.35 | |
| sDmatCluster | 0.45 | 0.03 | 0.48 | |
| sDmatMinima | 0.37 | 0.03 | 0.41 | |
| sHexDist | 0.02 | 0.00 | 0.01 | |
| sHexGrid | 0 | 0 | 0 | |
| sHexGridVariant | 0 | 0 | 0 | |
| sHexPolygon | 0.09 | 0.00 | 0.10 | |
| sInitial | 0 | 0 | 0 | |
| sMapOverlay | 0.33 | 0.05 | 0.38 | |
| sNeighAny | 0 | 0 | 0 | |
| sNeighDirect | 0.01 | 0.00 | 0.01 | |
| sPipeline | 0 | 0 | 0 | |
| sTopology | 0.05 | 0.00 | 0.05 | |
| sTrainBatch | 0.03 | 0.00 | 0.03 | |
| sTrainSeq | 0.30 | 0.01 | 0.31 | |
| sTrainology | 0 | 0 | 0 | |
| sWriteData | 0.56 | 0.05 | 0.61 | |
| visColoralpha | 0 | 0 | 0 | |
| visColorbar | 0.00 | 0.02 | 0.02 | |
| visColormap | 0 | 0 | 0 | |
| visCompReorder | 2.77 | 0.92 | 3.69 | |
| visDmatCluster | 0 | 0 | 0 | |
| visDmatHeatmap | 0 | 0 | 0 | |
| visHeatmap | 0.06 | 0.00 | 0.06 | |
| visHeatmapAdv | 0.3 | 0.0 | 0.3 | |
| visHexAnimate | 0 | 0 | 0 | |
| visHexBarplot | 1.14 | 0.01 | 1.15 | |
| visHexComp | 0.33 | 0.00 | 0.33 | |
| visHexGrid | 0.33 | 0.00 | 0.33 | |
| visHexMapping | 1.48 | 0.10 | 1.58 | |
| visHexMulComp | 1.10 | 0.08 | 1.17 | |
| visHexPattern | 1.98 | 0.24 | 2.21 | |
| visKernels | 0.03 | 0.01 | 0.05 | |
| visTreeBSclust | 0 | 0 | 0 | |
| visTreeBootstrap | 0 | 0 | 0 | |
| visVp | 0.03 | 0.02 | 0.05 | |