| Back to Build/check report for BioC 3.17 |
|
This page was generated on 2023-01-02 09:00:45 -0500 (Mon, 02 Jan 2023).
| Hostname | OS | Arch (*) | R version | Installed pkgs |
|---|---|---|---|---|
| palomino5 | Windows Server 2022 Datacenter | x64 | R Under development (unstable) (2022-12-25 r83502 ucrt) -- "Unsuffered Consequences" | 4165 |
| Click on any hostname to see more info about the system (e.g. compilers) (*) as reported by 'uname -p', except on Windows and Mac OS X | ||||
|
To the developers/maintainers of the qpcrNorm package: Make sure to use the following settings in order to reproduce any error or warning you see on this page. |
| Package 1548/2158 | Hostname | OS / Arch | INSTALL | BUILD | CHECK | BUILD BIN | ||||||||
| qpcrNorm 1.57.0 (landing page) Jessica Mar
| palomino5 | Windows Server 2022 Datacenter / x64 | OK | OK | OK | OK | ||||||||
| Package: qpcrNorm |
| Version: 1.57.0 |
| Command: F:\biocbuild\bbs-3.17-bioc\R\bin\R.exe CMD check --no-multiarch --install=check:qpcrNorm.install-out.txt --library=F:\biocbuild\bbs-3.17-bioc\R\library --no-vignettes --timings qpcrNorm_1.57.0.tar.gz |
| StartedAt: 2022-12-29 02:32:32 -0500 (Thu, 29 Dec 2022) |
| EndedAt: 2022-12-29 02:33:10 -0500 (Thu, 29 Dec 2022) |
| EllapsedTime: 38.0 seconds |
| RetCode: 0 |
| Status: OK |
| CheckDir: qpcrNorm.Rcheck |
| Warnings: 0 |
##############################################################################
##############################################################################
###
### Running command:
###
### F:\biocbuild\bbs-3.17-bioc\R\bin\R.exe CMD check --no-multiarch --install=check:qpcrNorm.install-out.txt --library=F:\biocbuild\bbs-3.17-bioc\R\library --no-vignettes --timings qpcrNorm_1.57.0.tar.gz
###
##############################################################################
##############################################################################
* using log directory 'F:/biocbuild/bbs-3.17-bioc-rtools43/meat/qpcrNorm.Rcheck'
* using R Under development (unstable) (2022-12-25 r83502 ucrt)
* using platform: x86_64-w64-mingw32 (64-bit)
* R was compiled by
gcc.exe (GCC) 10.4.0
GNU Fortran (GCC) 10.4.0
* running under: Windows Server x64 (build 20348)
* using session charset: UTF-8
* using option '--no-vignettes'
* checking for file 'qpcrNorm/DESCRIPTION' ... OK
* checking extension type ... Package
* this is package 'qpcrNorm' version '1.57.0'
* checking package namespace information ... OK
* checking package dependencies ... OK
* checking if this is a source package ... OK
* checking if there is a namespace ... OK
* checking for hidden files and directories ... OK
* checking for portable file names ... OK
* checking whether package 'qpcrNorm' can be installed ... OK
* checking installed package size ... OK
* checking package directory ... OK
* checking 'build' directory ... OK
* checking DESCRIPTION meta-information ... NOTE
Malformed Title field: should not end in a period.
* checking top-level files ... OK
* checking for left-over files ... OK
* checking index information ... OK
* checking package subdirectories ... OK
* checking R files for non-ASCII characters ... OK
* checking R files for syntax errors ... OK
* checking whether the package can be loaded ... OK
* checking whether the package can be loaded with stated dependencies ... OK
* checking whether the package can be unloaded cleanly ... OK
* checking whether the namespace can be loaded with stated dependencies ... OK
* checking whether the namespace can be unloaded cleanly ... OK
* checking dependencies in R code ... NOTE
'library' or 'require' calls to packages already attached by Depends:
'affy' 'limma'
Please remove these calls from your code.
Package in Depends field not imported from: 'Biobase'
These packages need to be imported from (in the NAMESPACE file)
for when this namespace is loaded but not attached.
* checking S3 generic/method consistency ... OK
* checking replacement functions ... OK
* checking foreign function calls ... OK
* checking R code for possible problems ... NOTE
calcCV : <anonymous>: no visible global function definition for 'sd'
normQpcrRankInvariant: no visible global function definition for
'median'
normQpcrRankInvariant: no visible binding for global variable 'median'
plotVarMean: no visible binding for global variable 'var'
plotVarMean: no visible global function definition for 'abline'
plotVarMean: no visible global function definition for 'lines'
plotVarMean: no visible global function definition for 'lowess'
readQpcr: no visible global function definition for 'read.table'
writeQpcr: no visible global function definition for 'write.table'
Undefined global functions or variables:
abline lines lowess median read.table sd var write.table
Consider adding
importFrom("graphics", "abline", "lines")
importFrom("stats", "lowess", "median", "sd", "var")
importFrom("utils", "read.table", "write.table")
to your NAMESPACE file.
* checking Rd files ... OK
* checking Rd metadata ... OK
* checking Rd cross-references ... OK
* checking for missing documentation entries ... OK
* checking for code/documentation mismatches ... OK
* checking Rd \usage sections ... OK
* checking Rd contents ... OK
* checking for unstated dependencies in examples ... OK
* checking contents of 'data' directory ... OK
* checking data for non-ASCII characters ... OK
* checking data for ASCII and uncompressed saves ... OK
* checking sizes of PDF files under 'inst/doc' ... OK
* checking files in 'vignettes' ... OK
* checking examples ... OK
* checking for unstated dependencies in vignettes ... OK
* checking package vignettes in 'inst/doc' ... OK
* checking running R code from vignettes ... SKIPPED
* checking re-building of vignette outputs ... SKIPPED
* checking PDF version of manual ... OK
* DONE
Status: 3 NOTEs
See
'F:/biocbuild/bbs-3.17-bioc-rtools43/meat/qpcrNorm.Rcheck/00check.log'
for details.
qpcrNorm.Rcheck/00install.out
############################################################################## ############################################################################## ### ### Running command: ### ### F:\biocbuild\bbs-3.17-bioc\R\bin\R.exe CMD INSTALL qpcrNorm ### ############################################################################## ############################################################################## * installing to library 'F:/biocbuild/bbs-3.17-bioc/R/library' * installing *source* package 'qpcrNorm' ... ** using staged installation ** R ** data ** byte-compile and prepare package for lazy loading ** help *** installing help indices ** building package indices ** installing vignettes ** testing if installed package can be loaded from temporary location ** testing if installed package can be loaded from final location ** testing if installed package keeps a record of temporary installation path * DONE (qpcrNorm)
qpcrNorm.Rcheck/qpcrNorm-Ex.timings
| name | user | system | elapsed | |
| calcCV | 0.50 | 0.19 | 0.69 | |
| ctQc | 0 | 0 | 0 | |
| matrixByPlate | 0.06 | 0.02 | 0.08 | |
| normQpcrHouseKeepingGenes | 0.00 | 0.01 | 0.01 | |
| normQpcrQuantile | 0.07 | 0.02 | 0.08 | |
| normQpcrRankInvariant | 0.23 | 0.12 | 0.36 | |
| plotVarMean | 0 | 0 | 0 | |
| qpcrBatch-class | 0.00 | 0.02 | 0.01 | |
| qpcrBatch.object | 0 | 0 | 0 | |
| readQpcr | 0 | 0 | 0 | |
| readQpcrBatch | 0 | 0 | 0 | |
| writeQpcr | 0 | 0 | 0 | |