| Back to Build/check report for BioC 3.17 |
|
This page was generated on 2023-01-02 09:00:41 -0500 (Mon, 02 Jan 2023).
| Hostname | OS | Arch (*) | R version | Installed pkgs |
|---|---|---|---|---|
| palomino5 | Windows Server 2022 Datacenter | x64 | R Under development (unstable) (2022-12-25 r83502 ucrt) -- "Unsuffered Consequences" | 4165 |
| Click on any hostname to see more info about the system (e.g. compilers) (*) as reported by 'uname -p', except on Windows and Mac OS X | ||||
|
To the developers/maintainers of the octad package: Make sure to use the following settings in order to reproduce any error or warning you see on this page. |
| Package 1359/2158 | Hostname | OS / Arch | INSTALL | BUILD | CHECK | BUILD BIN | ||||||||
| octad 1.1.0 (landing page) E. Chekalin
| palomino5 | Windows Server 2022 Datacenter / x64 | OK | OK | OK | OK | ||||||||
| Package: octad |
| Version: 1.1.0 |
| Command: F:\biocbuild\bbs-3.17-bioc\R\bin\R.exe CMD check --no-multiarch --install=check:octad.install-out.txt --library=F:\biocbuild\bbs-3.17-bioc\R\library --no-vignettes --timings octad_1.1.0.tar.gz |
| StartedAt: 2022-12-29 01:55:03 -0500 (Thu, 29 Dec 2022) |
| EndedAt: 2022-12-29 02:02:51 -0500 (Thu, 29 Dec 2022) |
| EllapsedTime: 468.3 seconds |
| RetCode: 0 |
| Status: OK |
| CheckDir: octad.Rcheck |
| Warnings: 0 |
##############################################################################
##############################################################################
###
### Running command:
###
### F:\biocbuild\bbs-3.17-bioc\R\bin\R.exe CMD check --no-multiarch --install=check:octad.install-out.txt --library=F:\biocbuild\bbs-3.17-bioc\R\library --no-vignettes --timings octad_1.1.0.tar.gz
###
##############################################################################
##############################################################################
* using log directory 'F:/biocbuild/bbs-3.17-bioc-rtools43/meat/octad.Rcheck'
* using R Under development (unstable) (2022-12-25 r83502 ucrt)
* using platform: x86_64-w64-mingw32 (64-bit)
* R was compiled by
gcc.exe (GCC) 10.4.0
GNU Fortran (GCC) 10.4.0
* running under: Windows Server x64 (build 20348)
* using session charset: UTF-8
* using option '--no-vignettes'
* checking for file 'octad/DESCRIPTION' ... OK
* this is package 'octad' version '1.1.0'
* package encoding: UTF-8
* checking package namespace information ... OK
* checking package dependencies ... NOTE
Depends: includes the non-default packages:
'magrittr', 'dplyr', 'ggplot2', 'edgeR', 'RUVSeq', 'DESeq2', 'limma',
'rhdf5', 'foreach', 'Rfast', 'octad.db', 'httr', 'ExperimentHub',
'AnnotationHub', 'Biobase', 'S4Vectors'
Adding so many packages to the search path is excessive and importing
selectively is preferable.
* checking if this is a source package ... OK
* checking if there is a namespace ... OK
* checking for hidden files and directories ... NOTE
Found the following hidden files and directories:
.BBSoptions
These were most likely included in error. See section 'Package
structure' in the 'Writing R Extensions' manual.
* checking for portable file names ... OK
* checking whether package 'octad' can be installed ... OK
* checking installed package size ... OK
* checking package directory ... OK
* checking 'build' directory ... OK
* checking DESCRIPTION meta-information ... OK
* checking top-level files ... OK
* checking for left-over files ... OK
* checking index information ... OK
* checking package subdirectories ... OK
* checking R files for non-ASCII characters ... OK
* checking R files for syntax errors ... OK
* checking whether the package can be loaded ... OK
* checking whether the package can be loaded with stated dependencies ... OK
* checking whether the package can be unloaded cleanly ... OK
* checking whether the namespace can be loaded with stated dependencies ... OK
* checking whether the namespace can be unloaded cleanly ... OK
* checking dependencies in R code ... NOTE
Package in Depends field not imported from: 'httr'
These packages need to be imported from (in the NAMESPACE file)
for when this namespace is loaded but not attached.
* checking S3 generic/method consistency ... OK
* checking replacement functions ... OK
* checking foreign function calls ... OK
* checking R code for possible problems ... NOTE
diffExp: no visible binding for global variable 'case'
diffExp: no visible binding for global variable 'control'
runsRGES: no visible binding for global variable 'RGES'
topLineEval: no visible binding for global variable 'sRGES'
topLineEval: no visible binding for global variable 'medauc'
Undefined global functions or variables:
RGES case control medauc sRGES
* checking Rd files ... OK
* checking Rd metadata ... OK
* checking Rd cross-references ... OK
* checking for missing documentation entries ... OK
* checking for code/documentation mismatches ... OK
* checking Rd \usage sections ... OK
* checking Rd contents ... OK
* checking for unstated dependencies in examples ... OK
* checking contents of 'data' directory ... OK
* checking data for non-ASCII characters ... OK
* checking data for ASCII and uncompressed saves ... OK
* checking files in 'vignettes' ... OK
* checking examples ... OK
Examples with CPU (user + system) or elapsed time > 5s
user system elapsed
computeCellLine 40.77 3.17 49.20
diffExp 37.90 0.96 39.86
octadDrugEnrichment 34.47 1.34 39.25
topLineEval 33.48 1.55 36.17
* checking for unstated dependencies in vignettes ... OK
* checking package vignettes in 'inst/doc' ... OK
* checking running R code from vignettes ... SKIPPED
* checking re-building of vignette outputs ... SKIPPED
* checking PDF version of manual ... OK
* DONE
Status: 4 NOTEs
See
'F:/biocbuild/bbs-3.17-bioc-rtools43/meat/octad.Rcheck/00check.log'
for details.
octad.Rcheck/00install.out
############################################################################## ############################################################################## ### ### Running command: ### ### F:\biocbuild\bbs-3.17-bioc\R\bin\R.exe CMD INSTALL octad ### ############################################################################## ############################################################################## * installing to library 'F:/biocbuild/bbs-3.17-bioc/R/library' * installing *source* package 'octad' ... ** using staged installation ** R ** data ** inst ** byte-compile and prepare package for lazy loading ** help *** installing help indices ** building package indices ** installing vignettes ** testing if installed package can be loaded from temporary location ** testing if installed package can be loaded from final location ** testing if installed package keeps a record of temporary installation path * DONE (octad)
octad.Rcheck/octad-Ex.timings
| name | user | system | elapsed | |
| computeCellLine | 40.77 | 3.17 | 49.20 | |
| computeRefTissue | 3.75 | 0.50 | 4.96 | |
| diffExp | 37.90 | 0.96 | 39.86 | |
| loadOctadCounts | 2.50 | 0.17 | 2.88 | |
| octadDrugEnrichment | 34.47 | 1.34 | 39.25 | |
| runsRGES | 0.22 | 0.02 | 0.23 | |
| topLineEval | 33.48 | 1.55 | 36.17 | |