| Back to Build/check report for BioC 3.17 |
|
This page was generated on 2023-01-02 09:00:41 -0500 (Mon, 02 Jan 2023).
| Hostname | OS | Arch (*) | R version | Installed pkgs |
|---|---|---|---|---|
| palomino5 | Windows Server 2022 Datacenter | x64 | R Under development (unstable) (2022-12-25 r83502 ucrt) -- "Unsuffered Consequences" | 4165 |
| Click on any hostname to see more info about the system (e.g. compilers) (*) as reported by 'uname -p', except on Windows and Mac OS X | ||||
|
To the developers/maintainers of the occugene package: Make sure to use the following settings in order to reproduce any error or warning you see on this page. |
| Package 1357/2158 | Hostname | OS / Arch | INSTALL | BUILD | CHECK | BUILD BIN | ||||||||
| occugene 1.59.0 (landing page) Oliver Will
| palomino5 | Windows Server 2022 Datacenter / x64 | OK | OK | OK | OK | ||||||||
| Package: occugene |
| Version: 1.59.0 |
| Command: F:\biocbuild\bbs-3.17-bioc\R\bin\R.exe CMD check --no-multiarch --install=check:occugene.install-out.txt --library=F:\biocbuild\bbs-3.17-bioc\R\library --no-vignettes --timings occugene_1.59.0.tar.gz |
| StartedAt: 2022-12-29 01:54:58 -0500 (Thu, 29 Dec 2022) |
| EndedAt: 2022-12-29 01:55:26 -0500 (Thu, 29 Dec 2022) |
| EllapsedTime: 28.0 seconds |
| RetCode: 0 |
| Status: OK |
| CheckDir: occugene.Rcheck |
| Warnings: 0 |
##############################################################################
##############################################################################
###
### Running command:
###
### F:\biocbuild\bbs-3.17-bioc\R\bin\R.exe CMD check --no-multiarch --install=check:occugene.install-out.txt --library=F:\biocbuild\bbs-3.17-bioc\R\library --no-vignettes --timings occugene_1.59.0.tar.gz
###
##############################################################################
##############################################################################
* using log directory 'F:/biocbuild/bbs-3.17-bioc-rtools43/meat/occugene.Rcheck'
* using R Under development (unstable) (2022-12-25 r83502 ucrt)
* using platform: x86_64-w64-mingw32 (64-bit)
* R was compiled by
gcc.exe (GCC) 10.4.0
GNU Fortran (GCC) 10.4.0
* running under: Windows Server x64 (build 20348)
* using session charset: UTF-8
* using option '--no-vignettes'
* checking for file 'occugene/DESCRIPTION' ... OK
* this is package 'occugene' version '1.59.0'
* checking package namespace information ... OK
* checking package dependencies ... OK
* checking if this is a source package ... OK
* checking if there is a namespace ... OK
* checking for hidden files and directories ... OK
* checking for portable file names ... OK
* checking whether package 'occugene' can be installed ... OK
* checking installed package size ... OK
* checking package directory ... OK
* checking 'build' directory ... OK
* checking DESCRIPTION meta-information ... OK
* checking top-level files ... OK
* checking for left-over files ... OK
* checking index information ... OK
* checking package subdirectories ... OK
* checking R files for non-ASCII characters ... OK
* checking R files for syntax errors ... OK
* checking whether the package can be loaded ... OK
* checking whether the package can be loaded with stated dependencies ... OK
* checking whether the package can be unloaded cleanly ... OK
* checking whether the namespace can be loaded with stated dependencies ... OK
* checking whether the namespace can be unloaded cleanly ... OK
* checking dependencies in R code ... OK
* checking S3 generic/method consistency ... OK
* checking replacement functions ... OK
* checking foreign function calls ... OK
* checking R code for possible problems ... NOTE
binInsertHist: no visible global function definition for 'hist'
delta0: no visible global function definition for 'coef'
eMult : unequalApproxEMult: no visible global function definition for
'runif'
eMult : unequalApproxEMult: no visible binding for global variable
'hist'
fFit : expModel: no visible global function definition for 'nls'
loadAnnotation: no visible global function definition for 'read.table'
loadInsertions: no visible global function definition for 'read.table'
unbiasB0 : simB0: no visible global function definition for 'coef'
unbiasB0: no visible global function definition for 'coef'
varMult : unequalApproxVarMult: no visible global function definition
for 'runif'
varMult : unequalApproxVarMult: no visible binding for global variable
'hist'
varMult : unequalApproxVarMult: no visible global function definition
for 'var'
Undefined global functions or variables:
coef hist nls read.table runif var
Consider adding
importFrom("graphics", "hist")
importFrom("stats", "coef", "nls", "runif", "var")
importFrom("utils", "read.table")
to your NAMESPACE file.
* checking Rd files ... OK
* checking Rd metadata ... OK
* checking Rd cross-references ... OK
* checking for missing documentation entries ... OK
* checking for code/documentation mismatches ... OK
* checking Rd \usage sections ... OK
* checking Rd contents ... OK
* checking for unstated dependencies in examples ... OK
* checking contents of 'data' directory ... OK
* checking data for non-ASCII characters ... OK
* checking data for ASCII and uncompressed saves ... OK
* checking sizes of PDF files under 'inst/doc' ... OK
* checking files in 'vignettes' ... OK
* checking examples ... OK
* checking for unstated dependencies in vignettes ... OK
* checking package vignettes in 'inst/doc' ... OK
* checking running R code from vignettes ... SKIPPED
* checking re-building of vignette outputs ... SKIPPED
* checking PDF version of manual ... OK
* DONE
Status: 1 NOTE
See
'F:/biocbuild/bbs-3.17-bioc-rtools43/meat/occugene.Rcheck/00check.log'
for details.
occugene.Rcheck/00install.out
############################################################################## ############################################################################## ### ### Running command: ### ### F:\biocbuild\bbs-3.17-bioc\R\bin\R.exe CMD INSTALL occugene ### ############################################################################## ############################################################################## * installing to library 'F:/biocbuild/bbs-3.17-bioc/R/library' * installing *source* package 'occugene' ... ** using staged installation ** R ** data ** byte-compile and prepare package for lazy loading ** help *** installing help indices ** building package indices ** installing vignettes ** testing if installed package can be loaded from temporary location ** testing if installed package can be loaded from final location ** testing if installed package keeps a record of temporary installation path * DONE (occugene)
occugene.Rcheck/occugene-Ex.timings
| name | user | system | elapsed | |
| binHist | 0 | 0 | 0 | |
| binInsert | 0 | 0 | 0 | |
| binInsertHist | 0 | 0 | 0 | |
| checkFormat | 0.02 | 0.00 | 0.01 | |
| delta0 | 0.03 | 0.01 | 0.05 | |
| eMult | 0.34 | 0.02 | 0.36 | |
| etDelta | 0 | 0 | 0 | |
| fCumul | 0 | 0 | 0 | |
| fFit | 0.03 | 0.00 | 0.03 | |
| loadAnnotation | 0 | 0 | 0 | |
| loadInsertions | 0 | 0 | 0 | |
| occup2Negenes | 0 | 0 | 0 | |
| unbiasB0 | 0.22 | 0.01 | 0.24 | |
| unbiasDelta0 | 0.31 | 0.00 | 0.31 | |
| varMult | 0.36 | 0.00 | 0.36 | |