| Back to Build/check report for BioC 3.17 |
|
This page was generated on 2023-01-02 09:00:40 -0500 (Mon, 02 Jan 2023).
| Hostname | OS | Arch (*) | R version | Installed pkgs |
|---|---|---|---|---|
| palomino5 | Windows Server 2022 Datacenter | x64 | R Under development (unstable) (2022-12-25 r83502 ucrt) -- "Unsuffered Consequences" | 4165 |
| Click on any hostname to see more info about the system (e.g. compilers) (*) as reported by 'uname -p', except on Windows and Mac OS X | ||||
|
To the developers/maintainers of the muscle package: Make sure to use the following settings in order to reproduce any error or warning you see on this page. |
| Package 1296/2158 | Hostname | OS / Arch | INSTALL | BUILD | CHECK | BUILD BIN | ||||||||
| muscle 3.41.0 (landing page) Alex T. Kalinka
| palomino5 | Windows Server 2022 Datacenter / x64 | OK | OK | WARNINGS | OK | ||||||||
| Package: muscle |
| Version: 3.41.0 |
| Command: chmod a+r muscle -R && F:\biocbuild\bbs-3.17-bioc\R\bin\R.exe CMD build --keep-empty-dirs --no-resave-data muscle |
| StartedAt: 2022-12-28 19:17:41 -0500 (Wed, 28 Dec 2022) |
| EndedAt: 2022-12-28 19:18:53 -0500 (Wed, 28 Dec 2022) |
| EllapsedTime: 72.3 seconds |
| RetCode: 0 |
| Status: OK |
| PackageFile: muscle_3.41.0.tar.gz |
| PackageFileSize: 294.8 KiB |
############################################################################## ############################################################################## ### ### Running command: ### ### chmod a+r muscle -R && F:\biocbuild\bbs-3.17-bioc\R\bin\R.exe CMD build --keep-empty-dirs --no-resave-data muscle ### ############################################################################## ############################################################################## * checking for file 'muscle/DESCRIPTION' ... OK * preparing 'muscle': * checking DESCRIPTION meta-information ... OK * cleaning src * installing the package to build vignettes * creating vignettes ... OK * cleaning src * checking for LF line-endings in source and make files and shell scripts * checking for empty or unneeded directories * building 'muscle_3.41.0.tar.gz'