| Back to Build/check report for BioC 3.17 |
|
This page was generated on 2023-01-02 09:00:40 -0500 (Mon, 02 Jan 2023).
| Hostname | OS | Arch (*) | R version | Installed pkgs |
|---|---|---|---|---|
| palomino5 | Windows Server 2022 Datacenter | x64 | R Under development (unstable) (2022-12-25 r83502 ucrt) -- "Unsuffered Consequences" | 4165 |
| Click on any hostname to see more info about the system (e.g. compilers) (*) as reported by 'uname -p', except on Windows and Mac OS X | ||||
|
To the developers/maintainers of the multiscan package: Make sure to use the following settings in order to reproduce any error or warning you see on this page. |
| Package 1290/2158 | Hostname | OS / Arch | INSTALL | BUILD | CHECK | BUILD BIN | ||||||||
| multiscan 1.59.0 (landing page) Mizanur Khondoker
| palomino5 | Windows Server 2022 Datacenter / x64 | OK | OK | OK | OK | ||||||||
| Package: multiscan |
| Version: 1.59.0 |
| Command: F:\biocbuild\bbs-3.17-bioc\R\bin\R.exe CMD check --no-multiarch --install=check:multiscan.install-out.txt --library=F:\biocbuild\bbs-3.17-bioc\R\library --no-vignettes --timings multiscan_1.59.0.tar.gz |
| StartedAt: 2022-12-29 01:44:23 -0500 (Thu, 29 Dec 2022) |
| EndedAt: 2022-12-29 01:45:07 -0500 (Thu, 29 Dec 2022) |
| EllapsedTime: 44.5 seconds |
| RetCode: 0 |
| Status: OK |
| CheckDir: multiscan.Rcheck |
| Warnings: 0 |
##############################################################################
##############################################################################
###
### Running command:
###
### F:\biocbuild\bbs-3.17-bioc\R\bin\R.exe CMD check --no-multiarch --install=check:multiscan.install-out.txt --library=F:\biocbuild\bbs-3.17-bioc\R\library --no-vignettes --timings multiscan_1.59.0.tar.gz
###
##############################################################################
##############################################################################
* using log directory 'F:/biocbuild/bbs-3.17-bioc-rtools43/meat/multiscan.Rcheck'
* using R Under development (unstable) (2022-12-25 r83502 ucrt)
* using platform: x86_64-w64-mingw32 (64-bit)
* R was compiled by
gcc.exe (GCC) 10.4.0
GNU Fortran (GCC) 10.4.0
* running under: Windows Server x64 (build 20348)
* using session charset: UTF-8
* using option '--no-vignettes'
* checking for file 'multiscan/DESCRIPTION' ... OK
* this is package 'multiscan' version '1.59.0'
* checking package namespace information ... OK
* checking package dependencies ... OK
* checking if this is a source package ... OK
* checking if there is a namespace ... OK
* checking for hidden files and directories ... OK
* checking for portable file names ... OK
* checking whether package 'multiscan' can be installed ... OK
* used C compiler: 'gcc.exe (GCC) 12.2.0'
* checking installed package size ... OK
* checking package directory ... OK
* checking 'build' directory ... OK
* checking DESCRIPTION meta-information ... NOTE
Malformed Description field: should contain one or more complete sentences.
* checking top-level files ... OK
* checking for left-over files ... OK
* checking index information ... OK
* checking package subdirectories ... OK
* checking R files for non-ASCII characters ... OK
* checking R files for syntax errors ... OK
* checking whether the package can be loaded ... OK
* checking whether the package can be loaded with stated dependencies ... OK
* checking whether the package can be unloaded cleanly ... OK
* checking whether the namespace can be loaded with stated dependencies ... OK
* checking whether the namespace can be unloaded cleanly ... OK
* checking dependencies in R code ... OK
* checking S3 generic/method consistency ... OK
* checking replacement functions ... OK
* checking foreign function calls ... OK
* checking R code for possible problems ... NOTE
File 'multiscan/R/zzz.R':
.onAttach calls:
cat(paste("*** Loaded multiscan Version", packageDescription("multiscan")$Version), "*** \n")
cat("Type 'vignette(\"multiscan\")' to view the package vignette.\n")
Package startup functions should use 'packageStartupMessage' to
generate messages.
See section 'Good practice' in '?.onAttach'.
multiscan: no visible global function definition for 'na.omit'
multiscan: no visible global function definition for 'na.fail'
multiscan: no visible binding for global variable 'median'
plot.multiscan: no visible global function definition for 'par'
plot.multiscan: no visible global function definition for 'points'
plot.multiscan: no visible global function definition for 'lines'
plot.multiscan: no visible global function definition for 'legend'
plot.multiscan: no visible global function definition for
'dev.interactive'
plot.multiscan: no visible global function definition for 'abline'
Undefined global functions or variables:
abline dev.interactive legend lines median na.fail na.omit par points
Consider adding
importFrom("grDevices", "dev.interactive")
importFrom("graphics", "abline", "legend", "lines", "par", "points")
importFrom("stats", "median", "na.fail", "na.omit")
to your NAMESPACE file.
* checking Rd files ... OK
* checking Rd metadata ... OK
* checking Rd cross-references ... OK
* checking for missing documentation entries ... OK
* checking for code/documentation mismatches ... OK
* checking Rd \usage sections ... OK
* checking Rd contents ... OK
* checking for unstated dependencies in examples ... OK
* checking contents of 'data' directory ... OK
* checking data for non-ASCII characters ... OK
* checking data for ASCII and uncompressed saves ... OK
* checking line endings in C/C++/Fortran sources/headers ... OK
* checking compiled code ... NOTE
Note: information on .o files for x64 is not available
File 'F:/biocbuild/bbs-3.17-bioc/R/library/multiscan/libs/x64/multiscan.dll':
Found 'abort', possibly from 'abort' (C), 'runtime' (Fortran)
Compiled code should not call entry points which might terminate R nor
write to stdout/stderr instead of to the console, nor use Fortran I/O
nor system RNGs nor [v]sprintf. The detected symbols are linked into
the code but might come from libraries and not actually be called.
See 'Writing portable packages' in the 'Writing R Extensions' manual.
* checking sizes of PDF files under 'inst/doc' ... OK
* checking files in 'vignettes' ... OK
* checking examples ... OK
* checking for unstated dependencies in vignettes ... OK
* checking package vignettes in 'inst/doc' ... OK
* checking running R code from vignettes ... SKIPPED
* checking re-building of vignette outputs ... SKIPPED
* checking PDF version of manual ... OK
* DONE
Status: 3 NOTEs
See
'F:/biocbuild/bbs-3.17-bioc-rtools43/meat/multiscan.Rcheck/00check.log'
for details.
multiscan.Rcheck/00install.out
##############################################################################
##############################################################################
###
### Running command:
###
### F:\biocbuild\bbs-3.17-bioc\R\bin\R.exe CMD INSTALL multiscan
###
##############################################################################
##############################################################################
* installing to library 'F:/biocbuild/bbs-3.17-bioc/R/library'
* installing *source* package 'multiscan' ...
** using staged installation
** libs
using C compiler: 'gcc.exe (GCC) 12.2.0'
gcc -I"F:/biocbuild/bbs-3.17-bioc/R/include" -DNDEBUG -I"c:/rtools42/x86_64-w64-mingw32.static.posix/include" -O2 -Wall -std=gnu99 -mfpmath=sse -msse2 -mstackrealign -c multiscan.c -o multiscan.o
gcc -shared -s -static-libgcc -o multiscan.dll tmp.def multiscan.o -Lc:/rtools42/x86_64-w64-mingw32.static.posix/lib/x64 -Lc:/rtools42/x86_64-w64-mingw32.static.posix/lib -LF:/biocbuild/bbs-3.17-bioc/R/bin/x64 -lR
installing to F:/biocbuild/bbs-3.17-bioc/R/library/00LOCK-multiscan/00new/multiscan/libs/x64
** R
** data
** byte-compile and prepare package for lazy loading
** help
*** installing help indices
** building package indices
** installing vignettes
** testing if installed package can be loaded from temporary location
*** Loaded multiscan Version 1.59.0 ***
Type 'vignette("multiscan")' to view the package vignette.
** testing if installed package can be loaded from final location
*** Loaded multiscan Version 1.59.0 ***
Type 'vignette("multiscan")' to view the package vignette.
** testing if installed package keeps a record of temporary installation path
* DONE (multiscan)
multiscan.Rcheck/multiscan-Ex.timings
| name | user | system | elapsed | |
| multiscan | 4.53 | 0.01 | 4.55 | |
| plot.multiscan | 2.22 | 0.02 | 2.23 | |