| Back to Build/check report for BioC 3.17 |
|
This page was generated on 2023-01-02 09:00:39 -0500 (Mon, 02 Jan 2023).
| Hostname | OS | Arch (*) | R version | Installed pkgs |
|---|---|---|---|---|
| palomino5 | Windows Server 2022 Datacenter | x64 | R Under development (unstable) (2022-12-25 r83502 ucrt) -- "Unsuffered Consequences" | 4165 |
| Click on any hostname to see more info about the system (e.g. compilers) (*) as reported by 'uname -p', except on Windows and Mac OS X | ||||
|
To the developers/maintainers of the mistyR package: Make sure to use the following settings in order to reproduce any error or warning you see on this page. |
| Package 1211/2158 | Hostname | OS / Arch | INSTALL | BUILD | CHECK | BUILD BIN | ||||||||
| mistyR 1.7.1 (landing page) Jovan Tanevski
| palomino5 | Windows Server 2022 Datacenter / x64 | OK | OK | OK | OK | ||||||||
| Package: mistyR |
| Version: 1.7.1 |
| Command: F:\biocbuild\bbs-3.17-bioc\R\bin\R.exe CMD check --no-multiarch --install=check:mistyR.install-out.txt --library=F:\biocbuild\bbs-3.17-bioc\R\library --no-vignettes --timings mistyR_1.7.1.tar.gz |
| StartedAt: 2022-12-29 01:27:59 -0500 (Thu, 29 Dec 2022) |
| EndedAt: 2022-12-29 01:39:08 -0500 (Thu, 29 Dec 2022) |
| EllapsedTime: 668.9 seconds |
| RetCode: 0 |
| Status: OK |
| CheckDir: mistyR.Rcheck |
| Warnings: 0 |
##############################################################################
##############################################################################
###
### Running command:
###
### F:\biocbuild\bbs-3.17-bioc\R\bin\R.exe CMD check --no-multiarch --install=check:mistyR.install-out.txt --library=F:\biocbuild\bbs-3.17-bioc\R\library --no-vignettes --timings mistyR_1.7.1.tar.gz
###
##############################################################################
##############################################################################
* using log directory 'F:/biocbuild/bbs-3.17-bioc-rtools43/meat/mistyR.Rcheck'
* using R Under development (unstable) (2022-12-25 r83502 ucrt)
* using platform: x86_64-w64-mingw32 (64-bit)
* R was compiled by
gcc.exe (GCC) 10.4.0
GNU Fortran (GCC) 10.4.0
* running under: Windows Server x64 (build 20348)
* using session charset: UTF-8
* using option '--no-vignettes'
* checking for file 'mistyR/DESCRIPTION' ... OK
* checking extension type ... Package
* this is package 'mistyR' version '1.7.1'
* package encoding: UTF-8
* checking package namespace information ... OK
* checking package dependencies ... OK
* checking if this is a source package ... OK
* checking if there is a namespace ... OK
* checking for hidden files and directories ... OK
* checking for portable file names ... OK
* checking whether package 'mistyR' can be installed ... OK
* checking installed package size ... OK
* checking package directory ... OK
* checking 'build' directory ... OK
* checking DESCRIPTION meta-information ... OK
* checking top-level files ... OK
* checking for left-over files ... OK
* checking index information ... OK
* checking package subdirectories ... OK
* checking R files for non-ASCII characters ... OK
* checking R files for syntax errors ... OK
* checking whether the package can be loaded ... OK
* checking whether the package can be loaded with stated dependencies ... OK
* checking whether the package can be unloaded cleanly ... OK
* checking whether the namespace can be loaded with stated dependencies ... OK
* checking whether the namespace can be unloaded cleanly ... OK
* checking dependencies in R code ... OK
* checking S3 generic/method consistency ... OK
* checking replacement functions ... OK
* checking foreign function calls ... OK
* checking R code for possible problems ... NOTE
aggregate_results: no visible binding for global variable 'measure'
aggregate_results: no visible binding for global variable 'target'
aggregate_results: no visible binding for global variable 'value'
aggregate_results: no visible binding for global variable 'sd'
aggregate_results: no visible binding for global variable 'view'
aggregate_results: no visible binding for global variable '.PT'
aggregate_results: no visible binding for global variable 'Importance'
aggregate_results_subset: no visible binding for global variable 'view'
aggregate_results_subset: no visible binding for global variable '.PT'
aggregate_results_subset: no visible binding for global variable
'Importance'
bagged_mars_model: no visible binding for global variable 'index'
bagged_mars_model: no visible binding for global variable 'prediction'
collect_results : <anonymous>: no visible binding for global variable
'intra.RMSE'
collect_results : <anonymous>: no visible binding for global variable
'multi.RMSE'
collect_results : <anonymous>: no visible binding for global variable
'multi.R2'
collect_results : <anonymous>: no visible binding for global variable
'intra.R2'
collect_results: no visible binding for global variable 'target'
collect_results : <anonymous>: no visible binding for global variable
'target'
collect_results : <anonymous>: no visible binding for global variable
'view'
collect_results : <anonymous> : <anonymous>: no visible binding for
global variable 'value'
collect_results : <anonymous> : <anonymous>: no visible binding for
global variable 'Predictor'
collect_results : <anonymous> : <anonymous>: no visible binding for
global variable 'Importance'
extract_signature: no visible binding for global variable 'measure'
extract_signature: no visible binding for global variable 'target'
extract_signature: no visible binding for global variable 'ts'
extract_signature: no visible binding for global variable 'view'
extract_signature: no visible binding for global variable 'value'
extract_signature : <anonymous>: no visible binding for global variable
'Importance'
extract_signature : <anonymous>: no visible binding for global variable
'Target'
extract_signature : <anonymous>: no visible binding for global variable
'ts'
extract_signature : <anonymous>: no visible binding for global variable
'Predictor'
gradient_boosting_model: no visible binding for global variable 'index'
linear_model: no visible binding for global variable 'index'
mars_model: no visible binding for global variable 'index'
mlp_model: no visible binding for global variable 'index'
plot_contrast_heatmap: no visible binding for global variable 'view'
plot_contrast_heatmap: no visible binding for global variable 'measure'
plot_contrast_heatmap: no visible binding for global variable 'target'
plot_contrast_heatmap: no visible binding for global variable 'Target'
plot_contrast_heatmap: no visible binding for global variable
'nsamples'
plot_contrast_heatmap: no visible binding for global variable
'Predictor'
plot_contrast_heatmap: no visible binding for global variable
'Importance'
plot_contrast_results: no visible binding for global variable 'view'
plot_contrast_results : <anonymous>: no visible binding for global
variable 'view'
plot_contrast_results : <anonymous>: no visible binding for global
variable 'Predictor'
plot_contrast_results : <anonymous>: no visible binding for global
variable 'Target'
plot_contrast_results: no visible binding for global variable 'measure'
plot_contrast_results: no visible binding for global variable 'target'
plot_contrast_results : <anonymous>: no visible binding for global
variable 'nsamples'
plot_contrast_results : <anonymous>: no visible binding for global
variable 'Importance'
plot_improvement_stats: no visible binding for global variable 'target'
plot_improvement_stats: no visible binding for global variable 'sd'
plot_interaction_communities: no visible binding for global variable
'nsamples'
plot_interaction_communities: no visible binding for global variable
'Predictor'
plot_interaction_heatmap: no visible binding for global variable
'measure'
plot_interaction_heatmap: no visible binding for global variable
'target'
plot_interaction_heatmap: no visible binding for global variable
'Target'
plot_interaction_heatmap: no visible binding for global variable
'Importance'
plot_interaction_heatmap: no visible binding for global variable
'Predictor'
plot_interaction_heatmap: no visible binding for global variable
'total'
plot_view_contributions: no visible binding for global variable
'measure'
plot_view_contributions: no visible binding for global variable
'target'
plot_view_contributions: no visible binding for global variable
'fraction'
plot_view_contributions: no visible binding for global variable 'view'
run_misty : <anonymous>: no visible binding for global variable 'p'
run_misty : <anonymous>: no visible binding for global variable
'intra.RMSE'
run_misty : <anonymous>: no visible binding for global variable
'multi.RMSE'
run_misty : <anonymous>: no visible binding for global variable
'intra.R2'
run_misty : <anonymous>: no visible binding for global variable
'multi.R2'
svm_model: no visible binding for global variable 'index'
Undefined global functions or variables:
.PT Importance Predictor Target fraction index intra.R2 intra.RMSE
measure multi.R2 multi.RMSE nsamples p prediction sd target total ts
value view
Consider adding
importFrom("stats", "sd", "ts")
to your NAMESPACE file.
* checking Rd files ... OK
* checking Rd metadata ... OK
* checking Rd cross-references ... OK
* checking for missing documentation entries ... OK
* checking for code/documentation mismatches ... OK
* checking Rd \usage sections ... OK
* checking Rd contents ... OK
* checking for unstated dependencies in examples ... OK
* checking contents of 'data' directory ... OK
* checking data for non-ASCII characters ... OK
* checking data for ASCII and uncompressed saves ... OK
* checking files in 'vignettes' ... OK
* checking examples ... OK
Examples with CPU (user + system) or elapsed time > 5s
user system elapsed
collect_results 120.75 16.34 136.86
reexports 39.83 5.92 45.75
run_misty 38.47 5.87 44.25
remove_views 23.57 5.39 28.95
add_paraview 17.80 3.19 20.98
plot_improvement_stats 6.61 0.75 6.93
create_view 7.15 0.12 7.28
add_juxtaview 5.78 0.65 6.47
* checking for unstated dependencies in 'tests' ... OK
* checking tests ...
Running 'testthat.R'
OK
* checking for unstated dependencies in vignettes ... OK
* checking package vignettes in 'inst/doc' ... OK
* checking running R code from vignettes ... SKIPPED
* checking re-building of vignette outputs ... SKIPPED
* checking PDF version of manual ... OK
* DONE
Status: 1 NOTE
See
'F:/biocbuild/bbs-3.17-bioc-rtools43/meat/mistyR.Rcheck/00check.log'
for details.
mistyR.Rcheck/00install.out
############################################################################## ############################################################################## ### ### Running command: ### ### F:\biocbuild\bbs-3.17-bioc\R\bin\R.exe CMD INSTALL mistyR ### ############################################################################## ############################################################################## * installing to library 'F:/biocbuild/bbs-3.17-bioc/R/library' * installing *source* package 'mistyR' ... ** using staged installation ** R ** data ** inst ** byte-compile and prepare package for lazy loading ** help *** installing help indices ** building package indices ** installing vignettes ** testing if installed package can be loaded from temporary location ** testing if installed package can be loaded from final location ** testing if installed package keeps a record of temporary installation path * DONE (mistyR)
mistyR.Rcheck/tests/testthat.Rout
R Under development (unstable) (2022-12-25 r83502 ucrt) -- "Unsuffered Consequences"
Copyright (C) 2022 The R Foundation for Statistical Computing
Platform: x86_64-w64-mingw32/x64 (64-bit)
R is free software and comes with ABSOLUTELY NO WARRANTY.
You are welcome to redistribute it under certain conditions.
Type 'license()' or 'licence()' for distribution details.
R is a collaborative project with many contributors.
Type 'contributors()' for more information and
'citation()' on how to cite R or R packages in publications.
Type 'demo()' for some demos, 'help()' for on-line help, or
'help.start()' for an HTML browser interface to help.
Type 'q()' to quit R.
> library(testthat)
> library(mistyR)
mistyR is able to run computationally intensive functions
in parallel. Please consider specifying a future::plan(). For example by running
future::plan(future::multisession) before calling mistyR functions.
>
> test_check("mistyR")
Generating paraview
Attaching package: 'purrr'
The following object is masked from 'package:testthat':
is_null
Training models
Training models
Training models
Training models
Training models
Training models
Collecting improvements
Collecting contributions
Collecting importances
Aggregating
Collecting improvements
Collecting contributions
Collecting importances
Aggregating
Training models
Training models
Training models
Training models
Collecting improvements
Collecting contributions
Collecting importances
Aggregating
Training models
Collecting improvements
Collecting contributions
Collecting importances
Aggregating
Training models
Collecting improvements
Collecting contributions
Collecting importances
Aggregating
Training models
Collecting improvements
Collecting contributions
Collecting importances
Aggregating
Training models
Collecting improvements
Collecting contributions
Collecting importances
Aggregating
Training models
Collecting improvements
Collecting contributions
Collecting importances
Aggregating
Training models
Collecting improvements
Collecting contributions
Collecting importances
Aggregating
Generating paraview
Training models
Generating paraview
Training models
Training models
Training models
Training models
Training models
Training models
Training models
Training models
Training models
Training models
Training models
Training models
Training models
Training models
Training models
Training models
Training models
Training models
Training models
Training models
Training models
Training models
Training models
Training models
Training models
Training models
Training models
Training models
Training models
Training models
Training models
Training models
Training models
Training models
Collecting improvements
Collecting contributions
Collecting importances
Aggregating
Training models
Collecting improvements
Collecting contributions
Collecting importances
Aggregating
Training models
Collecting improvements
Collecting contributions
Collecting importances
Aggregating
Training models
Collecting improvements
Collecting contributions
Collecting importances
Aggregating
Training models
Collecting improvements
Collecting contributions
Collecting importances
Aggregating
Training models
Collecting improvements
Collecting contributions
Collecting importances
Aggregating
Training models
Collecting improvements
Collecting contributions
Collecting importances
Aggregating
Generating paraview
Training models
Training models
Training models
Training models
Training models
Training models
Training models
Training models
Training models
Training models
Training models
Training models
Training models
Training models
Training models
Training models
Training models
Training models
Training models
Training models
Training models
Generating paraview
Training models
Collecting improvements
Collecting contributions
Collecting importances
Aggregating
Generating paraview
Training models
Collecting improvements
Collecting contributions
Collecting importances
Aggregating
Generating paraview
Generating paraview
Training models
Generating paraview
Training models
Generating paraview
Training models
Collecting improvements
Collecting contributions
Collecting importances
Aggregating
Aggregating subset
Generating paraview
Training models
Generating paraview
Training models
Generating paraview
Training models
Collecting improvements
Collecting contributions
Collecting importances
Aggregating
Computing triangulation
Generating juxtaview
Generating paraview
Generating paraview using 20 nearest neighbors per unit
Approximating RBF matrix using the Nystrom method
Computing triangulation
Generating juxtaview
Generating paraview
Computing triangulation
Generating juxtaview
Generating paraview
Computing triangulation
Generating paraview
Generating paraview
Generating paraview using 2 nearest neighbors per unit
Generating paraview
Generating paraview
[ FAIL 0 | WARN 0 | SKIP 0 | PASS 173 ]
>
> proc.time()
user system elapsed
294.87 11.01 305.03
mistyR.Rcheck/mistyR-Ex.timings
| name | user | system | elapsed | |
| add_juxtaview | 5.78 | 0.65 | 6.47 | |
| add_paraview | 17.80 | 3.19 | 20.98 | |
| add_views | 0 | 0 | 0 | |
| clear_cache | 0 | 0 | 0 | |
| collect_results | 120.75 | 16.34 | 136.86 | |
| create_initial_view | 0.33 | 0.02 | 0.35 | |
| create_view | 7.15 | 0.12 | 7.28 | |
| extract_signature | 3.06 | 0.33 | 3.25 | |
| filter_views | 0.99 | 0.02 | 1.00 | |
| plot_contrast_heatmap | 3.67 | 0.64 | 4.03 | |
| plot_contrast_results | 3.75 | 0.50 | 4.05 | |
| plot_improvement_stats | 6.61 | 0.75 | 6.93 | |
| plot_interaction_communities | 3.22 | 0.45 | 3.53 | |
| plot_interaction_heatmap | 3.39 | 0.47 | 3.63 | |
| plot_view_contributions | 3.37 | 0.46 | 3.51 | |
| reexports | 39.83 | 5.92 | 45.75 | |
| remove_views | 23.57 | 5.39 | 28.95 | |
| rename_view | 0.01 | 0.00 | 0.02 | |
| run_misty | 38.47 | 5.87 | 44.25 | |
| select_markers | 0.27 | 0.04 | 0.30 | |