| Back to Build/check report for BioC 3.17 |
|
This page was generated on 2023-01-02 09:00:38 -0500 (Mon, 02 Jan 2023).
| Hostname | OS | Arch (*) | R version | Installed pkgs |
|---|---|---|---|---|
| palomino5 | Windows Server 2022 Datacenter | x64 | R Under development (unstable) (2022-12-25 r83502 ucrt) -- "Unsuffered Consequences" | 4165 |
| Click on any hostname to see more info about the system (e.g. compilers) (*) as reported by 'uname -p', except on Windows and Mac OS X | ||||
|
To the developers/maintainers of the microbiome package: Make sure to use the following settings in order to reproduce any error or warning you see on this page. |
| Package 1176/2158 | Hostname | OS / Arch | INSTALL | BUILD | CHECK | BUILD BIN | ||||||||
| microbiome 1.21.0 (landing page) Leo Lahti
| palomino5 | Windows Server 2022 Datacenter / x64 | OK | OK | OK | OK | ||||||||
| Package: microbiome |
| Version: 1.21.0 |
| Command: F:\biocbuild\bbs-3.17-bioc\R\bin\R.exe CMD check --no-multiarch --install=check:microbiome.install-out.txt --library=F:\biocbuild\bbs-3.17-bioc\R\library --no-vignettes --timings microbiome_1.21.0.tar.gz |
| StartedAt: 2022-12-29 01:22:06 -0500 (Thu, 29 Dec 2022) |
| EndedAt: 2022-12-29 01:24:49 -0500 (Thu, 29 Dec 2022) |
| EllapsedTime: 163.2 seconds |
| RetCode: 0 |
| Status: OK |
| CheckDir: microbiome.Rcheck |
| Warnings: 0 |
##############################################################################
##############################################################################
###
### Running command:
###
### F:\biocbuild\bbs-3.17-bioc\R\bin\R.exe CMD check --no-multiarch --install=check:microbiome.install-out.txt --library=F:\biocbuild\bbs-3.17-bioc\R\library --no-vignettes --timings microbiome_1.21.0.tar.gz
###
##############################################################################
##############################################################################
* using log directory 'F:/biocbuild/bbs-3.17-bioc-rtools43/meat/microbiome.Rcheck'
* using R Under development (unstable) (2022-12-25 r83502 ucrt)
* using platform: x86_64-w64-mingw32 (64-bit)
* R was compiled by
gcc.exe (GCC) 10.4.0
GNU Fortran (GCC) 10.4.0
* running under: Windows Server x64 (build 20348)
* using session charset: UTF-8
* using option '--no-vignettes'
* checking for file 'microbiome/DESCRIPTION' ... OK
* checking extension type ... Package
* this is package 'microbiome' version '1.21.0'
* package encoding: UTF-8
* checking package namespace information ... OK
* checking package dependencies ... OK
* checking if this is a source package ... OK
* checking if there is a namespace ... OK
* checking for hidden files and directories ... OK
* checking for portable file names ... OK
* checking whether package 'microbiome' can be installed ... OK
* checking installed package size ... OK
* checking package directory ... OK
* checking 'build' directory ... OK
* checking DESCRIPTION meta-information ... OK
* checking top-level files ... OK
* checking for left-over files ... OK
* checking index information ... OK
* checking package subdirectories ... OK
* checking R files for non-ASCII characters ... OK
* checking R files for syntax errors ... OK
* checking whether the package can be loaded ... OK
* checking whether the package can be loaded with stated dependencies ... OK
* checking whether the package can be unloaded cleanly ... OK
* checking whether the namespace can be loaded with stated dependencies ... OK
* checking whether the namespace can be unloaded cleanly ... OK
* checking dependencies in R code ... OK
* checking S3 generic/method consistency ... OK
* checking replacement functions ... OK
* checking foreign function calls ... OK
* checking R code for possible problems ... OK
* checking Rd files ... OK
* checking Rd metadata ... OK
* checking Rd cross-references ... OK
* checking for missing documentation entries ... OK
* checking for code/documentation mismatches ... OK
* checking Rd \usage sections ... OK
* checking Rd contents ... OK
* checking for unstated dependencies in examples ... OK
* checking contents of 'data' directory ... OK
* checking data for non-ASCII characters ... OK
* checking data for ASCII and uncompressed saves ... OK
* checking files in 'vignettes' ... OK
* checking examples ... OK
Examples with CPU (user + system) or elapsed time > 5s
user system elapsed
overlap 11.25 0.01 11.36
* checking for unstated dependencies in 'tests' ... OK
* checking tests ...
Running 'testthat.R'
OK
* checking for unstated dependencies in vignettes ... OK
* checking package vignettes in 'inst/doc' ... OK
* checking running R code from vignettes ... SKIPPED
* checking re-building of vignette outputs ... SKIPPED
* checking PDF version of manual ... OK
* DONE
Status: OK
microbiome.Rcheck/00install.out
############################################################################## ############################################################################## ### ### Running command: ### ### F:\biocbuild\bbs-3.17-bioc\R\bin\R.exe CMD INSTALL microbiome ### ############################################################################## ############################################################################## * installing to library 'F:/biocbuild/bbs-3.17-bioc/R/library' * installing *source* package 'microbiome' ... ** using staged installation ** R ** data ** inst ** byte-compile and prepare package for lazy loading ** help *** installing help indices ** building package indices ** installing vignettes ** testing if installed package can be loaded from temporary location ** testing if installed package can be loaded from final location ** testing if installed package keeps a record of temporary installation path * DONE (microbiome)
microbiome.Rcheck/tests/testthat.Rout
R Under development (unstable) (2022-12-25 r83502 ucrt) -- "Unsuffered Consequences"
Copyright (C) 2022 The R Foundation for Statistical Computing
Platform: x86_64-w64-mingw32/x64 (64-bit)
R is free software and comes with ABSOLUTELY NO WARRANTY.
You are welcome to redistribute it under certain conditions.
Type 'license()' or 'licence()' for distribution details.
R is a collaborative project with many contributors.
Type 'contributors()' for more information and
'citation()' on how to cite R or R packages in publications.
Type 'demo()' for some demos, 'help()' for on-line help, or
'help.start()' for an HTML browser interface to help.
Type 'q()' to quit R.
> library(testthat)
> test_check("microbiome")
Loading required package: microbiome
Loading required package: phyloseq
Loading required package: ggplot2
microbiome R package (microbiome.github.com)
Copyright (C) 2011-2022 Leo Lahti,
Sudarshan Shetty et al. <microbiome.github.io>
Attaching package: 'microbiome'
The following object is masked from 'package:ggplot2':
alpha
The following object is masked from 'package:base':
transform
[ FAIL 0 | WARN 3 | SKIP 1 | PASS 83 ]
══ Skipped tests ═══════════════════════════════════════════════════════════════
• On Bioconductor (1)
[ FAIL 0 | WARN 3 | SKIP 1 | PASS 83 ]
>
> proc.time()
user system elapsed
8.92 0.79 9.81
microbiome.Rcheck/microbiome-Ex.timings
| name | user | system | elapsed | |
| TibbleUtilites | 0.19 | 0.00 | 0.19 | |
| abundances | 0.02 | 0.00 | 0.01 | |
| add_besthit | 0 | 0 | 0 | |
| add_refseq | 0 | 0 | 0 | |
| aggregate_rare | 0.54 | 0.02 | 0.56 | |
| aggregate_taxa | 0.07 | 0.00 | 0.06 | |
| alpha | 0.00 | 0.01 | 0.02 | |
| associate | 0.01 | 0.02 | 0.03 | |
| baseline | 0.05 | 0.00 | 0.05 | |
| bimodality | 0 | 0 | 0 | |
| bimodality_sarle | 0 | 0 | 0 | |
| boxplot_abundance | 0.06 | 0.00 | 0.06 | |
| boxplot_alpha | 0.27 | 0.00 | 0.27 | |
| chunk_reorder | 0 | 0 | 0 | |
| cmat2table | 0.06 | 0.00 | 0.06 | |
| collapse_replicates | 0.05 | 0.00 | 0.05 | |
| core | 0.03 | 0.02 | 0.05 | |
| core_abundance | 0.03 | 0.02 | 0.04 | |
| core_matrix | 0 | 0 | 0 | |
| core_members | 0.02 | 0.00 | 0.02 | |
| coverage | 0.03 | 0.00 | 0.03 | |
| default_colors | 0 | 0 | 0 | |
| densityplot | 0 | 0 | 0 | |
| divergence | 0.37 | 0.00 | 0.37 | |
| diversity | 0.02 | 0.01 | 0.04 | |
| dominance | 0.01 | 0.00 | 0.01 | |
| dominant | 0.03 | 0.00 | 0.03 | |
| estimate_stability | 0 | 0 | 0 | |
| evenness | 0.02 | 0.00 | 0.02 | |
| find_optima | 0 | 0 | 0 | |
| gktau | 0.02 | 0.00 | 0.01 | |
| group_age | 0.01 | 0.00 | 0.02 | |
| group_bmi | 0 | 0 | 0 | |
| heat | 0.05 | 0.00 | 0.05 | |
| hotplot | 0.15 | 0.03 | 0.18 | |
| inequality | 0.04 | 0.00 | 0.03 | |
| intermediate_stability | 0.32 | 0.00 | 0.33 | |
| is_compositional | 0.05 | 0.00 | 0.07 | |
| log_modulo_skewness | 0.08 | 0.00 | 0.07 | |
| low_abundance | 0.01 | 0.00 | 0.02 | |
| map_levels | 0.04 | 0.00 | 0.03 | |
| merge_taxa2 | 0.01 | 0.00 | 0.02 | |
| meta | 0.02 | 0.00 | 0.01 | |
| microbiome-package | 0.00 | 0.00 | 0.05 | |
| multimodality | 0 | 0 | 0 | |
| neat | 0.09 | 0.02 | 0.14 | |
| neatsort | 0.09 | 0.00 | 0.09 | |
| overlap | 11.25 | 0.01 | 11.36 | |
| plot_atlas | 0.05 | 0.00 | 0.05 | |
| plot_composition | 0.17 | 0.00 | 0.17 | |
| plot_core | 0.08 | 0.00 | 0.08 | |
| plot_density | 0.03 | 0.00 | 0.03 | |
| plot_frequencies | 0.02 | 0.00 | 0.02 | |
| plot_landscape | 0.59 | 0.03 | 0.63 | |
| plot_regression | 0.16 | 0.00 | 0.15 | |
| plot_taxa_prevalence | 0.23 | 0.00 | 0.24 | |
| plot_tipping | 0.08 | 0.00 | 0.08 | |
| potential_analysis | 0.02 | 0.02 | 0.03 | |
| potential_univariate | 0 | 0 | 0 | |
| prevalence | 0 | 0 | 0 | |
| psmelt2 | 0.07 | 0.02 | 0.10 | |
| quiet | 0 | 0 | 0 | |
| rare | 0.02 | 0.00 | 0.01 | |
| rare_abundance | 0.02 | 0.01 | 0.03 | |
| rare_members | 0 | 0 | 0 | |
| rarity | 0.04 | 0.00 | 0.05 | |
| read_biom2phyloseq | 0 | 0 | 0 | |
| read_csv2phyloseq | 0 | 0 | 0 | |
| read_mothur2phyloseq | 0 | 0 | 0 | |
| read_phyloseq | 0 | 0 | 0 | |
| readcount | 0.02 | 0.00 | 0.01 | |
| remove_samples | 0.01 | 0.00 | 0.02 | |
| remove_taxa | 0.02 | 0.00 | 0.01 | |
| richness | 0 | 0 | 0 | |
| spreadplot | 0.05 | 0.01 | 0.06 | |
| summarize_phyloseq | 0.01 | 0.00 | 0.02 | |
| taxa | 0 | 0 | 0 | |
| time_normalize | 0.03 | 0.00 | 0.03 | |
| time_sort | 0.1 | 0.0 | 0.1 | |
| timesplit | 0.09 | 0.00 | 0.09 | |
| top | 0 | 0 | 0 | |
| top_taxa | 0.00 | 0.02 | 0.01 | |
| transform | 0.27 | 0.00 | 0.47 | |
| ztransform | 0 | 0 | 0 | |