| Back to Build/check report for BioC 3.17 |
|
This page was generated on 2023-01-02 09:00:34 -0500 (Mon, 02 Jan 2023).
| Hostname | OS | Arch (*) | R version | Installed pkgs |
|---|---|---|---|---|
| palomino5 | Windows Server 2022 Datacenter | x64 | R Under development (unstable) (2022-12-25 r83502 ucrt) -- "Unsuffered Consequences" | 4165 |
| Click on any hostname to see more info about the system (e.g. compilers) (*) as reported by 'uname -p', except on Windows and Mac OS X | ||||
|
To the developers/maintainers of the impute package: Make sure to use the following settings in order to reproduce any error or warning you see on this page. |
| Package 956/2158 | Hostname | OS / Arch | INSTALL | BUILD | CHECK | BUILD BIN | ||||||||
| impute 1.73.0 (landing page) Balasubramanian Narasimhan
| palomino5 | Windows Server 2022 Datacenter / x64 | OK | OK | OK | OK | ||||||||
| Package: impute |
| Version: 1.73.0 |
| Command: F:\biocbuild\bbs-3.17-bioc\R\bin\R.exe CMD check --no-multiarch --install=check:impute.install-out.txt --library=F:\biocbuild\bbs-3.17-bioc\R\library --no-vignettes --timings impute_1.73.0.tar.gz |
| StartedAt: 2022-12-29 00:39:50 -0500 (Thu, 29 Dec 2022) |
| EndedAt: 2022-12-29 00:40:17 -0500 (Thu, 29 Dec 2022) |
| EllapsedTime: 26.2 seconds |
| RetCode: 0 |
| Status: OK |
| CheckDir: impute.Rcheck |
| Warnings: 0 |
##############################################################################
##############################################################################
###
### Running command:
###
### F:\biocbuild\bbs-3.17-bioc\R\bin\R.exe CMD check --no-multiarch --install=check:impute.install-out.txt --library=F:\biocbuild\bbs-3.17-bioc\R\library --no-vignettes --timings impute_1.73.0.tar.gz
###
##############################################################################
##############################################################################
* using log directory 'F:/biocbuild/bbs-3.17-bioc-rtools43/meat/impute.Rcheck'
* using R Under development (unstable) (2022-12-25 r83502 ucrt)
* using platform: x86_64-w64-mingw32 (64-bit)
* R was compiled by
gcc.exe (GCC) 10.4.0
GNU Fortran (GCC) 10.4.0
* running under: Windows Server x64 (build 20348)
* using session charset: UTF-8
* using option '--no-vignettes'
* checking for file 'impute/DESCRIPTION' ... OK
* this is package 'impute' version '1.73.0'
* checking package namespace information ... OK
* checking package dependencies ... OK
* checking if this is a source package ... OK
* checking if there is a namespace ... OK
* checking for hidden files and directories ... OK
* checking for portable file names ... OK
* checking whether package 'impute' can be installed ... OK
* checking installed package size ... OK
* checking package directory ... OK
* checking DESCRIPTION meta-information ... NOTE
Malformed Description field: should contain one or more complete sentences.
* checking top-level files ... OK
* checking for left-over files ... OK
* checking index information ... OK
* checking package subdirectories ... OK
* checking R files for non-ASCII characters ... OK
* checking R files for syntax errors ... OK
* checking whether the package can be loaded ... OK
* checking whether the package can be loaded with stated dependencies ... OK
* checking whether the package can be unloaded cleanly ... OK
* checking whether the namespace can be loaded with stated dependencies ... OK
* checking whether the namespace can be unloaded cleanly ... OK
* checking dependencies in R code ... OK
* checking S3 generic/method consistency ... OK
* checking replacement functions ... OK
* checking foreign function calls ... OK
* checking R code for possible problems ... OK
* checking Rd files ... OK
* checking Rd metadata ... OK
* checking Rd cross-references ... OK
* checking for missing documentation entries ... OK
* checking for code/documentation mismatches ... OK
* checking Rd \usage sections ... OK
* checking Rd contents ... OK
* checking for unstated dependencies in examples ... OK
* checking contents of 'data' directory ... OK
* checking data for non-ASCII characters ... OK
* checking data for ASCII and uncompressed saves ... OK
* checking line endings in C/C++/Fortran sources/headers ... OK
* checking compiled code ... NOTE
Note: information on .o files for x64 is not available
File 'F:/biocbuild/bbs-3.17-bioc/R/library/impute/libs/x64/impute.dll':
Found 'abort', possibly from 'abort' (C), 'runtime' (Fortran)
Compiled code should not call entry points which might terminate R nor
write to stdout/stderr instead of to the console, nor use Fortran I/O
nor system RNGs nor [v]sprintf. The detected symbols are linked into
the code but might come from libraries and not actually be called.
See 'Writing portable packages' in the 'Writing R Extensions' manual.
* checking examples ... OK
* checking PDF version of manual ... OK
* DONE
Status: 2 NOTEs
See
'F:/biocbuild/bbs-3.17-bioc-rtools43/meat/impute.Rcheck/00check.log'
for details.
impute.Rcheck/00install.out
##############################################################################
##############################################################################
###
### Running command:
###
### F:\biocbuild\bbs-3.17-bioc\R\bin\R.exe CMD INSTALL impute
###
##############################################################################
##############################################################################
* installing to library 'F:/biocbuild/bbs-3.17-bioc/R/library'
* installing *source* package 'impute' ...
** using staged installation
** libs
using Fortran compiler: 'GNU Fortran (GCC) 12.2.0'
gfortran -O2 -mfpmath=sse -msse2 -mstackrealign -c knnimpute.f -o knnimpute.o
knnimpute.f:99:72:
99 | 20 pos(k1+1) = pos(k1)
| 1
Warning: Fortran 2018 deleted feature: DO termination statement which is not END DO or CONTINUE with label 20 at (1)
knnimpute.f:113:72:
113 | 35 pos(k1+1) = pos(k1)
| 1
Warning: Fortran 2018 deleted feature: DO termination statement which is not END DO or CONTINUE with label 35 at (1)
gcc -shared -s -static-libgcc -o impute.dll tmp.def knnimpute.o -Lc:/rtools42/x86_64-w64-mingw32.static.posix/lib/x64 -Lc:/rtools42/x86_64-w64-mingw32.static.posix/lib -lgfortran -lm -lquadmath -LF:/biocbuild/bbs-3.17-bioc/R/bin/x64 -lR
installing to F:/biocbuild/bbs-3.17-bioc/R/library/00LOCK-impute/00new/impute/libs/x64
** R
** data
** byte-compile and prepare package for lazy loading
** help
*** installing help indices
** building package indices
** testing if installed package can be loaded from temporary location
** testing if installed package can be loaded from final location
** testing if installed package keeps a record of temporary installation path
* DONE (impute)
impute.Rcheck/impute-Ex.timings
| name | user | system | elapsed | |
| impute.knn | 0.50 | 0.01 | 0.52 | |
| khanmiss | 0.18 | 0.00 | 0.19 | |