| Back to Build/check report for BioC 3.17 |
|
This page was generated on 2023-01-02 09:00:34 -0500 (Mon, 02 Jan 2023).
| Hostname | OS | Arch (*) | R version | Installed pkgs |
|---|---|---|---|---|
| palomino5 | Windows Server 2022 Datacenter | x64 | R Under development (unstable) (2022-12-25 r83502 ucrt) -- "Unsuffered Consequences" | 4165 |
| Click on any hostname to see more info about the system (e.g. compilers) (*) as reported by 'uname -p', except on Windows and Mac OS X | ||||
|
To the developers/maintainers of the immunotation package: Make sure to use the following settings in order to reproduce any error or warning you see on this page. |
| Package 954/2158 | Hostname | OS / Arch | INSTALL | BUILD | CHECK | BUILD BIN | ||||||||
| immunotation 1.7.0 (landing page) Katharina Imkeller
| palomino5 | Windows Server 2022 Datacenter / x64 | OK | OK | OK | OK | ||||||||
| Package: immunotation |
| Version: 1.7.0 |
| Command: F:\biocbuild\bbs-3.17-bioc\R\bin\R.exe CMD check --no-multiarch --install=check:immunotation.install-out.txt --library=F:\biocbuild\bbs-3.17-bioc\R\library --no-vignettes --timings immunotation_1.7.0.tar.gz |
| StartedAt: 2022-12-29 00:39:10 -0500 (Thu, 29 Dec 2022) |
| EndedAt: 2022-12-29 00:41:30 -0500 (Thu, 29 Dec 2022) |
| EllapsedTime: 140.0 seconds |
| RetCode: 0 |
| Status: OK |
| CheckDir: immunotation.Rcheck |
| Warnings: 0 |
##############################################################################
##############################################################################
###
### Running command:
###
### F:\biocbuild\bbs-3.17-bioc\R\bin\R.exe CMD check --no-multiarch --install=check:immunotation.install-out.txt --library=F:\biocbuild\bbs-3.17-bioc\R\library --no-vignettes --timings immunotation_1.7.0.tar.gz
###
##############################################################################
##############################################################################
* using log directory 'F:/biocbuild/bbs-3.17-bioc-rtools43/meat/immunotation.Rcheck'
* using R Under development (unstable) (2022-12-25 r83502 ucrt)
* using platform: x86_64-w64-mingw32 (64-bit)
* R was compiled by
gcc.exe (GCC) 10.4.0
GNU Fortran (GCC) 10.4.0
* running under: Windows Server x64 (build 20348)
* using session charset: UTF-8
* using option '--no-vignettes'
* checking for file 'immunotation/DESCRIPTION' ... OK
* checking extension type ... Package
* this is package 'immunotation' version '1.7.0'
* package encoding: UTF-8
* checking package namespace information ... OK
* checking package dependencies ... OK
* checking if this is a source package ... OK
* checking if there is a namespace ... OK
* checking for hidden files and directories ... OK
* checking for portable file names ... OK
* checking whether package 'immunotation' can be installed ... OK
* checking installed package size ... NOTE
installed size is 6.2Mb
sub-directories of 1Mb or more:
R 3.9Mb
extdata 2.2Mb
* checking package directory ... OK
* checking 'build' directory ... OK
* checking DESCRIPTION meta-information ... OK
* checking top-level files ... OK
* checking for left-over files ... OK
* checking index information ... OK
* checking package subdirectories ... OK
* checking R files for non-ASCII characters ... OK
* checking R files for syntax errors ... OK
* checking whether the package can be loaded ... OK
* checking whether the package can be loaded with stated dependencies ... OK
* checking whether the package can be unloaded cleanly ... OK
* checking whether the namespace can be loaded with stated dependencies ... OK
* checking whether the namespace can be unloaded cleanly ... OK
* checking dependencies in R code ... OK
* checking S3 generic/method consistency ... OK
* checking replacement functions ... OK
* checking foreign function calls ... OK
* checking R code for possible problems ... OK
* checking Rd files ... OK
* checking Rd metadata ... OK
* checking Rd cross-references ... OK
* checking for missing documentation entries ... OK
* checking for code/documentation mismatches ... OK
* checking Rd \usage sections ... OK
* checking Rd contents ... OK
* checking for unstated dependencies in examples ... OK
* checking files in 'vignettes' ... OK
* checking examples ... OK
Examples with CPU (user + system) or elapsed time > 5s
user system elapsed
plot_allele_frequency 1.93 0.25 8.39
query_haplotype_frequencies 0.54 0.05 10.99
* checking for unstated dependencies in 'tests' ... OK
* checking tests ...
Running 'testthat.R'
OK
* checking for unstated dependencies in vignettes ... OK
* checking package vignettes in 'inst/doc' ... OK
* checking running R code from vignettes ... SKIPPED
* checking re-building of vignette outputs ... SKIPPED
* checking PDF version of manual ... OK
* DONE
Status: 1 NOTE
See
'F:/biocbuild/bbs-3.17-bioc-rtools43/meat/immunotation.Rcheck/00check.log'
for details.
immunotation.Rcheck/00install.out
############################################################################## ############################################################################## ### ### Running command: ### ### F:\biocbuild\bbs-3.17-bioc\R\bin\R.exe CMD INSTALL immunotation ### ############################################################################## ############################################################################## * installing to library 'F:/biocbuild/bbs-3.17-bioc/R/library' * installing *source* package 'immunotation' ... ** using staged installation ** R ** inst ** byte-compile and prepare package for lazy loading ** help *** installing help indices ** building package indices ** installing vignettes ** testing if installed package can be loaded from temporary location ** testing if installed package can be loaded from final location ** testing if installed package keeps a record of temporary installation path * DONE (immunotation)
immunotation.Rcheck/tests/testthat.Rout
R Under development (unstable) (2022-12-25 r83502 ucrt) -- "Unsuffered Consequences"
Copyright (C) 2022 The R Foundation for Statistical Computing
Platform: x86_64-w64-mingw32/x64 (64-bit)
R is free software and comes with ABSOLUTELY NO WARRANTY.
You are welcome to redistribute it under certain conditions.
Type 'license()' or 'licence()' for distribution details.
R is a collaborative project with many contributors.
Type 'contributors()' for more information and
'citation()' on how to cite R or R packages in publications.
Type 'demo()' for some demos, 'help()' for on-line help, or
'help.start()' for an HTML browser interface to help.
Type 'q()' to quit R.
> library(testthat)
> library(immunotation)
>
> test_check("immunotation")
[ FAIL 0 | WARN 0 | SKIP 0 | PASS 146 ]
>
>
> proc.time()
user system elapsed
47.68 2.70 78.65
immunotation.Rcheck/immunotation-Ex.timings
| name | user | system | elapsed | |
| assemble_protein_complex | 2.00 | 0.19 | 2.20 | |
| build_allele_group | 1.07 | 0.01 | 1.09 | |
| decode_MAC | 0.08 | 0.05 | 0.18 | |
| encode_MAC | 0.00 | 0.00 | 0.09 | |
| get_G_group | 0 | 0 | 0 | |
| get_P_group | 0 | 0 | 0 | |
| get_mhcpan_input | 0 | 0 | 0 | |
| get_serotypes | 0.01 | 0.00 | 0.02 | |
| get_valid_organisms | 0 | 0 | 0 | |
| human_protein_complex_table | 1.14 | 0.25 | 1.39 | |
| plot_allele_frequency | 1.93 | 0.25 | 8.39 | |
| query_allele_frequencies | 0.11 | 0.00 | 1.14 | |
| query_haplotype_frequencies | 0.54 | 0.05 | 10.99 | |
| query_population_detail | 0.02 | 0.00 | 0.23 | |
| retrieve_chain_lookup_table | 1.04 | 0.00 | 1.05 | |