| Back to Build/check report for BioC 3.17 |
|
This page was generated on 2023-01-02 09:00:30 -0500 (Mon, 02 Jan 2023).
| Hostname | OS | Arch (*) | R version | Installed pkgs |
|---|---|---|---|---|
| palomino5 | Windows Server 2022 Datacenter | x64 | R Under development (unstable) (2022-12-25 r83502 ucrt) -- "Unsuffered Consequences" | 4165 |
| Click on any hostname to see more info about the system (e.g. compilers) (*) as reported by 'uname -p', except on Windows and Mac OS X | ||||
|
To the developers/maintainers of the genefu package: Make sure to use the following settings in order to reproduce any error or warning you see on this page. |
| Package 744/2158 | Hostname | OS / Arch | INSTALL | BUILD | CHECK | BUILD BIN | ||||||||
| genefu 2.31.0 (landing page) Benjamin Haibe-Kains
| palomino5 | Windows Server 2022 Datacenter / x64 | OK | OK | OK | OK | ||||||||
| Package: genefu |
| Version: 2.31.0 |
| Command: F:\biocbuild\bbs-3.17-bioc\R\bin\R.exe CMD check --no-multiarch --install=check:genefu.install-out.txt --library=F:\biocbuild\bbs-3.17-bioc\R\library --no-vignettes --timings genefu_2.31.0.tar.gz |
| StartedAt: 2022-12-29 00:01:04 -0500 (Thu, 29 Dec 2022) |
| EndedAt: 2022-12-29 00:03:33 -0500 (Thu, 29 Dec 2022) |
| EllapsedTime: 149.2 seconds |
| RetCode: 0 |
| Status: OK |
| CheckDir: genefu.Rcheck |
| Warnings: 0 |
##############################################################################
##############################################################################
###
### Running command:
###
### F:\biocbuild\bbs-3.17-bioc\R\bin\R.exe CMD check --no-multiarch --install=check:genefu.install-out.txt --library=F:\biocbuild\bbs-3.17-bioc\R\library --no-vignettes --timings genefu_2.31.0.tar.gz
###
##############################################################################
##############################################################################
* using log directory 'F:/biocbuild/bbs-3.17-bioc-rtools43/meat/genefu.Rcheck'
* using R Under development (unstable) (2022-12-25 r83502 ucrt)
* using platform: x86_64-w64-mingw32 (64-bit)
* R was compiled by
gcc.exe (GCC) 10.4.0
GNU Fortran (GCC) 10.4.0
* running under: Windows Server x64 (build 20348)
* using session charset: UTF-8
* using option '--no-vignettes'
* checking for file 'genefu/DESCRIPTION' ... OK
* checking extension type ... Package
* this is package 'genefu' version '2.31.0'
* package encoding: UTF-8
* checking package namespace information ... OK
* checking package dependencies ... OK
* checking if this is a source package ... OK
* checking if there is a namespace ... OK
* checking for hidden files and directories ... OK
* checking for portable file names ... OK
* checking whether package 'genefu' can be installed ... OK
* checking installed package size ... NOTE
installed size is 5.2Mb
sub-directories of 1Mb or more:
data 4.0Mb
* checking package directory ... OK
* checking 'build' directory ... OK
* checking DESCRIPTION meta-information ... OK
* checking top-level files ... OK
* checking for left-over files ... OK
* checking index information ... OK
* checking package subdirectories ... OK
* checking R files for non-ASCII characters ... OK
* checking R files for syntax errors ... OK
* checking whether the package can be loaded ... OK
* checking whether the package can be loaded with stated dependencies ... OK
* checking whether the package can be unloaded cleanly ... OK
* checking whether the namespace can be loaded with stated dependencies ... OK
* checking whether the namespace can be unloaded cleanly ... OK
* checking dependencies in R code ... NOTE
Packages in Depends field not imported from:
'AIMS' 'biomaRt' 'iC10'
These packages need to be imported from (in the NAMESPACE file)
for when this namespace is loaded but not attached.
Unexported objects imported by ':::' calls:
'mclust:::grid1' 'mclust:::grid2'
See the note in ?`:::` about the use of this operator.
* checking S3 generic/method consistency ... OK
* checking replacement functions ... OK
* checking foreign function calls ... OK
* checking R code for possible problems ... OK
* checking Rd files ... OK
* checking Rd metadata ... OK
* checking Rd cross-references ... OK
* checking for missing documentation entries ... OK
* checking for code/documentation mismatches ... OK
* checking Rd \usage sections ... OK
* checking Rd contents ... OK
* checking for unstated dependencies in examples ... OK
* checking contents of 'data' directory ... OK
* checking data for non-ASCII characters ... OK
* checking data for ASCII and uncompressed saves ... OK
* checking files in 'vignettes' ... OK
* checking examples ... OK
* checking for unstated dependencies in vignettes ... OK
* checking package vignettes in 'inst/doc' ... OK
* checking running R code from vignettes ... SKIPPED
* checking re-building of vignette outputs ... SKIPPED
* checking PDF version of manual ... OK
* DONE
Status: 2 NOTEs
See
'F:/biocbuild/bbs-3.17-bioc-rtools43/meat/genefu.Rcheck/00check.log'
for details.
genefu.Rcheck/00install.out
############################################################################## ############################################################################## ### ### Running command: ### ### F:\biocbuild\bbs-3.17-bioc\R\bin\R.exe CMD INSTALL genefu ### ############################################################################## ############################################################################## * installing to library 'F:/biocbuild/bbs-3.17-bioc/R/library' * installing *source* package 'genefu' ... ** using staged installation ** R ** data ** inst ** byte-compile and prepare package for lazy loading ** help *** installing help indices ** building package indices ** installing vignettes ** testing if installed package can be loaded from temporary location ** testing if installed package can be loaded from final location ** testing if installed package keeps a record of temporary installation path * DONE (genefu)
genefu.Rcheck/genefu-Ex.timings
| name | user | system | elapsed | |
| bimod | 0.25 | 0.01 | 0.27 | |
| boxplotplus2 | 0 | 0 | 0 | |
| claudinLow | 0.89 | 0.02 | 0.91 | |
| compareProtoCor | 0.98 | 0.00 | 0.98 | |
| compute.pairw.cor.meta | 1.13 | 0.03 | 1.16 | |
| compute.proto.cor.meta | 0.92 | 0.03 | 0.95 | |
| cordiff.dep | 0.09 | 0.00 | 0.10 | |
| endoPredict | 0.08 | 0.01 | 0.09 | |
| fuzzy.ttest | 0.11 | 0.00 | 0.11 | |
| gene70 | 0.22 | 0.02 | 0.24 | |
| gene76 | 0.11 | 0.02 | 0.12 | |
| geneid.map | 0.11 | 0.00 | 0.11 | |
| genius | 0.14 | 0.04 | 0.19 | |
| ggi | 0.09 | 0.02 | 0.11 | |
| ihc4 | 0.11 | 0.01 | 0.12 | |
| intrinsic.cluster | 0.33 | 0.02 | 0.36 | |
| intrinsic.cluster.predict | 0.13 | 0.02 | 0.14 | |
| map.datasets | 0.90 | 0.00 | 0.91 | |
| molecular.subtyping | 2.14 | 0.15 | 2.34 | |
| npi | 0.11 | 0.00 | 0.11 | |
| oncotypedx | 0.14 | 0.00 | 0.14 | |
| ovcAngiogenic | 0.10 | 0.02 | 0.11 | |
| ovcCrijns | 0.11 | 0.01 | 0.13 | |
| ovcTCGA | 0.18 | 0.02 | 0.20 | |
| ovcYoshihara | 0.10 | 0.01 | 0.11 | |
| pik3cags | 0.12 | 0.00 | 0.12 | |
| power.cor | 0 | 0 | 0 | |
| ps.cluster | 0.28 | 0.00 | 0.28 | |
| read.m.file | 0.02 | 0.00 | 0.02 | |
| rename.duplicate | 0.01 | 0.00 | 0.02 | |
| rescale | 0.21 | 0.00 | 0.20 | |
| rorS | 0.14 | 0.02 | 0.16 | |
| setcolclass.df | 0 | 0 | 0 | |
| sig.score | 0.12 | 0.02 | 0.14 | |
| spearmanCI | 0 | 0 | 0 | |
| st.gallen | 0.10 | 0.00 | 0.09 | |
| stab.fs | 0.09 | 0.00 | 0.09 | |
| stab.fs.ranking | 0.56 | 0.01 | 0.58 | |
| strescR | 0 | 0 | 0 | |
| subtype.cluster | 0.58 | 0.02 | 0.60 | |
| subtype.cluster.predict | 0.24 | 0.03 | 0.26 | |
| tamr13 | 0.11 | 0.01 | 0.13 | |
| tbrm | 0 | 0 | 0 | |
| weighted.meanvar | 0 | 0 | 0 | |
| write.m.file | 0.00 | 0.02 | 0.01 | |