| Back to Build/check report for BioC 3.17 |
|
This page was generated on 2023-01-02 09:00:29 -0500 (Mon, 02 Jan 2023).
| Hostname | OS | Arch (*) | R version | Installed pkgs |
|---|---|---|---|---|
| palomino5 | Windows Server 2022 Datacenter | x64 | R Under development (unstable) (2022-12-25 r83502 ucrt) -- "Unsuffered Consequences" | 4165 |
| Click on any hostname to see more info about the system (e.g. compilers) (*) as reported by 'uname -p', except on Windows and Mac OS X | ||||
|
To the developers/maintainers of the flowCHIC package: Make sure to use the following settings in order to reproduce any error or warning you see on this page. |
| Package 677/2158 | Hostname | OS / Arch | INSTALL | BUILD | CHECK | BUILD BIN | ||||||||
| flowCHIC 1.33.0 (landing page) Author: Joachim Schumann
| palomino5 | Windows Server 2022 Datacenter / x64 | OK | OK | OK | OK | ||||||||
| Package: flowCHIC |
| Version: 1.33.0 |
| Command: F:\biocbuild\bbs-3.17-bioc\R\bin\R.exe CMD check --no-multiarch --install=check:flowCHIC.install-out.txt --library=F:\biocbuild\bbs-3.17-bioc\R\library --no-vignettes --timings flowCHIC_1.33.0.tar.gz |
| StartedAt: 2022-12-28 23:50:00 -0500 (Wed, 28 Dec 2022) |
| EndedAt: 2022-12-28 23:51:45 -0500 (Wed, 28 Dec 2022) |
| EllapsedTime: 105.5 seconds |
| RetCode: 0 |
| Status: OK |
| CheckDir: flowCHIC.Rcheck |
| Warnings: 0 |
##############################################################################
##############################################################################
###
### Running command:
###
### F:\biocbuild\bbs-3.17-bioc\R\bin\R.exe CMD check --no-multiarch --install=check:flowCHIC.install-out.txt --library=F:\biocbuild\bbs-3.17-bioc\R\library --no-vignettes --timings flowCHIC_1.33.0.tar.gz
###
##############################################################################
##############################################################################
* using log directory 'F:/biocbuild/bbs-3.17-bioc-rtools43/meat/flowCHIC.Rcheck'
* using R Under development (unstable) (2022-12-25 r83502 ucrt)
* using platform: x86_64-w64-mingw32 (64-bit)
* R was compiled by
gcc.exe (GCC) 10.4.0
GNU Fortran (GCC) 10.4.0
* running under: Windows Server x64 (build 20348)
* using session charset: UTF-8
* using option '--no-vignettes'
* checking for file 'flowCHIC/DESCRIPTION' ... OK
* checking extension type ... Package
* this is package 'flowCHIC' version '1.33.0'
* package encoding: UTF-8
* checking package namespace information ... OK
* checking package dependencies ... OK
* checking if this is a source package ... OK
* checking if there is a namespace ... OK
* checking for hidden files and directories ... OK
* checking for portable file names ... OK
* checking whether package 'flowCHIC' can be installed ... OK
* checking installed package size ... NOTE
installed size is 5.9Mb
sub-directories of 1Mb or more:
extdata 5.7Mb
* checking package directory ... OK
* checking 'build' directory ... OK
* checking DESCRIPTION meta-information ... NOTE
Malformed Description field: should contain one or more complete sentences.
* checking top-level files ... OK
* checking for left-over files ... OK
* checking index information ... OK
* checking package subdirectories ... OK
* checking R files for non-ASCII characters ... OK
* checking R files for syntax errors ... OK
* checking whether the package can be loaded ... OK
* checking whether the package can be loaded with stated dependencies ... OK
* checking whether the package can be unloaded cleanly ... OK
* checking whether the namespace can be loaded with stated dependencies ... OK
* checking whether the namespace can be unloaded cleanly ... OK
* checking dependencies in R code ... OK
* checking S3 generic/method consistency ... OK
* checking replacement functions ... OK
* checking foreign function calls ... OK
* checking R code for possible problems ... NOTE
fcs_to_img,character: warning in hexbin(x, y, xbin = 128): partial
argument match of 'xbin' to 'xbins'
img_sub,character: warning in hexbin(x, y, xbin = xbin): partial
argument match of 'xbin' to 'xbins'
fcs_to_img,character: no visible global function definition for 'png'
fcs_to_img,character: no visible binding for global variable 'count'
fcs_to_img,character: no visible global function definition for
'dev.off'
img_sub,character: no visible global function definition for 'png'
img_sub,character: no visible binding for global variable 'count'
img_sub,character: no visible global function definition for 'dev.off'
plot_nmds,data.frame-data.frame: no visible global function definition
for 'as.dist'
plot_nmds,data.frame-data.frame: no visible global function definition
for 'par'
plot_nmds,data.frame-data.frame: no visible global function definition
for 'hclust'
plot_nmds,data.frame-data.frame: no visible global function definition
for 'points'
plot_nmds,data.frame-data.frame: no visible global function definition
for 'text'
plot_nmds,data.frame-data.frame: no visible global function definition
for 'legend'
Undefined global functions or variables:
as.dist count dev.off hclust legend par png points text
Consider adding
importFrom("grDevices", "dev.off", "png")
importFrom("graphics", "legend", "par", "points", "text")
importFrom("stats", "as.dist", "hclust")
to your NAMESPACE file.
* checking Rd files ... OK
* checking Rd metadata ... OK
* checking Rd cross-references ... OK
* checking for missing documentation entries ... OK
* checking for code/documentation mismatches ... OK
* checking Rd \usage sections ... OK
* checking Rd contents ... OK
* checking for unstated dependencies in examples ... OK
* checking contents of 'data' directory ... OK
* checking data for non-ASCII characters ... OK
* checking data for ASCII and uncompressed saves ... OK
* checking sizes of PDF files under 'inst/doc' ... OK
* checking files in 'vignettes' ... OK
* checking examples ... OK
Examples with CPU (user + system) or elapsed time > 5s
user system elapsed
calculate_overlaps_xor 6.79 2.65 9.58
plot_nmds 3.80 1.62 5.45
* checking for unstated dependencies in vignettes ... OK
* checking package vignettes in 'inst/doc' ... OK
* checking running R code from vignettes ... SKIPPED
* checking re-building of vignette outputs ... SKIPPED
* checking PDF version of manual ... OK
* DONE
Status: 3 NOTEs
See
'F:/biocbuild/bbs-3.17-bioc-rtools43/meat/flowCHIC.Rcheck/00check.log'
for details.
flowCHIC.Rcheck/00install.out
############################################################################## ############################################################################## ### ### Running command: ### ### F:\biocbuild\bbs-3.17-bioc\R\bin\R.exe CMD INSTALL flowCHIC ### ############################################################################## ############################################################################## * installing to library 'F:/biocbuild/bbs-3.17-bioc/R/library' * installing *source* package 'flowCHIC' ... ** using staged installation ** R ** data ** inst ** byte-compile and prepare package for lazy loading ** help *** installing help indices ** building package indices ** installing vignettes ** testing if installed package can be loaded from temporary location ** testing if installed package can be loaded from final location ** testing if installed package keeps a record of temporary installation path * DONE (flowCHIC)
flowCHIC.Rcheck/flowCHIC-Ex.timings
| name | user | system | elapsed | |
| calculate_overlaps_xor | 6.79 | 2.65 | 9.58 | |
| fcs_to_img | 0.80 | 0.65 | 1.45 | |
| img_sub | 1.98 | 0.77 | 2.75 | |
| plot_nmds | 3.80 | 1.62 | 5.45 | |