| Back to Build/check report for BioC 3.17 |
|
This page was generated on 2023-01-02 09:00:26 -0500 (Mon, 02 Jan 2023).
| Hostname | OS | Arch (*) | R version | Installed pkgs |
|---|---|---|---|---|
| palomino5 | Windows Server 2022 Datacenter | x64 | R Under development (unstable) (2022-12-25 r83502 ucrt) -- "Unsuffered Consequences" | 4165 |
| Click on any hostname to see more info about the system (e.g. compilers) (*) as reported by 'uname -p', except on Windows and Mac OS X | ||||
|
To the developers/maintainers of the decoupleR package: Make sure to use the following settings in order to reproduce any error or warning you see on this page. |
| Package 483/2158 | Hostname | OS / Arch | INSTALL | BUILD | CHECK | BUILD BIN | ||||||||
| decoupleR 2.5.0 (landing page) Pau Badia-i-Mompel
| palomino5 | Windows Server 2022 Datacenter / x64 | OK | OK | OK | OK | ||||||||
| Package: decoupleR |
| Version: 2.5.0 |
| Command: F:\biocbuild\bbs-3.17-bioc\R\bin\R.exe CMD check --no-multiarch --install=check:decoupleR.install-out.txt --library=F:\biocbuild\bbs-3.17-bioc\R\library --no-vignettes --timings decoupleR_2.5.0.tar.gz |
| StartedAt: 2022-12-28 23:03:59 -0500 (Wed, 28 Dec 2022) |
| EndedAt: 2022-12-28 23:10:08 -0500 (Wed, 28 Dec 2022) |
| EllapsedTime: 368.9 seconds |
| RetCode: 0 |
| Status: OK |
| CheckDir: decoupleR.Rcheck |
| Warnings: 0 |
##############################################################################
##############################################################################
###
### Running command:
###
### F:\biocbuild\bbs-3.17-bioc\R\bin\R.exe CMD check --no-multiarch --install=check:decoupleR.install-out.txt --library=F:\biocbuild\bbs-3.17-bioc\R\library --no-vignettes --timings decoupleR_2.5.0.tar.gz
###
##############################################################################
##############################################################################
* using log directory 'F:/biocbuild/bbs-3.17-bioc-rtools43/meat/decoupleR.Rcheck'
* using R Under development (unstable) (2022-12-25 r83502 ucrt)
* using platform: x86_64-w64-mingw32 (64-bit)
* R was compiled by
gcc.exe (GCC) 10.4.0
GNU Fortran (GCC) 10.4.0
* running under: Windows Server x64 (build 20348)
* using session charset: UTF-8
* using option '--no-vignettes'
* checking for file 'decoupleR/DESCRIPTION' ... OK
* checking extension type ... Package
* this is package 'decoupleR' version '2.5.0'
* package encoding: UTF-8
* checking package namespace information ... OK
* checking package dependencies ... OK
* checking if this is a source package ... OK
* checking if there is a namespace ... OK
* checking for hidden files and directories ... OK
* checking for portable file names ... OK
* checking whether package 'decoupleR' can be installed ... OK
* checking installed package size ... OK
* checking package directory ... OK
* checking 'build' directory ... OK
* checking DESCRIPTION meta-information ... OK
* checking top-level files ... OK
* checking for left-over files ... OK
* checking index information ... OK
* checking package subdirectories ... OK
* checking R files for non-ASCII characters ... OK
* checking R files for syntax errors ... OK
* checking whether the package can be loaded ... OK
* checking whether the package can be loaded with stated dependencies ... OK
* checking whether the package can be unloaded cleanly ... OK
* checking whether the namespace can be loaded with stated dependencies ... OK
* checking whether the namespace can be unloaded cleanly ... OK
* checking dependencies in R code ... NOTE
[2022-12-28 23:04:24] [INFO] [OmnipathR] Initialized cache: `C:\Users\biocbuild\AppData\Local\Cache\OmnipathR`.
[2022-12-28 23:04:24] [TRACE] [OmnipathR] Running on a build server, wiping cache.
[2022-12-28 23:04:24] [TRACE] [OmnipathR] Cache is at `C:\Users\biocbuild\AppData\Local\Cache\OmnipathR`.
[2022-12-28 23:04:24] [TRACE] [OmnipathR] Contains 6 files.
[2022-12-28 23:04:25] [TRACE] [OmnipathR] Cache is locked: FALSE.
[2022-12-28 23:04:25] [SUCCESS] [OmnipathR] Removing all cache contents from `C:\Users\biocbuild\AppData\Local\Cache\OmnipathR`.
[2022-12-28 23:04:25] [TRACE] [OmnipathR] Pandoc version: `2.7.3`.
[2022-12-28 23:04:25] [TRACE] [OmnipathR] Cache locked: FALSE
* checking S3 generic/method consistency ... OK
* checking replacement functions ... OK
* checking foreign function calls ... OK
* checking R code for possible problems ... OK
* checking Rd files ... OK
* checking Rd metadata ... OK
* checking Rd cross-references ... OK
* checking for missing documentation entries ... OK
* checking for code/documentation mismatches ... OK
* checking Rd \usage sections ... OK
* checking Rd contents ... OK
* checking for unstated dependencies in examples ... OK
* checking files in 'vignettes' ... OK
* checking examples ... OK
Examples with CPU (user + system) or elapsed time > 5s
user system elapsed
get_dorothea 18.91 0.46 19.94
run_fgsea 14.90 0.06 14.95
get_progeny 5.97 0.24 7.91
run_aucell 5.40 0.35 5.76
* checking for unstated dependencies in 'tests' ... OK
* checking tests ...
Running 'testthat.R'
OK
* checking for unstated dependencies in vignettes ... OK
* checking package vignettes in 'inst/doc' ... OK
* checking running R code from vignettes ... SKIPPED
* checking re-building of vignette outputs ... SKIPPED
* checking PDF version of manual ... OK
* DONE
Status: 1 NOTE
See
'F:/biocbuild/bbs-3.17-bioc-rtools43/meat/decoupleR.Rcheck/00check.log'
for details.
decoupleR.Rcheck/00install.out
############################################################################## ############################################################################## ### ### Running command: ### ### F:\biocbuild\bbs-3.17-bioc\R\bin\R.exe CMD INSTALL decoupleR ### ############################################################################## ############################################################################## * installing to library 'F:/biocbuild/bbs-3.17-bioc/R/library' * installing *source* package 'decoupleR' ... ** using staged installation ** R ** inst ** byte-compile and prepare package for lazy loading ** help *** installing help indices *** copying figures ** building package indices ** installing vignettes ** testing if installed package can be loaded from temporary location ** testing if installed package can be loaded from final location ** testing if installed package keeps a record of temporary installation path * DONE (decoupleR)
decoupleR.Rcheck/tests/testthat.Rout
R Under development (unstable) (2022-12-25 r83502 ucrt) -- "Unsuffered Consequences"
Copyright (C) 2022 The R Foundation for Statistical Computing
Platform: x86_64-w64-mingw32/x64 (64-bit)
R is free software and comes with ABSOLUTELY NO WARRANTY.
You are welcome to redistribute it under certain conditions.
Type 'license()' or 'licence()' for distribution details.
R is a collaborative project with many contributors.
Type 'contributors()' for more information and
'citation()' on how to cite R or R packages in publications.
Type 'demo()' for some demos, 'help()' for on-line help, or
'help.start()' for an HTML browser interface to help.
Type 'q()' to quit R.
> library(testthat)
> library(decoupleR)
>
> test_check("decoupleR")
|
| | 0%
|
|======================================================================| 100%
|
| | 0%
|
|======================================================================| 100%
|
| | 0%
|
|======================================================================| 100%
|
| | 0%
|
|======================================================================| 100%
|
| | 0%
|
|======================================================================| 100%
|
| | 0%
|
|======================================================================| 100%
|
| | 0%
|
|======================================================================| 100%
|
| | 0%
|
|======================================================================| 100%
|
| | 0%
|
|======================================================================| 100%
|
| | 0%
|
|======================================================================| 100%
|
| | 0%
|
|======================================================================| 100%
|
| | 0%
|
|======================================================================| 100%
|
| | 0%
|
|=================================== | 50%
|
|======================================================================| 100%
|
| | 0%
|
|=================================== | 50%
|
|======================================================================| 100%
|
| | 0%
|
|=================================== | 50%
|
|======================================================================| 100%
|
| | 0%
|
|=================================== | 50%
|
|======================================================================| 100%
|
| | 0%
|
|=================================== | 50%
|
|======================================================================| 100%
|
| | 0%
|
|=================================== | 50%
|
|======================================================================| 100%
|
| | 0%
|
|=================================== | 50%
|
|======================================================================| 100%
|
| | 0%
|
|=================================== | 50%
|
|======================================================================| 100%
|
| | 0%
|
|=================================== | 50%
|
|======================================================================| 100%
|
| | 0%
|
|=================================== | 50%
|
|======================================================================| 100%
|
| | 0%
|
|=================================== | 50%
|
|======================================================================| 100%
|
| | 0%
|
|=================================== | 50%
|
|======================================================================| 100%
[2022-12-28 23:08:32] [INFO] [OmnipathR] Initialized cache: `C:\Users\biocbuild\AppData\Local\Cache\OmnipathR`.
[2022-12-28 23:08:32] [TRACE] [OmnipathR] Running on a build server, wiping cache.
[2022-12-28 23:08:32] [TRACE] [OmnipathR] Cache is at `C:\Users\biocbuild\AppData\Local\Cache\OmnipathR`.
[2022-12-28 23:08:32] [TRACE] [OmnipathR] Contains 4 files.
[2022-12-28 23:08:32] [TRACE] [OmnipathR] Cache is locked: FALSE.
[2022-12-28 23:08:32] [SUCCESS] [OmnipathR] Removing all cache contents from `C:\Users\biocbuild\AppData\Local\Cache\OmnipathR`.
[2022-12-28 23:08:32] [TRACE] [OmnipathR] Pandoc version: `2.7.3`.
[2022-12-28 23:08:32] [TRACE] [OmnipathR] Cache locked: FALSE
[2022-12-28 23:08:34] [INFO] [OmnipathR] Cache record does not exist: `https://omnipathdb.org/annotations?resources=TFcensus&license=academic`
[2022-12-28 23:08:34] [INFO] [OmnipathR] Retrieving URL: `https://omnipathdb.org/annotations?resources=TFcensus&license=academic`
[2022-12-28 23:08:34] [TRACE] [OmnipathR] Attempt 1/3: `https://omnipathdb.org/annotations?resources=TFcensus&license=academic`
[2022-12-28 23:08:34] [INFO] [OmnipathR] Cache item `6f000d9b5edd9832b1c28754d1c3d9449c1c7490` version 1: status changed from `unknown` to `started`.
[2022-12-28 23:08:34] [TRACE] [OmnipathR] Exporting object to RDS: `C:\Users\biocbuild\AppData\Local\Cache\OmnipathR/6f000d9b5edd9832b1c28754d1c3d9449c1c7490-1.rds`.
[2022-12-28 23:08:34] [TRACE] [OmnipathR] Exported RDS to `C:\Users\biocbuild\AppData\Local\Cache\OmnipathR/6f000d9b5edd9832b1c28754d1c3d9449c1c7490-1.rds`.
[2022-12-28 23:08:34] [INFO] [OmnipathR] Download ready [key=6f000d9b5edd9832b1c28754d1c3d9449c1c7490, version=1]
[2022-12-28 23:08:34] [INFO] [OmnipathR] Cache item `6f000d9b5edd9832b1c28754d1c3d9449c1c7490` version 1: status changed from `started` to `ready`.
[2022-12-28 23:08:34] [SUCCESS] [OmnipathR] Downloaded 3516 annotation records.
[2022-12-28 23:08:35] [INFO] [OmnipathR] Cache record does not exist: `https://omnipathdb.org/annotations?resources=PROGENy&license=academic`
[2022-12-28 23:08:35] [INFO] [OmnipathR] Retrieving URL: `https://omnipathdb.org/annotations?resources=PROGENy&license=academic`
[2022-12-28 23:08:35] [TRACE] [OmnipathR] Attempt 1/3: `https://omnipathdb.org/annotations?resources=PROGENy&license=academic`
[2022-12-28 23:08:39] [INFO] [OmnipathR] Cache item `3492392585ba05414edfae46801492076437d7e7` version 1: status changed from `unknown` to `started`.
[2022-12-28 23:08:39] [TRACE] [OmnipathR] Exporting object to RDS: `C:\Users\biocbuild\AppData\Local\Cache\OmnipathR/3492392585ba05414edfae46801492076437d7e7-1.rds`.
[2022-12-28 23:08:41] [TRACE] [OmnipathR] Exported RDS to `C:\Users\biocbuild\AppData\Local\Cache\OmnipathR/3492392585ba05414edfae46801492076437d7e7-1.rds`.
[2022-12-28 23:08:41] [INFO] [OmnipathR] Download ready [key=3492392585ba05414edfae46801492076437d7e7, version=1]
[2022-12-28 23:08:41] [INFO] [OmnipathR] Cache item `3492392585ba05414edfae46801492076437d7e7` version 1: status changed from `started` to `ready`.
[2022-12-28 23:08:41] [SUCCESS] [OmnipathR] Downloaded 700257 annotation records.
[2022-12-28 23:08:45] [TRACE] [OmnipathR] Loaded data from RDS `C:\Users\biocbuild\AppData\Local\Cache\OmnipathR/3492392585ba05414edfae46801492076437d7e7-1.rds`.
[2022-12-28 23:08:45] [INFO] [OmnipathR] Loaded from cache: `https://omnipathdb.org/annotations?resources=PROGENy&license=academic`
[2022-12-28 23:08:45] [SUCCESS] [OmnipathR] Loaded 700257 annotation records from cache.
[2022-12-28 23:08:47] [INFO] [OmnipathR] Cache record does not exist: `https://omnipathdb.org/interactions?genesymbols=yes&datasets=dorothea&organisms=9606&dorothea_levels=A,B,C,D&fields=sources,references,curation_effort,dorothea_level&license=academic`
[2022-12-28 23:08:47] [INFO] [OmnipathR] Retrieving URL: `https://omnipathdb.org/interactions?genesymbols=yes&datasets=dorothea&organisms=9606&dorothea_levels=A,B,C,D&fields=sources,references,curation_effort,dorothea_level&license=academic`
[2022-12-28 23:08:47] [TRACE] [OmnipathR] Attempt 1/3: `https://omnipathdb.org/interactions?genesymbols=yes&datasets=dorothea&organisms=9606&dorothea_levels=A,B,C,D&fields=sources,references,curation_effort,dorothea_level&license=academic`
[2022-12-28 23:08:48] [INFO] [OmnipathR] Cache item `46d37339bbc3f9a05bb89ccb79278cf1233f5cdf` version 1: status changed from `unknown` to `started`.
[2022-12-28 23:08:48] [TRACE] [OmnipathR] Exporting object to RDS: `C:\Users\biocbuild\AppData\Local\Cache\OmnipathR/46d37339bbc3f9a05bb89ccb79278cf1233f5cdf-1.rds`.
[2022-12-28 23:08:49] [TRACE] [OmnipathR] Exported RDS to `C:\Users\biocbuild\AppData\Local\Cache\OmnipathR/46d37339bbc3f9a05bb89ccb79278cf1233f5cdf-1.rds`.
[2022-12-28 23:08:49] [INFO] [OmnipathR] Download ready [key=46d37339bbc3f9a05bb89ccb79278cf1233f5cdf, version=1]
[2022-12-28 23:08:49] [INFO] [OmnipathR] Cache item `46d37339bbc3f9a05bb89ccb79278cf1233f5cdf` version 1: status changed from `started` to `ready`.
[2022-12-28 23:08:57] [SUCCESS] [OmnipathR] Downloaded 278482 interactions.
[2022-12-28 23:09:06] [INFO] [OmnipathR] Cache record does not exist: `https://omnipathdb.org/interactions?genesymbols=yes&datasets=dorothea&organisms=10090&dorothea_levels=A,B,C,D&fields=sources,references,curation_effort,dorothea_level&license=academic`
[2022-12-28 23:09:06] [INFO] [OmnipathR] Retrieving URL: `https://omnipathdb.org/interactions?genesymbols=yes&datasets=dorothea&organisms=10090&dorothea_levels=A,B,C,D&fields=sources,references,curation_effort,dorothea_level&license=academic`
[2022-12-28 23:09:06] [TRACE] [OmnipathR] Attempt 1/3: `https://omnipathdb.org/interactions?genesymbols=yes&datasets=dorothea&organisms=10090&dorothea_levels=A,B,C,D&fields=sources,references,curation_effort,dorothea_level&license=academic`
[2022-12-28 23:09:08] [INFO] [OmnipathR] Cache item `ff347dedf78ef5e38c9c6d8eed291fa901aa3791` version 1: status changed from `unknown` to `started`.
[2022-12-28 23:09:08] [TRACE] [OmnipathR] Exporting object to RDS: `C:\Users\biocbuild\AppData\Local\Cache\OmnipathR/ff347dedf78ef5e38c9c6d8eed291fa901aa3791-1.rds`.
[2022-12-28 23:09:09] [TRACE] [OmnipathR] Exported RDS to `C:\Users\biocbuild\AppData\Local\Cache\OmnipathR/ff347dedf78ef5e38c9c6d8eed291fa901aa3791-1.rds`.
[2022-12-28 23:09:09] [INFO] [OmnipathR] Download ready [key=ff347dedf78ef5e38c9c6d8eed291fa901aa3791, version=1]
[2022-12-28 23:09:09] [INFO] [OmnipathR] Cache item `ff347dedf78ef5e38c9c6d8eed291fa901aa3791` version 1: status changed from `started` to `ready`.
[2022-12-28 23:09:16] [SUCCESS] [OmnipathR] Downloaded 256977 interactions.
|
| | 0%
|
|======================================================================| 100%
|
| | 0%
|
|======================================================================| 100%
|
| | 0%
|
|======================================================================| 100%
|
| | 0%
|
|======================================================================| 100%
|
| | 0%
|
|======================================================================| 100%
|
| | 0%
|
|======================================================================| 100%
|
| | 0%
|
|======================================================================| 100%
|
| | 0%
|
|======================================================================| 100%
|
| | 0%
|
|======================================================================| 100%
|
| | 0%
|
|======================================================================| 100%
|
| | 0%
|
|======================================================================| 100%
|
| | 0%
|
|======================================================================| 100%
|
| | 0%
|
|=================================== | 50%
|
|======================================================================| 100%
|
| | 0%
|
|=================================== | 50%
|
|======================================================================| 100%
|
| | 0%
|
|=================================== | 50%
|
|======================================================================| 100%
|
| | 0%
|
|=================================== | 50%
|
|======================================================================| 100%
|
| | 0%
|
|=================================== | 50%
|
|======================================================================| 100%
|
| | 0%
|
|=================================== | 50%
|
|======================================================================| 100%
|
| | 0%
|
|=================================== | 50%
|
|======================================================================| 100%
|
| | 0%
|
|=================================== | 50%
|
|======================================================================| 100%
|
| | 0%
|
|=================================== | 50%
|
|======================================================================| 100%
|
| | 0%
|
|=================================== | 50%
|
|======================================================================| 100%
|
| | 0%
|
|=================================== | 50%
|
|======================================================================| 100%
|
| | 0%
|
|=================================== | 50%
|
|======================================================================| 100%
Attaching package: 'dplyr'
The following object is masked from 'package:testthat':
matches
The following objects are masked from 'package:stats':
filter, lag
The following objects are masked from 'package:base':
intersect, setdiff, setequal, union
[ FAIL 0 | WARN 339 | SKIP 0 | PASS 35 ]
[ FAIL 0 | WARN 339 | SKIP 0 | PASS 35 ]
>
> proc.time()
user system elapsed
145.79 3.10 242.79
decoupleR.Rcheck/decoupleR-Ex.timings
| name | user | system | elapsed | |
| check_corr | 0.09 | 0.00 | 0.09 | |
| convert_f_defaults | 0.1 | 0.0 | 0.1 | |
| decouple | 0 | 0 | 0 | |
| dot-fit_preprocessing | 0.16 | 0.00 | 0.16 | |
| extract_sets | 0.03 | 0.00 | 0.03 | |
| filt_minsize | 0.06 | 0.00 | 0.06 | |
| get_dorothea | 18.91 | 0.46 | 19.94 | |
| get_profile_of | 0 | 0 | 0 | |
| get_progeny | 5.97 | 0.24 | 7.91 | |
| get_resource | 0.17 | 0.03 | 1.61 | |
| get_toy_data | 0 | 0 | 0 | |
| intersect_regulons | 0.02 | 0.02 | 0.03 | |
| pipe | 0 | 0 | 0 | |
| pivot_wider_profile | 0 | 0 | 0 | |
| randomize_matrix | 0 | 0 | 0 | |
| rename_net | 0.03 | 0.00 | 0.03 | |
| run_aucell | 5.40 | 0.35 | 5.76 | |
| run_consensus | 4.53 | 0.18 | 4.71 | |
| run_fgsea | 14.90 | 0.06 | 14.95 | |
| run_gsva | 1.15 | 0.12 | 1.28 | |
| run_mdt | 0.16 | 0.07 | 0.22 | |
| run_mlm | 0.15 | 0.00 | 0.16 | |
| run_ora | 0.60 | 0.01 | 0.61 | |
| run_udt | 0.25 | 0.00 | 0.25 | |
| run_ulm | 0.23 | 0.00 | 0.23 | |
| run_viper | 0.53 | 0.10 | 0.62 | |
| run_wmean | 0.93 | 0.01 | 0.94 | |
| run_wsum | 0.93 | 0.00 | 0.94 | |
| show_methods | 0.05 | 0.00 | 0.04 | |
| show_resources | 0.03 | 0.00 | 0.58 | |
| tidyeval | 0 | 0 | 0 | |