| Back to Build/check report for BioC 3.17 |
|
This page was generated on 2023-01-02 09:00:26 -0500 (Mon, 02 Jan 2023).
| Hostname | OS | Arch (*) | R version | Installed pkgs |
|---|---|---|---|---|
| palomino5 | Windows Server 2022 Datacenter | x64 | R Under development (unstable) (2022-12-25 r83502 ucrt) -- "Unsuffered Consequences" | 4165 |
| Click on any hostname to see more info about the system (e.g. compilers) (*) as reported by 'uname -p', except on Windows and Mac OS X | ||||
|
To the developers/maintainers of the dce package: Make sure to use the following settings in order to reproduce any error or warning you see on this page. |
| Package 470/2158 | Hostname | OS / Arch | INSTALL | BUILD | CHECK | BUILD BIN | ||||||||
| dce 1.7.0 (landing page) Kim Philipp Jablonski
| palomino5 | Windows Server 2022 Datacenter / x64 | OK | OK | OK | OK | ||||||||
| Package: dce |
| Version: 1.7.0 |
| Command: F:\biocbuild\bbs-3.17-bioc\R\bin\R.exe CMD check --no-multiarch --install=check:dce.install-out.txt --library=F:\biocbuild\bbs-3.17-bioc\R\library --no-vignettes --timings dce_1.7.0.tar.gz |
| StartedAt: 2022-12-28 23:01:04 -0500 (Wed, 28 Dec 2022) |
| EndedAt: 2022-12-28 23:05:28 -0500 (Wed, 28 Dec 2022) |
| EllapsedTime: 264.1 seconds |
| RetCode: 0 |
| Status: OK |
| CheckDir: dce.Rcheck |
| Warnings: 0 |
##############################################################################
##############################################################################
###
### Running command:
###
### F:\biocbuild\bbs-3.17-bioc\R\bin\R.exe CMD check --no-multiarch --install=check:dce.install-out.txt --library=F:\biocbuild\bbs-3.17-bioc\R\library --no-vignettes --timings dce_1.7.0.tar.gz
###
##############################################################################
##############################################################################
* using log directory 'F:/biocbuild/bbs-3.17-bioc-rtools43/meat/dce.Rcheck'
* using R Under development (unstable) (2022-12-25 r83502 ucrt)
* using platform: x86_64-w64-mingw32 (64-bit)
* R was compiled by
gcc.exe (GCC) 10.4.0
GNU Fortran (GCC) 10.4.0
* running under: Windows Server x64 (build 20348)
* using session charset: UTF-8
* using option '--no-vignettes'
* checking for file 'dce/DESCRIPTION' ... OK
* checking extension type ... Package
* this is package 'dce' version '1.7.0'
* package encoding: UTF-8
* checking package namespace information ... OK
* checking package dependencies ... OK
* checking if this is a source package ... OK
* checking if there is a namespace ... OK
* checking for hidden files and directories ... OK
* checking for portable file names ... OK
* checking whether package 'dce' can be installed ... OK
* checking installed package size ... OK
* checking package directory ... OK
* checking 'build' directory ... OK
* checking DESCRIPTION meta-information ... OK
* checking top-level files ... OK
* checking for left-over files ... OK
* checking index information ... OK
* checking package subdirectories ... OK
* checking R files for non-ASCII characters ... OK
* checking R files for syntax errors ... OK
* checking whether the package can be loaded ... OK
* checking whether the package can be loaded with stated dependencies ... OK
* checking whether the package can be unloaded cleanly ... OK
* checking whether the namespace can be loaded with stated dependencies ... OK
* checking whether the namespace can be unloaded cleanly ... OK
* checking dependencies in R code ... OK
* checking S3 generic/method consistency ... OK
* checking replacement functions ... OK
* checking foreign function calls ... OK
* checking R code for possible problems ... NOTE
plot_network: no visible binding for global variable '.'
Undefined global functions or variables:
.
* checking Rd files ... OK
* checking Rd metadata ... OK
* checking Rd cross-references ... OK
* checking for missing documentation entries ... OK
* checking for code/documentation mismatches ... OK
* checking Rd \usage sections ... OK
* checking Rd contents ... OK
* checking for unstated dependencies in examples ... OK
* checking contents of 'data' directory ... OK
* checking data for non-ASCII characters ... NOTE
Note: found 3 marked UTF-8 strings
* checking LazyData ... OK
* checking data for ASCII and uncompressed saves ... OK
* checking files in 'vignettes' ... OK
* checking examples ... OK
* checking for unstated dependencies in 'tests' ... OK
* checking tests ...
Running 'testthat.R'
OK
* checking for unstated dependencies in vignettes ... OK
* checking package vignettes in 'inst/doc' ... OK
* checking running R code from vignettes ... SKIPPED
* checking re-building of vignette outputs ... SKIPPED
* checking PDF version of manual ... OK
* DONE
Status: 2 NOTEs
See
'F:/biocbuild/bbs-3.17-bioc-rtools43/meat/dce.Rcheck/00check.log'
for details.
dce.Rcheck/00install.out
############################################################################## ############################################################################## ### ### Running command: ### ### F:\biocbuild\bbs-3.17-bioc\R\bin\R.exe CMD INSTALL dce ### ############################################################################## ############################################################################## * installing to library 'F:/biocbuild/bbs-3.17-bioc/R/library' * installing *source* package 'dce' ... ** using staged installation ** R ** data *** moving datasets to lazyload DB ** inst ** byte-compile and prepare package for lazy loading ** help *** installing help indices *** copying figures ** building package indices ** installing vignettes ** testing if installed package can be loaded from temporary location ** testing if installed package can be loaded from final location ** testing if installed package keeps a record of temporary installation path * DONE (dce)
dce.Rcheck/tests/testthat.Rout
R Under development (unstable) (2022-12-25 r83502 ucrt) -- "Unsuffered Consequences"
Copyright (C) 2022 The R Foundation for Statistical Computing
Platform: x86_64-w64-mingw32/x64 (64-bit)
R is free software and comes with ABSOLUTELY NO WARRANTY.
You are welcome to redistribute it under certain conditions.
Type 'license()' or 'licence()' for distribution details.
R is a collaborative project with many contributors.
Type 'contributors()' for more information and
'citation()' on how to cite R or R packages in publications.
Type 'demo()' for some demos, 'help()' for on-line help, or
'help.start()' for an HTML browser interface to help.
Type 'q()' to quit R.
> library(igraph)
Attaching package: 'igraph'
The following objects are masked from 'package:stats':
decompose, spectrum
The following object is masked from 'package:base':
union
> library(tidyverse)
── Attaching packages ─────────────────────────────────────── tidyverse 1.3.2 ──
✔ ggplot2 3.4.0 ✔ purrr 1.0.0
✔ tibble 3.1.8 ✔ dplyr 1.0.10
✔ tidyr 1.2.1 ✔ stringr 1.5.0
✔ readr 2.1.3 ✔ forcats 0.5.2
── Conflicts ────────────────────────────────────────── tidyverse_conflicts() ──
✖ dplyr::as_data_frame() masks tibble::as_data_frame(), igraph::as_data_frame()
✖ purrr::compose() masks igraph::compose()
✖ tidyr::crossing() masks igraph::crossing()
✖ dplyr::filter() masks stats::filter()
✖ dplyr::groups() masks igraph::groups()
✖ dplyr::lag() masks stats::lag()
✖ purrr::simplify() masks igraph::simplify()
>
> library(testthat)
Attaching package: 'testthat'
The following object is masked from 'package:dplyr':
matches
The following object is masked from 'package:purrr':
is_null
The following objects are masked from 'package:readr':
edition_get, local_edition
The following object is masked from 'package:tidyr':
matches
The following object is masked from 'package:igraph':
compare
>
> library(dce)
>
>
> test_check("dce")
[ FAIL 0 | WARN 204 | SKIP 5 | PASS 40031 ]
══ Skipped tests ═══════════════════════════════════════════════════════════════
• empty test (5)
[ FAIL 0 | WARN 204 | SKIP 5 | PASS 40031 ]
>
> proc.time()
user system elapsed
57.20 3.53 60.73
dce.Rcheck/dce-Ex.timings
| name | user | system | elapsed | |
| as.data.frame.dce | 1.22 | 0.03 | 1.27 | |
| as_adjmat | 0.03 | 0.00 | 0.03 | |
| create_random_DAG | 0.02 | 0.00 | 0.01 | |
| dce-methods | 0.23 | 0.01 | 0.25 | |
| dce_nb | 2.88 | 0.00 | 2.88 | |
| estimate_latent_count | 1.28 | 0.00 | 1.28 | |
| g2dag | 0.22 | 0.07 | 0.28 | |
| get_pathway_info | 0.34 | 0.00 | 0.35 | |
| get_pathways | 3.00 | 0.08 | 3.07 | |
| get_prediction_counts | 0 | 0 | 0 | |
| graph2df | 0.03 | 0.00 | 0.04 | |
| graph_union | 0.05 | 0.00 | 0.04 | |
| pcor | 0 | 0 | 0 | |
| permutation_test | 0.02 | 0.00 | 0.01 | |
| plot.dce | 0.56 | 0.03 | 0.60 | |
| plot_network | 0.2 | 0.0 | 0.2 | |
| propagate_gene_edges | 0.08 | 0.00 | 0.08 | |
| resample_edge_weights | 0 | 0 | 0 | |
| simulate_data-methods | 0.03 | 0.00 | 0.04 | |
| topologically_ordering | 0 | 0 | 0 | |
| trueEffects | 0 | 0 | 0 | |