| Back to Build/check report for BioC 3.17 |
|
This page was generated on 2023-01-02 09:00:25 -0500 (Mon, 02 Jan 2023).
| Hostname | OS | Arch (*) | R version | Installed pkgs |
|---|---|---|---|---|
| palomino5 | Windows Server 2022 Datacenter | x64 | R Under development (unstable) (2022-12-25 r83502 ucrt) -- "Unsuffered Consequences" | 4165 |
| Click on any hostname to see more info about the system (e.g. compilers) (*) as reported by 'uname -p', except on Windows and Mac OS X | ||||
|
To the developers/maintainers of the crossmeta package: Make sure to use the following settings in order to reproduce any error or warning you see on this page. |
| Package 436/2158 | Hostname | OS / Arch | INSTALL | BUILD | CHECK | BUILD BIN | ||||||||
| crossmeta 1.25.0 (landing page) Alex Pickering
| palomino5 | Windows Server 2022 Datacenter / x64 | ERROR | ERROR | skipped | skipped | ||||||||
| Package: crossmeta |
| Version: 1.25.0 |
| Command: F:\biocbuild\bbs-3.17-bioc\R\bin\R.exe CMD INSTALL crossmeta |
| StartedAt: 2022-12-28 16:07:37 -0500 (Wed, 28 Dec 2022) |
| EndedAt: 2022-12-28 16:07:39 -0500 (Wed, 28 Dec 2022) |
| EllapsedTime: 2.0 seconds |
| RetCode: 1 |
| Status: ERROR |
############################################################################## ############################################################################## ### ### Running command: ### ### F:\biocbuild\bbs-3.17-bioc\R\bin\R.exe CMD INSTALL crossmeta ### ############################################################################## ############################################################################## * installing to library 'F:/biocbuild/bbs-3.17-bioc/R/library' ERROR: dependencies 'affxparser', 'oligo' are not available for package 'crossmeta' * removing 'F:/biocbuild/bbs-3.17-bioc/R/library/crossmeta'