| Back to Build/check report for BioC 3.17 |
|
This page was generated on 2023-01-02 09:00:24 -0500 (Mon, 02 Jan 2023).
| Hostname | OS | Arch (*) | R version | Installed pkgs |
|---|---|---|---|---|
| palomino5 | Windows Server 2022 Datacenter | x64 | R Under development (unstable) (2022-12-25 r83502 ucrt) -- "Unsuffered Consequences" | 4165 |
| Click on any hostname to see more info about the system (e.g. compilers) (*) as reported by 'uname -p', except on Windows and Mac OS X | ||||
|
To the developers/maintainers of the coMET package: Make sure to use the following settings in order to reproduce any error or warning you see on this page. |
| Package 382/2158 | Hostname | OS / Arch | INSTALL | BUILD | CHECK | BUILD BIN | ||||||||
| coMET 1.31.0 (landing page) Tiphaine Martin
| palomino5 | Windows Server 2022 Datacenter / x64 | OK | OK | OK | OK | ||||||||
| Package: coMET |
| Version: 1.31.0 |
| Command: F:\biocbuild\bbs-3.17-bioc\R\bin\R.exe CMD check --no-multiarch --install=check:coMET.install-out.txt --library=F:\biocbuild\bbs-3.17-bioc\R\library --no-vignettes --timings coMET_1.31.0.tar.gz |
| StartedAt: 2022-12-28 22:42:45 -0500 (Wed, 28 Dec 2022) |
| EndedAt: 2022-12-28 22:49:27 -0500 (Wed, 28 Dec 2022) |
| EllapsedTime: 401.5 seconds |
| RetCode: 0 |
| Status: OK |
| CheckDir: coMET.Rcheck |
| Warnings: 0 |
##############################################################################
##############################################################################
###
### Running command:
###
### F:\biocbuild\bbs-3.17-bioc\R\bin\R.exe CMD check --no-multiarch --install=check:coMET.install-out.txt --library=F:\biocbuild\bbs-3.17-bioc\R\library --no-vignettes --timings coMET_1.31.0.tar.gz
###
##############################################################################
##############################################################################
* using log directory 'F:/biocbuild/bbs-3.17-bioc-rtools43/meat/coMET.Rcheck'
* using R Under development (unstable) (2022-12-25 r83502 ucrt)
* using platform: x86_64-w64-mingw32 (64-bit)
* R was compiled by
gcc.exe (GCC) 10.4.0
GNU Fortran (GCC) 10.4.0
* running under: Windows Server x64 (build 20348)
* using session charset: UTF-8
* using option '--no-vignettes'
* checking for file 'coMET/DESCRIPTION' ... OK
* checking extension type ... Package
* this is package 'coMET' version '1.31.0'
* checking package namespace information ... OK
* checking package dependencies ... OK
* checking if this is a source package ... OK
* checking if there is a namespace ... OK
* checking for hidden files and directories ... OK
* checking for portable file names ... OK
* checking whether package 'coMET' can be installed ... OK
* checking installed package size ... NOTE
installed size is 18.9Mb
sub-directories of 1Mb or more:
data 7.6Mb
extdata 10.6Mb
* checking package directory ... OK
* checking 'build' directory ... OK
* checking DESCRIPTION meta-information ... OK
* checking top-level files ... NOTE
File
LICENSE
is not mentioned in the DESCRIPTION file.
* checking for left-over files ... OK
* checking index information ... OK
* checking package subdirectories ... OK
* checking R files for non-ASCII characters ... OK
* checking R files for syntax errors ... OK
* checking whether the package can be loaded ... OK
* checking whether the package can be loaded with stated dependencies ... OK
* checking whether the package can be unloaded cleanly ... OK
* checking whether the namespace can be loaded with stated dependencies ... OK
* checking whether the namespace can be unloaded cleanly ... OK
* checking dependencies in R code ... OK
* checking S3 generic/method consistency ... OK
* checking replacement functions ... OK
* checking foreign function calls ... OK
* checking R code for possible problems ... NOTE
draw.plot.annotation : <anonymous>: no visible global function
definition for 'ggplotGrob'
draw.plot.annotation: no visible global function definition for
'viewTracks'
draw.plot.annotation: no visible global function definition for
'trackList'
eQTL: no visible binding for global variable 'chromosome_stop'
eQTL: no visible binding for global variable 'chromosome_start'
eQTL: no visible binding for global variable 'chromosome_name'
eQTL_GTEx: no visible binding for global variable 'snp_pos'
eQTL_GTEx: no visible binding for global variable 'snp_chrom'
eQTL_GTEx: no visible binding for global variable 'gene_start'
eQTL_GTEx: no visible binding for global variable 'gene_stop'
eQTL_GTEx: no visible binding for global variable 'gene_chr'
geneExpression_GTEx: no visible global function definition for 'as'
metQTL: no visible binding for global variable 'chromosome_stop'
metQTL: no visible binding for global variable 'chromosome_start'
metQTL: no visible binding for global variable 'chromosome_name'
pizza: no visible global function definition for 'par'
pizza: no visible global function definition for 'plot.new'
pizza: no visible global function definition for 'plot.window'
pizza: no visible global function definition for 'polygon'
pizza: no visible global function definition for 'lines'
pizza: no visible global function definition for 'text'
psiQTL_GTEx: no visible binding for global variable 'pos_snp'
psiQTL_GTEx: no visible binding for global variable 'chr_snp'
psiQTL_GTEx: no visible binding for global variable 'pos_middle_exon'
psiQTL_GTEx: no visible binding for global variable 'chr_exon'
Undefined global functions or variables:
as chr_exon chr_snp chromosome_name chromosome_start chromosome_stop
gene_chr gene_start gene_stop ggplotGrob lines par plot.new
plot.window polygon pos_middle_exon pos_snp snp_chrom snp_pos text
trackList viewTracks
Consider adding
importFrom("graphics", "lines", "par", "plot.new", "plot.window",
"polygon", "text")
importFrom("methods", "as")
to your NAMESPACE file (and ensure that your DESCRIPTION Imports field
contains 'methods').
* checking Rd files ... NOTE
checkRd: (-1) ChIPTF_ENCODE.Rd:36: Escaped LaTeX specials: \#
* checking Rd metadata ... OK
* checking Rd cross-references ... OK
* checking for missing documentation entries ... OK
* checking for code/documentation mismatches ... OK
* checking Rd \usage sections ... OK
* checking Rd contents ... OK
* checking for unstated dependencies in examples ... OK
* checking contents of 'data' directory ... OK
* checking data for non-ASCII characters ... OK
* checking data for ASCII and uncompressed saves ... OK
* checking sizes of PDF files under 'inst/doc' ... OK
* checking files in 'vignettes' ... OK
* checking examples ... OK
Examples with CPU (user + system) or elapsed time > 5s
user system elapsed
comet.web 6.23 0.18 15.16
coMET-package 4.92 0.18 8.56
* checking for unstated dependencies in 'tests' ... OK
* checking tests ...
Running 'runTests.R'
OK
* checking for unstated dependencies in vignettes ... OK
* checking package vignettes in 'inst/doc' ... OK
* checking running R code from vignettes ... SKIPPED
* checking re-building of vignette outputs ... SKIPPED
* checking PDF version of manual ... OK
* DONE
Status: 4 NOTEs
See
'F:/biocbuild/bbs-3.17-bioc-rtools43/meat/coMET.Rcheck/00check.log'
for details.
coMET.Rcheck/00install.out
############################################################################## ############################################################################## ### ### Running command: ### ### F:\biocbuild\bbs-3.17-bioc\R\bin\R.exe CMD INSTALL coMET ### ############################################################################## ############################################################################## * installing to library 'F:/biocbuild/bbs-3.17-bioc/R/library' * installing *source* package 'coMET' ... ** using staged installation ** R ** data ** inst ** byte-compile and prepare package for lazy loading ** help *** installing help indices ** building package indices ** installing vignettes ** testing if installed package can be loaded from temporary location ** testing if installed package can be loaded from final location ** testing if installed package keeps a record of temporary installation path * DONE (coMET)
coMET.Rcheck/tests/runTests.Rout
R Under development (unstable) (2022-12-25 r83502 ucrt) -- "Unsuffered Consequences"
Copyright (C) 2022 The R Foundation for Statistical Computing
Platform: x86_64-w64-mingw32/x64 (64-bit)
R is free software and comes with ABSOLUTELY NO WARRANTY.
You are welcome to redistribute it under certain conditions.
Type 'license()' or 'licence()' for distribution details.
R is a collaborative project with many contributors.
Type 'contributors()' for more information and
'citation()' on how to cite R or R packages in publications.
Type 'demo()' for some demos, 'help()' for on-line help, or
'help.start()' for an HTML browser interface to help.
Type 'q()' to quit R.
> require("coMET") || stop("unable to load Package:coMET")
Loading required package: coMET
Loading required package: grid
Loading required package: biomaRt
Loading required package: Gviz
Loading required package: S4Vectors
Loading required package: stats4
Loading required package: BiocGenerics
Attaching package: 'BiocGenerics'
The following objects are masked from 'package:stats':
IQR, mad, sd, var, xtabs
The following objects are masked from 'package:base':
Filter, Find, Map, Position, Reduce, anyDuplicated, aperm, append,
as.data.frame, basename, cbind, colnames, dirname, do.call,
duplicated, eval, evalq, get, grep, grepl, intersect, is.unsorted,
lapply, mapply, match, mget, order, paste, pmax, pmax.int, pmin,
pmin.int, rank, rbind, rownames, sapply, setdiff, sort, table,
tapply, union, unique, unsplit, which.max, which.min
Attaching package: 'S4Vectors'
The following objects are masked from 'package:base':
I, expand.grid, unname
Loading required package: IRanges
Attaching package: 'IRanges'
The following object is masked from 'package:grDevices':
windows
Loading required package: GenomicRanges
Loading required package: GenomeInfoDb
Loading required package: psych
Attaching package: 'psych'
The following object is masked from 'package:GenomicRanges':
distance
The following objects are masked from 'package:IRanges':
distance, reflect
[1] TRUE
> BiocGenerics:::testPackage("coMET")
RUNIT TEST PROTOCOL -- Wed Dec 28 22:49:13 2022
***********************************************
Number of test functions: 1
Number of errors: 0
Number of failures: 0
1 Test Suite :
coMET RUnit Tests - 1 test function, 0 errors, 0 failures
Number of test functions: 1
Number of errors: 0
Number of failures: 0
>
> proc.time()
user system elapsed
12.40 0.75 13.14
coMET.Rcheck/coMET-Ex.timings
| name | user | system | elapsed | |
| COSMIC_UCSC | 1.76 | 0.07 | 1.83 | |
| ChIPTF_ENCODE | 0.69 | 0.03 | 0.72 | |
| ClinVarCnv_UCSC | 0.43 | 0.01 | 0.45 | |
| ClinVarMain_UCSC | 0.39 | 0.02 | 0.40 | |
| CoreillCNV_UCSC | 0.35 | 0.00 | 0.35 | |
| DNAse_UCSC | 0 | 0 | 0 | |
| DNaseI_FANTOM | 0.53 | 0.02 | 0.55 | |
| DNaseI_RoadMap | 0.16 | 0.01 | 0.17 | |
| GAD_UCSC | 0.48 | 0.00 | 0.49 | |
| GWAScatalog_UCSC | 0.28 | 0.01 | 0.29 | |
| GeneReviews_UCSC | 0.56 | 0.00 | 0.57 | |
| HiCdata2matrix | 0.05 | 0.00 | 0.04 | |
| HistoneAll_UCSC | 4.02 | 0.05 | 4.11 | |
| HistoneOne_UCSC | 0.32 | 0.00 | 0.33 | |
| ISCA_UCSC | 0.35 | 0.01 | 0.36 | |
| TFBS_FANTOM | 0.36 | 0.00 | 0.36 | |
| bindingMotifsBiomart_ENSEMBL | 0.18 | 0.02 | 0.20 | |
| chrUCSC2ENSEMBL | 0 | 0 | 0 | |
| chromHMM_RoadMap | 0.74 | 0.05 | 0.78 | |
| chromatinHMMAll_UCSC | 4.45 | 0.04 | 4.50 | |
| chromatinHMMOne_UCSC | 0.60 | 0.04 | 0.63 | |
| coMET-package | 4.92 | 0.18 | 8.56 | |
| col2HSV | 0 | 0 | 0 | |
| comet | 2.22 | 0.14 | 2.36 | |
| comet.list | 0.56 | 0.00 | 0.56 | |
| comet.web | 6.23 | 0.18 | 15.16 | |
| complementary | 0.03 | 0.00 | 0.03 | |
| cpgIslands_UCSC | 0.13 | 0.00 | 0.13 | |
| dgfootprints_RoadMap | 0.7 | 0.0 | 0.7 | |
| eQTL | 2.21 | 0.04 | 2.25 | |
| eQTL_GTEx | 1.12 | 0.03 | 1.16 | |
| gcContent_UCSC | 0.95 | 0.00 | 0.95 | |
| genesName_ENSEMBL | 0 | 0 | 0 | |
| genes_ENSEMBL | 0.68 | 0.02 | 0.69 | |
| imprintedGenes_GTEx | 2.98 | 0.09 | 3.10 | |
| interestGenes_ENSEMBL | 0.55 | 0.02 | 0.56 | |
| interestTranscript_ENSEMBL | 0.70 | 0.01 | 0.72 | |
| knownGenes_UCSC | 0.77 | 0.02 | 0.78 | |
| metQTL | 1.01 | 0.06 | 1.08 | |
| miRNATargetRegionsBiomart_ENSEMBL | 0.05 | 0.00 | 0.04 | |
| otherRegulatoryRegionsBiomart_ENSEMBL | 0.08 | 0.02 | 0.10 | |
| pizza | 0 | 0 | 0 | |
| psiQTL_GTEx | 1.02 | 0.00 | 1.02 | |
| refGenes_UCSC | 0.72 | 0.03 | 0.75 | |
| regulationBiomart_ENSEMBL | 0.29 | 0.00 | 0.29 | |
| regulatoryEvidenceBiomart_ENSEMBL | 0.11 | 0.03 | 0.15 | |
| regulatoryFeaturesBiomart_ENSEMBL | 0.13 | 0.02 | 0.14 | |
| regulatorySegmentsBiomart_ENSEMBL | 0.14 | 0.01 | 0.15 | |
| repeatMasker_UCSC | 0.44 | 0.00 | 0.44 | |
| segmentalDups_UCSC | 0.32 | 0.02 | 0.34 | |
| setColors | 0 | 0 | 0 | |
| snpBiomart_ENSEMBL | 0.36 | 0.00 | 0.36 | |
| snpLocations_UCSC | 0.93 | 0.01 | 0.94 | |
| structureBiomart_ENSEMBL | 0.43 | 0.02 | 0.45 | |
| transcript_ENSEMBL | 1.11 | 0.01 | 1.13 | |
| xenorefGenes_UCSC | 0.60 | 0.02 | 0.61 | |