| Back to Build/check report for BioC 3.17 |
|
This page was generated on 2023-01-02 09:00:18 -0500 (Mon, 02 Jan 2023).
| Hostname | OS | Arch (*) | R version | Installed pkgs |
|---|---|---|---|---|
| palomino5 | Windows Server 2022 Datacenter | x64 | R Under development (unstable) (2022-12-25 r83502 ucrt) -- "Unsuffered Consequences" | 4165 |
| Click on any hostname to see more info about the system (e.g. compilers) (*) as reported by 'uname -p', except on Windows and Mac OS X | ||||
|
To the developers/maintainers of the annotatr package: Make sure to use the following settings in order to reproduce any error or warning you see on this page. |
| Package 61/2158 | Hostname | OS / Arch | INSTALL | BUILD | CHECK | BUILD BIN | ||||||||
| annotatr 1.25.0 (landing page) Raymond G. Cavalcante
| palomino5 | Windows Server 2022 Datacenter / x64 | OK | OK | OK | OK | ||||||||
| Package: annotatr |
| Version: 1.25.0 |
| Command: chmod a+r annotatr -R && F:\biocbuild\bbs-3.17-bioc\R\bin\R.exe CMD build --keep-empty-dirs --no-resave-data annotatr |
| StartedAt: 2022-12-28 16:37:59 -0500 (Wed, 28 Dec 2022) |
| EndedAt: 2022-12-28 16:39:38 -0500 (Wed, 28 Dec 2022) |
| EllapsedTime: 98.2 seconds |
| RetCode: 0 |
| Status: OK |
| PackageFile: annotatr_1.25.0.tar.gz |
| PackageFileSize: 1.993 MiB |
##############################################################################
##############################################################################
###
### Running command:
###
### chmod a+r annotatr -R && F:\biocbuild\bbs-3.17-bioc\R\bin\R.exe CMD build --keep-empty-dirs --no-resave-data annotatr
###
##############################################################################
##############################################################################
* checking for file 'annotatr/DESCRIPTION' ... OK
* preparing 'annotatr':
* checking DESCRIPTION meta-information ... OK
* installing the package to build vignettes
* creating vignettes ... OK
* checking for LF line-endings in source and make files and shell scripts
* checking for empty or unneeded directories
NB: this package now depends on R (>= 3.5.0)
WARNING: Added dependency on R >= 3.5.0 because serialized objects in
serialize/load version 3 cannot be read in older versions of R.
File(s) containing such objects:
'annotatr/data/annotations.rda'
* building 'annotatr_1.25.0.tar.gz'