| Back to Build/check report for BioC 3.17 |
|
This page was generated on 2023-01-02 09:00:51 -0500 (Mon, 02 Jan 2023).
| Hostname | OS | Arch (*) | R version | Installed pkgs |
|---|---|---|---|---|
| palomino5 | Windows Server 2022 Datacenter | x64 | R Under development (unstable) (2022-12-25 r83502 ucrt) -- "Unsuffered Consequences" | 4165 |
| Click on any hostname to see more info about the system (e.g. compilers) (*) as reported by 'uname -p', except on Windows and Mac OS X | ||||
|
To the developers/maintainers of the SIAMCAT package: Make sure to use the following settings in order to reproduce any error or warning you see on this page. |
| Package 1843/2158 | Hostname | OS / Arch | INSTALL | BUILD | CHECK | BUILD BIN | ||||||||
| SIAMCAT 2.3.0 (landing page) Jakob Wirbel
| palomino5 | Windows Server 2022 Datacenter / x64 | OK | OK | OK | OK | ||||||||
| Package: SIAMCAT |
| Version: 2.3.0 |
| Command: F:\biocbuild\bbs-3.17-bioc\R\bin\R.exe CMD check --no-multiarch --install=check:SIAMCAT.install-out.txt --library=F:\biocbuild\bbs-3.17-bioc\R\library --no-vignettes --timings SIAMCAT_2.3.0.tar.gz |
| StartedAt: 2022-12-29 03:33:39 -0500 (Thu, 29 Dec 2022) |
| EndedAt: 2022-12-29 03:38:00 -0500 (Thu, 29 Dec 2022) |
| EllapsedTime: 261.6 seconds |
| RetCode: 0 |
| Status: OK |
| CheckDir: SIAMCAT.Rcheck |
| Warnings: 0 |
##############################################################################
##############################################################################
###
### Running command:
###
### F:\biocbuild\bbs-3.17-bioc\R\bin\R.exe CMD check --no-multiarch --install=check:SIAMCAT.install-out.txt --library=F:\biocbuild\bbs-3.17-bioc\R\library --no-vignettes --timings SIAMCAT_2.3.0.tar.gz
###
##############################################################################
##############################################################################
* using log directory 'F:/biocbuild/bbs-3.17-bioc-rtools43/meat/SIAMCAT.Rcheck'
* using R Under development (unstable) (2022-12-25 r83502 ucrt)
* using platform: x86_64-w64-mingw32 (64-bit)
* R was compiled by
gcc.exe (GCC) 10.4.0
GNU Fortran (GCC) 10.4.0
* running under: Windows Server x64 (build 20348)
* using session charset: UTF-8
* using option '--no-vignettes'
* checking for file 'SIAMCAT/DESCRIPTION' ... OK
* checking extension type ... Package
* this is package 'SIAMCAT' version '2.3.0'
* checking package namespace information ... OK
* checking package dependencies ... OK
* checking if this is a source package ... OK
* checking if there is a namespace ... OK
* checking for hidden files and directories ... NOTE
Found the following hidden files and directories:
.travis.yml
These were most likely included in error. See section 'Package
structure' in the 'Writing R Extensions' manual.
* checking for portable file names ... OK
* checking whether package 'SIAMCAT' can be installed ... OK
* checking installed package size ... NOTE
installed size is 5.1Mb
sub-directories of 1Mb or more:
extdata 2.1Mb
help 1.9Mb
* checking package directory ... OK
* checking 'build' directory ... OK
* checking DESCRIPTION meta-information ... OK
* checking top-level files ... OK
* checking for left-over files ... OK
* checking index information ... OK
* checking package subdirectories ... OK
* checking R files for non-ASCII characters ... OK
* checking R files for syntax errors ... OK
* checking whether the package can be loaded ... OK
* checking whether the package can be loaded with stated dependencies ... OK
* checking whether the package can be unloaded cleanly ... OK
* checking whether the namespace can be loaded with stated dependencies ... OK
* checking whether the namespace can be unloaded cleanly ... OK
* checking dependencies in R code ... OK
* checking S3 generic/method consistency ... OK
* checking replacement functions ... OK
* checking foreign function calls ... OK
* checking R code for possible problems ... OK
* checking Rd files ... OK
* checking Rd metadata ... OK
* checking Rd cross-references ... OK
* checking for missing documentation entries ... OK
* checking for code/documentation mismatches ... OK
* checking Rd \usage sections ... OK
* checking Rd contents ... OK
* checking for unstated dependencies in examples ... OK
* checking contents of 'data' directory ... OK
* checking data for non-ASCII characters ... OK
* checking LazyData ... OK
* checking data for ASCII and uncompressed saves ... OK
* checking files in 'vignettes' ... OK
* checking examples ... OK
Examples with CPU (user + system) or elapsed time > 5s
user system elapsed
model.interpretation.plot 19.97 0.65 20.63
assign-model_list 19.06 0.66 19.74
make.predictions 19.17 0.47 19.64
train.model 18.61 0.58 19.19
* checking for unstated dependencies in vignettes ... OK
* checking package vignettes in 'inst/doc' ... OK
* checking running R code from vignettes ... SKIPPED
* checking re-building of vignette outputs ... SKIPPED
* checking PDF version of manual ... OK
* DONE
Status: 2 NOTEs
See
'F:/biocbuild/bbs-3.17-bioc-rtools43/meat/SIAMCAT.Rcheck/00check.log'
for details.
SIAMCAT.Rcheck/00install.out
############################################################################## ############################################################################## ### ### Running command: ### ### F:\biocbuild\bbs-3.17-bioc\R\bin\R.exe CMD INSTALL SIAMCAT ### ############################################################################## ############################################################################## * installing to library 'F:/biocbuild/bbs-3.17-bioc/R/library' * installing *source* package 'SIAMCAT' ... ** using staged installation ** R ** data *** moving datasets to lazyload DB ** inst ** byte-compile and prepare package for lazy loading ** help *** installing help indices *** copying figures ** building package indices ** installing vignettes ** testing if installed package can be loaded from temporary location ** testing if installed package can be loaded from final location ** testing if installed package keeps a record of temporary installation path * DONE (SIAMCAT)
SIAMCAT.Rcheck/SIAMCAT-Ex.timings
| name | user | system | elapsed | |
| accessSlot | 0.02 | 0.00 | 0.01 | |
| add.meta.pred | 0.03 | 0.00 | 0.03 | |
| assign-associations | 0.01 | 0.00 | 0.02 | |
| assign-data_split | 0 | 0 | 0 | |
| assign-eval_data | 0.00 | 0.01 | 0.02 | |
| assign-filt_feat | 0.02 | 0.00 | 0.01 | |
| assign-label | 0 | 0 | 0 | |
| assign-meta | 0.03 | 0.00 | 0.03 | |
| assign-model_list | 19.06 | 0.66 | 19.74 | |
| assign-norm_feat | 0 | 0 | 0 | |
| assign-orig_feat | 0.00 | 0.02 | 0.01 | |
| assign-physeq | 0.02 | 0.00 | 0.02 | |
| assign-pred_matrix | 0.03 | 0.00 | 0.03 | |
| assoc_param-methods | 0 | 0 | 0 | |
| association.plot | 0.23 | 0.00 | 0.23 | |
| associations-methods | 0.02 | 0.00 | 0.02 | |
| check.associations | 1.41 | 0.01 | 1.42 | |
| check.confounders | 0.36 | 0.02 | 0.38 | |
| create.data.split | 0.01 | 0.00 | 0.01 | |
| create.label | 0 | 0 | 0 | |
| data_split-methods | 0.02 | 0.00 | 0.02 | |
| eval_data-methods | 0 | 0 | 0 | |
| evaluate.predictions | 0.01 | 0.00 | 0.02 | |
| feature_type-methods | 0 | 0 | 0 | |
| feature_weights-methods | 0.00 | 0.01 | 0.01 | |
| filt_feat-methods | 0.02 | 0.00 | 0.02 | |
| filt_params-methods | 0.01 | 0.00 | 0.02 | |
| filter.features | 0.02 | 0.00 | 0.01 | |
| filter.label | 0 | 0 | 0 | |
| get.filt_feat.matrix | 0.00 | 0.02 | 0.02 | |
| get.norm_feat.matrix | 0.02 | 0.00 | 0.01 | |
| get.orig_feat.matrix | 0 | 0 | 0 | |
| label-methods | 0.01 | 0.00 | 0.02 | |
| make.predictions | 19.17 | 0.47 | 19.64 | |
| meta-methods | 0.02 | 0.00 | 0.01 | |
| model.evaluation.plot | 0.01 | 0.00 | 0.05 | |
| model.interpretation.plot | 19.97 | 0.65 | 20.63 | |
| model_list-methods | 0 | 0 | 0 | |
| model_type-methods | 0.00 | 0.02 | 0.01 | |
| models-methods | 0 | 0 | 0 | |
| norm_feat-methods | 0 | 0 | 0 | |
| norm_params-methods | 0.01 | 0.00 | 0.01 | |
| normalize.features | 0.02 | 0.00 | 0.02 | |
| orig_feat-methods | 0 | 0 | 0 | |
| physeq-methods | 0.02 | 0.00 | 0.01 | |
| pred_matrix-methods | 0 | 0 | 0 | |
| read.label | 0.01 | 0.00 | 0.02 | |
| read.lefse | 0.50 | 0.05 | 0.55 | |
| select.samples | 0.03 | 0.00 | 0.03 | |
| siamcat | 0.24 | 0.00 | 0.23 | |
| siamcat.to.lefse | 0.03 | 0.00 | 0.03 | |
| siamcat.to.maaslin | 0.03 | 0.01 | 0.05 | |
| summarize.features | 1.50 | 0.22 | 1.75 | |
| train.model | 18.61 | 0.58 | 19.19 | |
| validate.data | 0.01 | 0.01 | 0.03 | |
| volcano.plot | 0 | 0 | 0 | |
| weight_matrix-methods | 0.02 | 0.00 | 0.02 | |