| Back to Build/check report for BioC 3.17 |
|
This page was generated on 2023-01-02 09:00:50 -0500 (Mon, 02 Jan 2023).
| Hostname | OS | Arch (*) | R version | Installed pkgs |
|---|---|---|---|---|
| palomino5 | Windows Server 2022 Datacenter | x64 | R Under development (unstable) (2022-12-25 r83502 ucrt) -- "Unsuffered Consequences" | 4165 |
| Click on any hostname to see more info about the system (e.g. compilers) (*) as reported by 'uname -p', except on Windows and Mac OS X | ||||
|
To the developers/maintainers of the SELEX package: Make sure to use the following settings in order to reproduce any error or warning you see on this page. |
| Package 1814/2158 | Hostname | OS / Arch | INSTALL | BUILD | CHECK | BUILD BIN | ||||||||
| SELEX 1.31.0 (landing page) Harmen J. Bussemaker
| palomino5 | Windows Server 2022 Datacenter / x64 | OK | OK | OK | OK | ||||||||
| Package: SELEX |
| Version: 1.31.0 |
| Command: F:\biocbuild\bbs-3.17-bioc\R\bin\R.exe CMD check --no-multiarch --install=check:SELEX.install-out.txt --library=F:\biocbuild\bbs-3.17-bioc\R\library --no-vignettes --timings SELEX_1.31.0.tar.gz |
| StartedAt: 2022-12-29 03:27:34 -0500 (Thu, 29 Dec 2022) |
| EndedAt: 2022-12-29 03:29:05 -0500 (Thu, 29 Dec 2022) |
| EllapsedTime: 91.3 seconds |
| RetCode: 0 |
| Status: OK |
| CheckDir: SELEX.Rcheck |
| Warnings: 0 |
##############################################################################
##############################################################################
###
### Running command:
###
### F:\biocbuild\bbs-3.17-bioc\R\bin\R.exe CMD check --no-multiarch --install=check:SELEX.install-out.txt --library=F:\biocbuild\bbs-3.17-bioc\R\library --no-vignettes --timings SELEX_1.31.0.tar.gz
###
##############################################################################
##############################################################################
* using log directory 'F:/biocbuild/bbs-3.17-bioc-rtools43/meat/SELEX.Rcheck'
* using R Under development (unstable) (2022-12-25 r83502 ucrt)
* using platform: x86_64-w64-mingw32 (64-bit)
* R was compiled by
gcc.exe (GCC) 10.4.0
GNU Fortran (GCC) 10.4.0
* running under: Windows Server x64 (build 20348)
* using session charset: UTF-8
* using option '--no-vignettes'
* checking for file 'SELEX/DESCRIPTION' ... OK
* this is package 'SELEX' version '1.31.0'
* checking package namespace information ... OK
* checking package dependencies ... OK
* checking if this is a source package ... OK
* checking if there is a namespace ... OK
* checking for hidden files and directories ... OK
* checking for portable file names ... OK
* checking whether package 'SELEX' can be installed ... OK
* checking installed package size ... OK
* checking package directory ... OK
* checking 'build' directory ... OK
* checking DESCRIPTION meta-information ... OK
* checking top-level files ... OK
* checking for left-over files ... OK
* checking index information ... OK
* checking package subdirectories ... OK
* checking R files for non-ASCII characters ... OK
* checking R files for syntax errors ... OK
* checking whether the package can be loaded ... OK
* checking whether the package can be loaded with stated dependencies ... OK
* checking whether the package can be unloaded cleanly ... OK
* checking whether the namespace can be loaded with stated dependencies ... OK
* checking whether the namespace can be unloaded cleanly ... OK
* checking dependencies in R code ... OK
* checking S3 generic/method consistency ... OK
* checking replacement functions ... OK
* checking foreign function calls ... OK
* checking R code for possible problems ... OK
* checking Rd files ... OK
* checking Rd metadata ... OK
* checking Rd cross-references ... OK
* checking for missing documentation entries ... OK
* checking for code/documentation mismatches ... OK
* checking Rd \usage sections ... OK
* checking Rd contents ... OK
* checking for unstated dependencies in examples ... OK
* checking line endings in Makefiles ... OK
* checking for GNU extensions in Makefiles ... OK
* checking include directives in Makefiles ... OK
* checking sizes of PDF files under 'inst/doc' ... OK
* checking files in 'vignettes' ... NOTE
The following directory looks like a leftover from 'knitr':
'cache'
Please remove from your package.
* checking examples ... OK
Examples with CPU (user + system) or elapsed time > 5s
user system elapsed
SELEX 16.11 2.77 8.06
selex.seqfilter 7.46 1.14 2.76
* checking for unstated dependencies in vignettes ... OK
* checking package vignettes in 'inst/doc' ... OK
* checking running R code from vignettes ... SKIPPED
* checking re-building of vignette outputs ... SKIPPED
* checking PDF version of manual ... OK
* DONE
Status: 1 NOTE
See
'F:/biocbuild/bbs-3.17-bioc-rtools43/meat/SELEX.Rcheck/00check.log'
for details.
SELEX.Rcheck/00install.out
############################################################################## ############################################################################## ### ### Running command: ### ### F:\biocbuild\bbs-3.17-bioc\R\bin\R.exe CMD INSTALL SELEX ### ############################################################################## ############################################################################## * installing to library 'F:/biocbuild/bbs-3.17-bioc/R/library' * installing *source* package 'SELEX' ... ** using staged installation ** R ** inst ** byte-compile and prepare package for lazy loading ** help *** installing help indices ** building package indices ** installing vignettes ** testing if installed package can be loaded from temporary location ** testing if installed package can be loaded from final location ** testing if installed package keeps a record of temporary installation path * DONE (SELEX)
SELEX.Rcheck/SELEX-Ex.timings
| name | user | system | elapsed | |
| SELEX | 16.11 | 2.77 | 8.06 | |
| selex.affinities | 0.59 | 0.03 | 0.27 | |
| selex.config | 0.05 | 0.00 | 0.04 | |
| selex.countSummary | 0.67 | 0.03 | 0.25 | |
| selex.counts | 1.09 | 0.08 | 0.42 | |
| selex.defineSample | 0.11 | 0.01 | 0.04 | |
| selex.exampledata | 0.08 | 0.00 | 0.02 | |
| selex.fastqPSFM | 0.39 | 0.05 | 0.20 | |
| selex.getAttributes | 0.25 | 0.00 | 0.06 | |
| selex.getRound0 | 0.12 | 0.01 | 0.08 | |
| selex.getSeqfilter | 0.02 | 0.00 | 0.01 | |
| selex.infogain | 1.37 | 0.11 | 0.40 | |
| selex.infogainSummary | 0.56 | 0.00 | 0.17 | |
| selex.jvmStatus | 0.10 | 0.00 | 0.03 | |
| selex.kmax | 0.98 | 0.31 | 1.01 | |
| selex.kmerPSFM | 0.28 | 0.07 | 0.24 | |
| selex.loadAnnotation | 0.19 | 0.00 | 0.11 | |
| selex.mm | 0.28 | 0.00 | 0.15 | |
| selex.mmProb | 0.30 | 0.03 | 0.16 | |
| selex.mmSummary | 0.33 | 0.03 | 0.17 | |
| selex.revcomp | 0.51 | 0.04 | 0.28 | |
| selex.run | 1.00 | 0.15 | 0.38 | |
| selex.sample | 0.28 | 0.00 | 0.08 | |
| selex.samplePSFM | 0.49 | 0.03 | 0.15 | |
| selex.sampleSummary | 0.19 | 0.01 | 0.07 | |
| selex.saveAnnotation | 0.04 | 0.00 | 0.03 | |
| selex.seqfilter | 7.46 | 1.14 | 2.76 | |
| selex.setwd | 0.01 | 0.00 | 0.02 | |
| selex.split | 0.32 | 0.02 | 0.13 | |
| selex.summary | 0.37 | 0.05 | 0.33 | |