| Back to Build/check report for BioC 3.17 | 
  | 
This page was generated on 2023-01-02 09:00:47 -0500 (Mon, 02 Jan 2023).
| Hostname | OS | Arch (*) | R version | Installed pkgs | 
|---|---|---|---|---|
| palomino5 | Windows Server 2022 Datacenter | x64 | R Under development (unstable) (2022-12-25 r83502 ucrt) -- "Unsuffered Consequences" | 4165 | 
| Click on any hostname to see more info about the system (e.g. compilers) (*) as reported by 'uname -p', except on Windows and Mac OS X | ||||
| 
To the developers/maintainers of the Ringo package: Make sure to use the following settings in order to reproduce any error or warning you see on this page.  | 
| Package 1667/2158 | Hostname | OS / Arch | INSTALL | BUILD | CHECK | BUILD BIN | ||||||||
| Ringo 1.63.0  (landing page) J. Toedling 
  | palomino5 | Windows Server 2022 Datacenter / x64 | OK | OK | OK | OK | ||||||||
| Package: Ringo | 
| Version: 1.63.0 | 
| Command: rm -rf Ringo.buildbin-libdir && mkdir Ringo.buildbin-libdir && F:\biocbuild\bbs-3.17-bioc\R\bin\R.exe CMD INSTALL --build --library=Ringo.buildbin-libdir Ringo_1.63.0.tar.gz | 
| StartedAt: 2022-12-29 05:38:37 -0500 (Thu, 29 Dec 2022) | 
| EndedAt: 2022-12-29 05:39:13 -0500 (Thu, 29 Dec 2022) | 
| EllapsedTime: 35.6 seconds | 
| RetCode: 0 | 
| Status: OK | 
| PackageFile: Ringo_1.63.0.zip | 
| PackageFileSize: 2.014 MiB | 
##############################################################################
##############################################################################
###
### Running command:
###
###   rm -rf Ringo.buildbin-libdir && mkdir Ringo.buildbin-libdir && F:\biocbuild\bbs-3.17-bioc\R\bin\R.exe CMD INSTALL --build --library=Ringo.buildbin-libdir Ringo_1.63.0.tar.gz
###
##############################################################################
##############################################################################
* installing *source* package 'Ringo' ...
** using staged installation
** libs
using C compiler: 'gcc.exe (GCC) 12.2.0'
using C++ compiler: 'G__~1.EXE (GCC) 12.2.0'
g++ -std=gnu++11  -I"F:/biocbuild/bbs-3.17-bioc/R/include" -DNDEBUG     -I"c:/rtools42/x86_64-w64-mingw32.static.posix/include"     -O2 -Wall  -mfpmath=sse -msse2 -mstackrealign  -c mmeansd.cpp -o mmeansd.o
mmeansd.cpp: In function 'SEXPREC* moving_mean_sd(SEXP, SEXP, SEXP)':
mmeansd.cpp:29:24: warning: variable 'is' set but not used [-Wunused-but-set-variable]
   29 |     int * x, nval, hs, is, i;
      |                        ^~
g++ -std=gnu++11  -I"F:/biocbuild/bbs-3.17-bioc/R/include" -DNDEBUG     -I"c:/rtools42/x86_64-w64-mingw32.static.posix/include"     -O2 -Wall  -mfpmath=sse -msse2 -mstackrealign  -c mmedian.cpp -o mmedian.o
gcc  -I"F:/biocbuild/bbs-3.17-bioc/R/include" -DNDEBUG     -I"c:/rtools42/x86_64-w64-mingw32.static.posix/include"     -O2 -Wall  -std=gnu99 -mfpmath=sse -msse2 -mstackrealign  -c region_overlap.c -o region_overlap.o
gcc  -I"F:/biocbuild/bbs-3.17-bioc/R/include" -DNDEBUG     -I"c:/rtools42/x86_64-w64-mingw32.static.posix/include"     -O2 -Wall  -std=gnu99 -mfpmath=sse -msse2 -mstackrealign  -c ringo_init.c -o ringo_init.o
g++ -std=gnu++11 -shared -s -static-libgcc -o Ringo.dll tmp.def mmeansd.o mmedian.o region_overlap.o ringo_init.o -Lc:/rtools42/x86_64-w64-mingw32.static.posix/lib/x64 -Lc:/rtools42/x86_64-w64-mingw32.static.posix/lib -LF:/biocbuild/bbs-3.17-bioc/R/bin/x64 -lR
installing to F:/biocbuild/bbs-3.17-bioc-rtools43/meat/Ringo.buildbin-libdir/00LOCK-Ringo/00new/Ringo/libs/x64
** R
** inst
** byte-compile and prepare package for lazy loading
Creating a generic function for 'ls' from package 'base' in package 'Ringo'
** help
*** installing help indices
** building package indices
** installing vignettes
** testing if installed package can be loaded from temporary location
** testing if installed package can be loaded from final location
** testing if installed package keeps a record of temporary installation path
* MD5 sums
packaged installation of 'Ringo' as Ringo_1.63.0.zip
* DONE (Ringo)