| Back to Build/check report for BioC 3.17 |
|
This page was generated on 2023-01-02 09:00:47 -0500 (Mon, 02 Jan 2023).
| Hostname | OS | Arch (*) | R version | Installed pkgs |
|---|---|---|---|---|
| palomino5 | Windows Server 2022 Datacenter | x64 | R Under development (unstable) (2022-12-25 r83502 ucrt) -- "Unsuffered Consequences" | 4165 |
| Click on any hostname to see more info about the system (e.g. compilers) (*) as reported by 'uname -p', except on Windows and Mac OS X | ||||
|
To the developers/maintainers of the RgnTX package: Make sure to use the following settings in order to reproduce any error or warning you see on this page. |
| Package 1646/2158 | Hostname | OS / Arch | INSTALL | BUILD | CHECK | BUILD BIN | ||||||||
| RgnTX 1.1.0 (landing page) Yue Wang
| palomino5 | Windows Server 2022 Datacenter / x64 | OK | OK | OK | OK | ||||||||
| Package: RgnTX |
| Version: 1.1.0 |
| Command: F:\biocbuild\bbs-3.17-bioc\R\bin\R.exe CMD check --no-multiarch --install=check:RgnTX.install-out.txt --library=F:\biocbuild\bbs-3.17-bioc\R\library --no-vignettes --timings RgnTX_1.1.0.tar.gz |
| StartedAt: 2022-12-29 02:50:51 -0500 (Thu, 29 Dec 2022) |
| EndedAt: 2022-12-29 02:57:19 -0500 (Thu, 29 Dec 2022) |
| EllapsedTime: 388.4 seconds |
| RetCode: 0 |
| Status: OK |
| CheckDir: RgnTX.Rcheck |
| Warnings: 0 |
##############################################################################
##############################################################################
###
### Running command:
###
### F:\biocbuild\bbs-3.17-bioc\R\bin\R.exe CMD check --no-multiarch --install=check:RgnTX.install-out.txt --library=F:\biocbuild\bbs-3.17-bioc\R\library --no-vignettes --timings RgnTX_1.1.0.tar.gz
###
##############################################################################
##############################################################################
* using log directory 'F:/biocbuild/bbs-3.17-bioc-rtools43/meat/RgnTX.Rcheck'
* using R Under development (unstable) (2022-12-25 r83502 ucrt)
* using platform: x86_64-w64-mingw32 (64-bit)
* R was compiled by
gcc.exe (GCC) 10.4.0
GNU Fortran (GCC) 10.4.0
* running under: Windows Server x64 (build 20348)
* using session charset: UTF-8
* using option '--no-vignettes'
* checking for file 'RgnTX/DESCRIPTION' ... OK
* this is package 'RgnTX' version '1.1.0'
* package encoding: UTF-8
* checking package namespace information ... OK
* checking package dependencies ... OK
* checking if this is a source package ... OK
* checking if there is a namespace ... OK
* checking for hidden files and directories ... OK
* checking for portable file names ... OK
* checking whether package 'RgnTX' can be installed ... OK
* checking installed package size ... OK
* checking package directory ... OK
* checking 'build' directory ... OK
* checking DESCRIPTION meta-information ... OK
* checking top-level files ... OK
* checking for left-over files ... OK
* checking index information ... OK
* checking package subdirectories ... OK
* checking R files for non-ASCII characters ... OK
* checking R files for syntax errors ... OK
* checking whether the package can be loaded ... OK
* checking whether the package can be loaded with stated dependencies ... OK
* checking whether the package can be unloaded cleanly ... OK
* checking whether the namespace can be loaded with stated dependencies ... OK
* checking whether the namespace can be unloaded cleanly ... OK
* checking dependencies in R code ... OK
* checking S3 generic/method consistency ... OK
* checking replacement functions ... OK
* checking foreign function calls ... OK
* checking R code for possible problems ... OK
* checking Rd files ... OK
* checking Rd metadata ... OK
* checking Rd cross-references ... OK
* checking for missing documentation entries ... OK
* checking for code/documentation mismatches ... OK
* checking Rd \usage sections ... OK
* checking Rd contents ... OK
* checking for unstated dependencies in examples ... OK
* checking files in 'vignettes' ... OK
* checking examples ... OK
Examples with CPU (user + system) or elapsed time > 5s
user system elapsed
shiftedZScoreTx 28.58 0.85 29.43
permTestTxIA_customPick 16.75 0.27 17.02
permTestTxIA 15.00 0.31 15.32
permTestTx 14.42 0.14 14.57
permTestTx_customPick 11.79 0.09 11.90
permTestTx_customAll 11.43 0.09 11.51
overlapCountsTxIA 6.41 0.16 6.56
distanceTx 5.39 0.03 5.43
randomizeFeaturesTx 5.34 0.08 5.42
getStopCodon 5.24 0.06 5.30
* checking for unstated dependencies in 'tests' ... OK
* checking tests ...
Running 'testthat.R'
OK
* checking for unstated dependencies in vignettes ... OK
* checking package vignettes in 'inst/doc' ... OK
* checking running R code from vignettes ... SKIPPED
* checking re-building of vignette outputs ... SKIPPED
* checking PDF version of manual ... OK
* DONE
Status: OK
RgnTX.Rcheck/00install.out
############################################################################## ############################################################################## ### ### Running command: ### ### F:\biocbuild\bbs-3.17-bioc\R\bin\R.exe CMD INSTALL RgnTX ### ############################################################################## ############################################################################## * installing to library 'F:/biocbuild/bbs-3.17-bioc/R/library' * installing *source* package 'RgnTX' ... ** using staged installation ** R ** inst ** byte-compile and prepare package for lazy loading ** help *** installing help indices ** building package indices ** installing vignettes ** testing if installed package can be loaded from temporary location ** testing if installed package can be loaded from final location ** testing if installed package keeps a record of temporary installation path * DONE (RgnTX)
RgnTX.Rcheck/tests/testthat.Rout
R Under development (unstable) (2022-12-25 r83502 ucrt) -- "Unsuffered Consequences"
Copyright (C) 2022 The R Foundation for Statistical Computing
Platform: x86_64-w64-mingw32/x64 (64-bit)
R is free software and comes with ABSOLUTELY NO WARRANTY.
You are welcome to redistribute it under certain conditions.
Type 'license()' or 'licence()' for distribution details.
R is a collaborative project with many contributors.
Type 'contributors()' for more information and
'citation()' on how to cite R or R packages in publications.
Type 'demo()' for some demos, 'help()' for on-line help, or
'help.start()' for an HTML browser interface to help.
Type 'q()' to quit R.
> library(testthat)
> library(RgnTX)
>
> test_check("RgnTX")
Loading required package: GenomicFeatures
Loading required package: BiocGenerics
Attaching package: 'BiocGenerics'
The following objects are masked from 'package:stats':
IQR, mad, sd, var, xtabs
The following objects are masked from 'package:base':
Filter, Find, Map, Position, Reduce, anyDuplicated, aperm, append,
as.data.frame, basename, cbind, colnames, dirname, do.call,
duplicated, eval, evalq, get, grep, grepl, intersect, is.unsorted,
lapply, mapply, match, mget, order, paste, pmax, pmax.int, pmin,
pmin.int, rank, rbind, rownames, sapply, setdiff, sort, table,
tapply, union, unique, unsplit, which.max, which.min
Loading required package: S4Vectors
Loading required package: stats4
Attaching package: 'S4Vectors'
The following objects are masked from 'package:base':
I, expand.grid, unname
Loading required package: IRanges
Attaching package: 'IRanges'
The following object is masked from 'package:grDevices':
windows
Loading required package: GenomeInfoDb
Loading required package: GenomicRanges
Loading required package: AnnotationDbi
Loading required package: Biobase
Welcome to Bioconductor
Vignettes contain introductory material; view with
'browseVignettes()'. To cite Bioconductor, see
'citation("Biobase")', and for packages 'citation("pkgname")'.
[ FAIL 0 | WARN 0 | SKIP 0 | PASS 42 ]
>
> proc.time()
user system elapsed
37.43 1.34 38.81
RgnTX.Rcheck/RgnTX-Ex.timings
| name | user | system | elapsed | |
| GRanges2GRangesList | 0.15 | 0.01 | 0.17 | |
| GRangesList2GRanges | 4.00 | 0.22 | 4.21 | |
| calculateShift | 1.73 | 0.11 | 1.85 | |
| distanceTx | 5.39 | 0.03 | 5.43 | |
| extractRegions | 1.91 | 0.08 | 1.98 | |
| getPermSpaceByFeatures | 2.42 | 0.09 | 2.52 | |
| getPermSpaceByTxID | 2.48 | 0.02 | 2.50 | |
| getPermSpaceByType | 1.54 | 0.05 | 1.59 | |
| getStopCodon | 5.24 | 0.06 | 5.30 | |
| getTransInfo | 0.46 | 0.08 | 0.53 | |
| overlapCountsTx | 2.62 | 0.04 | 2.67 | |
| overlapCountsTxIA | 6.41 | 0.16 | 6.56 | |
| overlapWidthTx | 4.80 | 0.19 | 4.99 | |
| permTestTx | 14.42 | 0.14 | 14.57 | |
| permTestTxIA | 15.00 | 0.31 | 15.32 | |
| permTestTxIA_customPick | 16.75 | 0.27 | 17.02 | |
| permTestTx_customAll | 11.43 | 0.09 | 11.51 | |
| permTestTx_customPick | 11.79 | 0.09 | 11.90 | |
| plotPermResults | 0.39 | 0.03 | 0.42 | |
| plotShiftedZScoreTx | 0.13 | 0.00 | 0.12 | |
| randomizeFeaturesTx | 5.34 | 0.08 | 5.42 | |
| randomizeFeaturesTxIA | 3.31 | 0.11 | 3.42 | |
| randomizeTransByOrder | 3.08 | 0.10 | 3.17 | |
| randomizeTx | 2.45 | 0.03 | 2.49 | |
| shiftTx | 2.45 | 0.04 | 2.50 | |
| shiftedZScoreTx | 28.58 | 0.85 | 29.43 | |