| Back to Build/check report for BioC 3.17 |
|
This page was generated on 2023-01-02 09:00:46 -0500 (Mon, 02 Jan 2023).
| Hostname | OS | Arch (*) | R version | Installed pkgs |
|---|---|---|---|---|
| palomino5 | Windows Server 2022 Datacenter | x64 | R Under development (unstable) (2022-12-25 r83502 ucrt) -- "Unsuffered Consequences" | 4165 |
| Click on any hostname to see more info about the system (e.g. compilers) (*) as reported by 'uname -p', except on Windows and Mac OS X | ||||
|
To the developers/maintainers of the Rdisop package: Make sure to use the following settings in order to reproduce any error or warning you see on this page. |
| Package 1606/2158 | Hostname | OS / Arch | INSTALL | BUILD | CHECK | BUILD BIN | ||||||||
| Rdisop 1.59.0 (landing page) Steffen Neumann
| palomino5 | Windows Server 2022 Datacenter / x64 | OK | OK | WARNINGS | OK | ||||||||
| Package: Rdisop |
| Version: 1.59.0 |
| Command: chmod a+r Rdisop -R && F:\biocbuild\bbs-3.17-bioc\R\bin\R.exe CMD build --keep-empty-dirs --no-resave-data Rdisop |
| StartedAt: 2022-12-28 20:04:25 -0500 (Wed, 28 Dec 2022) |
| EndedAt: 2022-12-28 20:05:13 -0500 (Wed, 28 Dec 2022) |
| EllapsedTime: 47.7 seconds |
| RetCode: 0 |
| Status: OK |
| PackageFile: Rdisop_1.59.0.tar.gz |
| PackageFileSize: 820.4 KiB |
############################################################################## ############################################################################## ### ### Running command: ### ### chmod a+r Rdisop -R && F:\biocbuild\bbs-3.17-bioc\R\bin\R.exe CMD build --keep-empty-dirs --no-resave-data Rdisop ### ############################################################################## ############################################################################## * checking for file 'Rdisop/DESCRIPTION' ... OK * preparing 'Rdisop': * checking DESCRIPTION meta-information ... OK * cleaning src * running 'cleanup.win' * installing the package to build vignettes * creating vignettes ... OK * cleaning src * running 'cleanup.win' * checking for LF line-endings in source and make files and shell scripts * checking for empty or unneeded directories * building 'Rdisop_1.59.0.tar.gz' Warning: file 'Rdisop/cleanup' did not have execute permissions: corrected Warning: file 'Rdisop/src/imslib/configure' did not have execute permissions: corrected