| Back to Build/check report for BioC 3.17 |
|
This page was generated on 2023-01-02 09:00:38 -0500 (Mon, 02 Jan 2023).
| Hostname | OS | Arch (*) | R version | Installed pkgs |
|---|---|---|---|---|
| palomino5 | Windows Server 2022 Datacenter | x64 | R Under development (unstable) (2022-12-25 r83502 ucrt) -- "Unsuffered Consequences" | 4165 |
| Click on any hostname to see more info about the system (e.g. compilers) (*) as reported by 'uname -p', except on Windows and Mac OS X | ||||
|
To the developers/maintainers of the MicrobiotaProcess package: Make sure to use the following settings in order to reproduce any error or warning you see on this page. |
| Package 1181/2158 | Hostname | OS / Arch | INSTALL | BUILD | CHECK | BUILD BIN | ||||||||
| MicrobiotaProcess 1.11.3 (landing page) Shuangbin Xu
| palomino5 | Windows Server 2022 Datacenter / x64 | OK | OK | OK | OK | ||||||||
| Package: MicrobiotaProcess |
| Version: 1.11.3 |
| Command: F:\biocbuild\bbs-3.17-bioc\R\bin\R.exe CMD check --no-multiarch --install=check:MicrobiotaProcess.install-out.txt --library=F:\biocbuild\bbs-3.17-bioc\R\library --no-vignettes --timings MicrobiotaProcess_1.11.3.tar.gz |
| StartedAt: 2022-12-29 01:23:04 -0500 (Thu, 29 Dec 2022) |
| EndedAt: 2022-12-29 01:27:26 -0500 (Thu, 29 Dec 2022) |
| EllapsedTime: 262.1 seconds |
| RetCode: 0 |
| Status: OK |
| CheckDir: MicrobiotaProcess.Rcheck |
| Warnings: 0 |
##############################################################################
##############################################################################
###
### Running command:
###
### F:\biocbuild\bbs-3.17-bioc\R\bin\R.exe CMD check --no-multiarch --install=check:MicrobiotaProcess.install-out.txt --library=F:\biocbuild\bbs-3.17-bioc\R\library --no-vignettes --timings MicrobiotaProcess_1.11.3.tar.gz
###
##############################################################################
##############################################################################
* using log directory 'F:/biocbuild/bbs-3.17-bioc-rtools43/meat/MicrobiotaProcess.Rcheck'
* using R Under development (unstable) (2022-12-25 r83502 ucrt)
* using platform: x86_64-w64-mingw32 (64-bit)
* R was compiled by
gcc.exe (GCC) 10.4.0
GNU Fortran (GCC) 10.4.0
* running under: Windows Server x64 (build 20348)
* using session charset: UTF-8
* using option '--no-vignettes'
* checking for file 'MicrobiotaProcess/DESCRIPTION' ... OK
* checking extension type ... Package
* this is package 'MicrobiotaProcess' version '1.11.3'
* package encoding: UTF-8
* checking package namespace information ... OK
* checking package dependencies ... OK
* checking if this is a source package ... OK
* checking if there is a namespace ... OK
* checking for hidden files and directories ... OK
* checking for portable file names ... OK
* checking whether package 'MicrobiotaProcess' can be installed ... OK
* checking installed package size ... OK
* checking package directory ... OK
* checking 'build' directory ... OK
* checking DESCRIPTION meta-information ... OK
* checking top-level files ... OK
* checking for left-over files ... OK
* checking index information ... OK
* checking package subdirectories ... OK
* checking R files for non-ASCII characters ... OK
* checking R files for syntax errors ... OK
* checking whether the package can be loaded ... OK
* checking whether the package can be loaded with stated dependencies ... OK
* checking whether the package can be unloaded cleanly ... OK
* checking whether the namespace can be loaded with stated dependencies ... OK
* checking whether the namespace can be unloaded cleanly ... OK
* checking dependencies in R code ... OK
* checking S3 generic/method consistency ... OK
* checking replacement functions ... OK
* checking foreign function calls ... OK
* checking R code for possible problems ... OK
* checking Rd files ... OK
* checking Rd metadata ... OK
* checking Rd cross-references ... OK
* checking for missing documentation entries ... OK
* checking for code/documentation mismatches ... OK
* checking Rd \usage sections ... OK
* checking Rd contents ... OK
* checking for unstated dependencies in examples ... OK
* checking contents of 'data' directory ... OK
* checking data for non-ASCII characters ... OK
* checking data for ASCII and uncompressed saves ... OK
* checking files in 'vignettes' ... OK
* checking examples ... OK
Examples with CPU (user + system) or elapsed time > 5s
user system elapsed
mp_cal_abundance-methods 7.16 0.09 7.38
mp_cal_rarecurve-methods 6.47 0.11 6.58
mp_plot_diff_boxplot-methods 5.56 0.31 5.85
* checking for unstated dependencies in 'tests' ... OK
* checking tests ...
Running 'testthat.R'
OK
* checking for unstated dependencies in vignettes ... OK
* checking package vignettes in 'inst/doc' ... OK
* checking running R code from vignettes ... SKIPPED
* checking re-building of vignette outputs ... SKIPPED
* checking PDF version of manual ... OK
* DONE
Status: OK
MicrobiotaProcess.Rcheck/00install.out
############################################################################## ############################################################################## ### ### Running command: ### ### F:\biocbuild\bbs-3.17-bioc\R\bin\R.exe CMD INSTALL MicrobiotaProcess ### ############################################################################## ############################################################################## * installing to library 'F:/biocbuild/bbs-3.17-bioc/R/library' * installing *source* package 'MicrobiotaProcess' ... ** using staged installation ** R ** data ** inst ** byte-compile and prepare package for lazy loading in method for 'taxonomy<-' with signature 'x="MPSE",value="taxonomyTable"': no definition for class "taxonomyTable" Creating a generic function for 'rownames<-' from package 'base' in package 'MicrobiotaProcess' in method for 'get_alltaxadf' with signature '"phyloseq"': no definition for class "phyloseq" in method for 'get_taxadf' with signature '"phyloseq"': no definition for class "phyloseq" in method for 'get_alphaindex' with signature '"phyloseq"': no definition for class "phyloseq" in method for 'get_NRI_NTI' with signature '"phyloseq"': no definition for class "phyloseq" in method for 'get_rarecurve' with signature '"phyloseq"': no definition for class "phyloseq" in method for 'get_upset' with signature '"phyloseq"': no definition for class "phyloseq" in method for 'get_vennlist' with signature '"phyloseq"': no definition for class "phyloseq" in method for 'drop_taxa' with signature '"phyloseq"': no definition for class "phyloseq" ** help *** installing help indices ** building package indices ** installing vignettes ** testing if installed package can be loaded from temporary location ** testing if installed package can be loaded from final location ** testing if installed package keeps a record of temporary installation path * DONE (MicrobiotaProcess)
MicrobiotaProcess.Rcheck/tests/testthat.Rout
R Under development (unstable) (2022-12-25 r83502 ucrt) -- "Unsuffered Consequences"
Copyright (C) 2022 The R Foundation for Statistical Computing
Platform: x86_64-w64-mingw32/x64 (64-bit)
R is free software and comes with ABSOLUTELY NO WARRANTY.
You are welcome to redistribute it under certain conditions.
Type 'license()' or 'licence()' for distribution details.
R is a collaborative project with many contributors.
Type 'contributors()' for more information and
'citation()' on how to cite R or R packages in publications.
Type 'demo()' for some demos, 'help()' for on-line help, or
'help.start()' for an HTML browser interface to help.
Type 'q()' to quit R.
> library("testthat")
> library("MicrobiotaProcess")
MicrobiotaProcess v1.11.3 For help:
https://github.com/YuLab-SMU/MicrobiotaProcess/issues
If you use MicrobiotaProcess in published research, please cite the
paper:
S Xu, L Zhan, W Tang, Z Dai, L Zhou, T Feng, M Chen, S Liu, X Fu, T Wu,
E Hu, G Yu. MicrobiotaProcess: A comprehensive R package for managing
and analyzing microbiome and other ecological data within the tidy
framework. 04 February 2022, PREPRINT (Version 1) available at Research
Square [https://doi.org/10.21203/rs.3.rs-1284357/v1]
This message can be suppressed by:
suppressPackageStartupMessages(library(MicrobiotaProcess))
Attaching package: 'MicrobiotaProcess'
The following object is masked from 'package:stats':
filter
> test_check("MicrobiotaProcess")
[ FAIL 0 | WARN 9 | SKIP 0 | PASS 13 ]
[ FAIL 0 | WARN 9 | SKIP 0 | PASS 13 ]
>
> proc.time()
user system elapsed
10.14 0.65 10.76
MicrobiotaProcess.Rcheck/MicrobiotaProcess-Ex.timings
| name | user | system | elapsed | |
| ImportDada2 | 1.16 | 0.03 | 1.19 | |
| ImportQiime2 | 3.23 | 0.08 | 3.34 | |
| MPSE | 0.09 | 0.00 | 0.09 | |
| as.treedata | 0 | 0 | 0 | |
| build_tree | 0 | 0 | 0 | |
| convert_to_treedata | 0 | 0 | 0 | |
| data-hmp_aerobiosis_small | 0.02 | 0.00 | 0.02 | |
| data-kostic2012crc | 0.03 | 0.00 | 0.03 | |
| data-test_otu_data | 0 | 0 | 0 | |
| diff_analysis | 0 | 0 | 0 | |
| dr_extract | 0 | 0 | 0 | |
| drop_taxa | 0 | 0 | 0 | |
| generalizedFC | 0 | 0 | 0 | |
| get_alltaxadf | 0 | 0 | 0 | |
| get_alphaindex | 0 | 0 | 0 | |
| get_clust | 0 | 0 | 0 | |
| get_coord | 0 | 0 | 0 | |
| get_count | 0 | 0 | 0 | |
| get_dist | 0 | 0 | 0 | |
| get_mean_median | 0 | 0 | 0 | |
| get_pca | 0 | 0 | 0 | |
| get_pcoa | 0 | 0 | 0 | |
| get_pvalue | 0.03 | 0.00 | 0.05 | |
| get_rarecurve | 0 | 0 | 0 | |
| get_sampledflist | 0 | 0 | 0 | |
| get_taxadf | 0 | 0 | 0 | |
| get_upset | 0 | 0 | 0 | |
| get_varct | 0 | 0 | 0 | |
| get_vennlist | 0 | 0 | 0 | |
| ggbartax | 0 | 0 | 0 | |
| ggbox | 0 | 0 | 0 | |
| ggclust | 0 | 0 | 0 | |
| ggdiffbox | 0 | 0 | 0 | |
| ggdiffclade | 0 | 0 | 0 | |
| ggdifftaxbar | 0 | 0 | 0 | |
| ggeffectsize | 0 | 0 | 0 | |
| ggordpoint | 0 | 0 | 0 | |
| ggrarecurve | 0 | 0 | 0 | |
| mp_adonis-methods | 0.13 | 0.00 | 0.13 | |
| mp_aggregate-methods | 0 | 0 | 0 | |
| mp_aggregate_clade-methods | 0 | 0 | 0 | |
| mp_anosim-methods | 1.20 | 0.02 | 1.21 | |
| mp_balance_clade-methods | 0 | 0 | 0 | |
| mp_cal_abundance-methods | 7.16 | 0.09 | 7.38 | |
| mp_cal_alpha-methods | 1.09 | 0.06 | 1.17 | |
| mp_cal_cca-methods | 0.75 | 0.03 | 0.85 | |
| mp_cal_clust-methods | 0.52 | 0.00 | 0.53 | |
| mp_cal_dist-methods | 1.76 | 0.04 | 1.79 | |
| mp_cal_divergence-methods | 0 | 0 | 0 | |
| mp_cal_nmds-methods | 0.17 | 0.01 | 0.19 | |
| mp_cal_pca-methods | 1.58 | 0.00 | 1.57 | |
| mp_cal_pcoa-methods | 0.73 | 0.06 | 0.80 | |
| mp_cal_pd_metric-methods | 0 | 0 | 0 | |
| mp_cal_rarecurve-methods | 6.47 | 0.11 | 6.58 | |
| mp_cal_rda-methods | 0.68 | 0.00 | 0.68 | |
| mp_cal_upset-methods | 0.93 | 0.03 | 0.97 | |
| mp_cal_venn-methods | 1.22 | 0.08 | 1.52 | |
| mp_decostand-methods | 0.31 | 0.00 | 0.31 | |
| mp_diff_analysis-methods | 4.01 | 0.19 | 4.20 | |
| mp_diff_clade-methods | 0 | 0 | 0 | |
| mp_dmn-methods | 0 | 0 | 0 | |
| mp_dmngroup-methods | 0 | 0 | 0 | |
| mp_envfit-methods | 1.44 | 0.03 | 1.47 | |
| mp_filter_taxa-methods | 0.84 | 0.00 | 0.85 | |
| mp_import_metaphlan | 2.30 | 0.03 | 2.32 | |
| mp_mantel-methods | 0.25 | 0.00 | 0.27 | |
| mp_mrpp-methods | 0.14 | 0.02 | 0.16 | |
| mp_plot_abundance-methods | 0 | 0 | 0 | |
| mp_plot_alpha-methods | 0 | 0 | 0 | |
| mp_plot_diff_boxplot-methods | 5.56 | 0.31 | 5.85 | |
| mp_plot_diff_cladogram | 0 | 0 | 0 | |
| mp_plot_diff_manhattan-methods | 2.63 | 0.08 | 2.71 | |
| mp_plot_dist-methods | 0 | 0 | 0 | |
| mp_plot_ord-methods | 0 | 0 | 0 | |
| mp_plot_rarecurve-methods | 0 | 0 | 0 | |
| mp_plot_upset-methods | 0 | 0 | 0 | |
| mp_plot_venn-methods | 0 | 0 | 0 | |
| mp_rrarefy-methods | 0.34 | 0.00 | 0.34 | |
| mp_select_as_tip-methods | 0 | 0 | 0 | |
| mp_stat_taxa-methods | 0.64 | 0.03 | 0.69 | |
| multi_compare | 0 | 0 | 0 | |
| read_qza | 0 | 0 | 0 | |
| show-methods | 0.02 | 0.00 | 0.01 | |
| split_data | 0 | 0 | 0 | |
| split_str_to_list | 0 | 0 | 0 | |
| theme_taxbar | 0 | 0 | 0 | |