| Back to Build/check report for BioC 3.17 |
|
This page was generated on 2023-01-02 09:00:37 -0500 (Mon, 02 Jan 2023).
| Hostname | OS | Arch (*) | R version | Installed pkgs |
|---|---|---|---|---|
| palomino5 | Windows Server 2022 Datacenter | x64 | R Under development (unstable) (2022-12-25 r83502 ucrt) -- "Unsuffered Consequences" | 4165 |
| Click on any hostname to see more info about the system (e.g. compilers) (*) as reported by 'uname -p', except on Windows and Mac OS X | ||||
|
To the developers/maintainers of the MassArray package: Make sure to use the following settings in order to reproduce any error or warning you see on this page. |
| Package 1082/2158 | Hostname | OS / Arch | INSTALL | BUILD | CHECK | BUILD BIN | ||||||||
| MassArray 1.51.0 (landing page) Reid F. Thompson
| palomino5 | Windows Server 2022 Datacenter / x64 | OK | OK | OK | OK | ||||||||
| Package: MassArray |
| Version: 1.51.0 |
| Command: F:\biocbuild\bbs-3.17-bioc\R\bin\R.exe CMD check --no-multiarch --install=check:MassArray.install-out.txt --library=F:\biocbuild\bbs-3.17-bioc\R\library --no-vignettes --timings MassArray_1.51.0.tar.gz |
| StartedAt: 2022-12-29 01:04:09 -0500 (Thu, 29 Dec 2022) |
| EndedAt: 2022-12-29 01:04:52 -0500 (Thu, 29 Dec 2022) |
| EllapsedTime: 43.3 seconds |
| RetCode: 0 |
| Status: OK |
| CheckDir: MassArray.Rcheck |
| Warnings: 0 |
##############################################################################
##############################################################################
###
### Running command:
###
### F:\biocbuild\bbs-3.17-bioc\R\bin\R.exe CMD check --no-multiarch --install=check:MassArray.install-out.txt --library=F:\biocbuild\bbs-3.17-bioc\R\library --no-vignettes --timings MassArray_1.51.0.tar.gz
###
##############################################################################
##############################################################################
* using log directory 'F:/biocbuild/bbs-3.17-bioc-rtools43/meat/MassArray.Rcheck'
* using R Under development (unstable) (2022-12-25 r83502 ucrt)
* using platform: x86_64-w64-mingw32 (64-bit)
* R was compiled by
gcc.exe (GCC) 10.4.0
GNU Fortran (GCC) 10.4.0
* running under: Windows Server x64 (build 20348)
* using session charset: UTF-8
* using option '--no-vignettes'
* checking for file 'MassArray/DESCRIPTION' ... OK
* checking extension type ... Package
* this is package 'MassArray' version '1.51.0'
* checking package namespace information ... OK
* checking package dependencies ... OK
* checking if this is a source package ... OK
* checking if there is a namespace ... OK
* checking for hidden files and directories ... OK
* checking for portable file names ... OK
* checking whether package 'MassArray' can be installed ... OK
* checking installed package size ... OK
* checking package directory ... OK
* checking 'build' directory ... OK
* checking DESCRIPTION meta-information ... OK
* checking top-level files ... OK
* checking for left-over files ... OK
* checking index information ... OK
* checking package subdirectories ... OK
* checking R files for non-ASCII characters ... OK
* checking R files for syntax errors ... OK
* checking whether the package can be loaded ... OK
* checking whether the package can be loaded with stated dependencies ... OK
* checking whether the package can be unloaded cleanly ... OK
* checking whether the namespace can be loaded with stated dependencies ... OK
* checking whether the namespace can be unloaded cleanly ... OK
* checking dependencies in R code ... OK
* checking S3 generic/method consistency ... OK
* checking replacement functions ... OK
* checking foreign function calls ... OK
* checking R code for possible problems ... NOTE
calcMeth: warning in matrix(0, nr = 0, nc = N): partial argument match
of 'nr' to 'nrow'
calcMeth: warning in matrix(0, nr = 0, nc = N): partial argument match
of 'nc' to 'ncol'
calcMeth: warning in matrix(0, nr = num.SNRs, nc = N): partial argument
match of 'nr' to 'nrow'
calcMeth: warning in matrix(0, nr = num.SNRs, nc = N): partial argument
match of 'nc' to 'ncol'
calcMeth: warning in matrix(0, nr = num.missing, nc = N): partial
argument match of 'nr' to 'nrow'
calcMeth: warning in matrix(0, nr = num.missing, nc = N): partial
argument match of 'nc' to 'ncol'
calcMeth: warning in matrix(0, nr = length(na.coefs), nc = N): partial
argument match of 'nr' to 'nrow'
calcMeth: warning in matrix(0, nr = length(na.coefs), nc = N): partial
argument match of 'nc' to 'ncol'
calcMeth : optimizeCoefficients: warning in matrix(0, nr =
num.fragments, nc = N): partial argument match of 'nr' to 'nrow'
calcMeth : optimizeCoefficients: warning in matrix(0, nr =
num.fragments, nc = N): partial argument match of 'nc' to 'ncol'
calcMeth : optimizeCoefficients: warning in matrix(NA, nr =
length(coefs) + 1, nc = length(coefs)): partial argument match of
'nr' to 'nrow'
calcMeth : optimizeCoefficients: warning in matrix(NA, nr =
length(coefs) + 1, nc = length(coefs)): partial argument match of
'nc' to 'ncol'
$<-,MassArrayData: no visible global function definition for 'slot<-'
$<-,MassArrayFragment: no visible global function definition for
'slot<-'
$<-,MassArrayPeak: no visible global function definition for 'slot<-'
$<-,MassArraySpectrum: no visible global function definition for
'slot<-'
initialize,MassArrayData: no visible global function definition for
'read.table'
Undefined global functions or variables:
read.table slot<-
Consider adding
importFrom("methods", "slot<-")
importFrom("utils", "read.table")
to your NAMESPACE file (and ensure that your DESCRIPTION Imports field
contains 'methods').
* checking Rd files ... NOTE
checkRd: (-1) MassArrayData-class.Rd:37: Escaped LaTeX specials: \$
checkRd: (-1) MassArrayData-class.Rd:38: Escaped LaTeX specials: \$
checkRd: (-1) MassArrayFragment-class.Rd:40: Escaped LaTeX specials: \$
checkRd: (-1) MassArrayFragment-class.Rd:41: Escaped LaTeX specials: \$
checkRd: (-1) MassArrayPeak-class.Rd:35: Escaped LaTeX specials: \$
checkRd: (-1) MassArrayPeak-class.Rd:36: Escaped LaTeX specials: \$
checkRd: (-1) MassArraySpectrum-class.Rd:28: Escaped LaTeX specials: \$
checkRd: (-1) MassArraySpectrum-class.Rd:29: Escaped LaTeX specials: \$
* checking Rd metadata ... OK
* checking Rd cross-references ... OK
* checking for missing documentation entries ... OK
* checking for code/documentation mismatches ... OK
* checking Rd \usage sections ... OK
* checking Rd contents ... OK
* checking for unstated dependencies in examples ... OK
* checking contents of 'data' directory ... OK
* checking data for non-ASCII characters ... OK
* checking LazyData ... OK
* checking data for ASCII and uncompressed saves ... OK
* checking sizes of PDF files under 'inst/doc' ... OK
* checking files in 'vignettes' ... OK
* checking examples ... OK
Examples with CPU (user + system) or elapsed time > 5s
user system elapsed
evaluateSNPs 8.86 0.95 9.81
* checking for unstated dependencies in vignettes ... OK
* checking package vignettes in 'inst/doc' ... OK
* checking running R code from vignettes ... SKIPPED
* checking re-building of vignette outputs ... SKIPPED
* checking PDF version of manual ... OK
* DONE
Status: 2 NOTEs
See
'F:/biocbuild/bbs-3.17-bioc-rtools43/meat/MassArray.Rcheck/00check.log'
for details.
MassArray.Rcheck/00install.out
############################################################################## ############################################################################## ### ### Running command: ### ### F:\biocbuild\bbs-3.17-bioc\R\bin\R.exe CMD INSTALL MassArray ### ############################################################################## ############################################################################## * installing to library 'F:/biocbuild/bbs-3.17-bioc/R/library' * installing *source* package 'MassArray' ... ** using staged installation ** R ** data *** moving datasets to lazyload DB ** inst ** byte-compile and prepare package for lazy loading ** help *** installing help indices ** building package indices ** installing vignettes ** testing if installed package can be loaded from temporary location ** testing if installed package can be loaded from final location ** testing if installed package keeps a record of temporary installation path * DONE (MassArray)
MassArray.Rcheck/MassArray-Ex.timings
| name | user | system | elapsed | |
| MassArray.example.data | 0.02 | 0.00 | 0.01 | |
| MassArrayData-class | 0 | 0 | 0 | |
| MassArrayFragment-class | 0 | 0 | 0 | |
| MassArrayPeak-class | 0 | 0 | 0 | |
| MassArraySpectrum-class | 0 | 0 | 0 | |
| ampliconPrediction | 0.61 | 0.00 | 0.61 | |
| analyzeCpGs | 0.06 | 0.01 | 0.08 | |
| bisConvert | 0 | 0 | 0 | |
| calcMW | 0 | 0 | 0 | |
| calcMeth | 0.02 | 0.00 | 0.01 | |
| calcPercentAdduct | 0.02 | 0.00 | 0.02 | |
| calcPercentConversion | 0.03 | 0.00 | 0.03 | |
| combine | 0.25 | 0.00 | 0.25 | |
| convControl | 0.00 | 0.02 | 0.01 | |
| countCGs | 0 | 0 | 0 | |
| createWiggle | 0.01 | 0.00 | 0.02 | |
| estimatePrimerDimer | 0.03 | 0.00 | 0.03 | |
| evaluateSNPs | 8.86 | 0.95 | 9.81 | |
| expandSequence | 0 | 0 | 0 | |
| findCollisions | 0 | 0 | 0 | |
| findFragments | 0.02 | 0.00 | 0.02 | |
| findPeaks | 0 | 0 | 0 | |
| identifySNPs | 0.01 | 0.00 | 0.01 | |
| inSilicoFragmentation | 0 | 0 | 0 | |
| isAssayable | 0 | 0 | 0 | |
| numCollisions | 0 | 0 | 0 | |
| plot.MassArrayData | 0.04 | 0.00 | 0.04 | |
| position | 0.00 | 0.02 | 0.01 | |
| revComplement | 0 | 0 | 0 | |
| rnaDigest | 0 | 0 | 0 | |
| samples | 0 | 0 | 0 | |
| sum.MassArraySpectrum | 0.07 | 0.00 | 0.08 | |