| Back to Build/check report for BioC 3.17 |
|
This page was generated on 2023-01-02 09:00:32 -0500 (Mon, 02 Jan 2023).
| Hostname | OS | Arch (*) | R version | Installed pkgs |
|---|---|---|---|---|
| palomino5 | Windows Server 2022 Datacenter | x64 | R Under development (unstable) (2022-12-25 r83502 ucrt) -- "Unsuffered Consequences" | 4165 |
| Click on any hostname to see more info about the system (e.g. compilers) (*) as reported by 'uname -p', except on Windows and Mac OS X | ||||
|
To the developers/maintainers of the Guitar package: Make sure to use the following settings in order to reproduce any error or warning you see on this page. |
| Package 866/2158 | Hostname | OS / Arch | INSTALL | BUILD | CHECK | BUILD BIN | ||||||||
| Guitar 2.15.0 (landing page) Jia Meng
| palomino5 | Windows Server 2022 Datacenter / x64 | OK | OK | OK | OK | ||||||||
| Package: Guitar |
| Version: 2.15.0 |
| Command: F:\biocbuild\bbs-3.17-bioc\R\bin\R.exe CMD check --no-multiarch --install=check:Guitar.install-out.txt --library=F:\biocbuild\bbs-3.17-bioc\R\library --no-vignettes --timings Guitar_2.15.0.tar.gz |
| StartedAt: 2022-12-29 00:24:31 -0500 (Thu, 29 Dec 2022) |
| EndedAt: 2022-12-29 00:28:53 -0500 (Thu, 29 Dec 2022) |
| EllapsedTime: 261.4 seconds |
| RetCode: 0 |
| Status: OK |
| CheckDir: Guitar.Rcheck |
| Warnings: 0 |
##############################################################################
##############################################################################
###
### Running command:
###
### F:\biocbuild\bbs-3.17-bioc\R\bin\R.exe CMD check --no-multiarch --install=check:Guitar.install-out.txt --library=F:\biocbuild\bbs-3.17-bioc\R\library --no-vignettes --timings Guitar_2.15.0.tar.gz
###
##############################################################################
##############################################################################
* using log directory 'F:/biocbuild/bbs-3.17-bioc-rtools43/meat/Guitar.Rcheck'
* using R Under development (unstable) (2022-12-25 r83502 ucrt)
* using platform: x86_64-w64-mingw32 (64-bit)
* R was compiled by
gcc.exe (GCC) 10.4.0
GNU Fortran (GCC) 10.4.0
* running under: Windows Server x64 (build 20348)
* using session charset: UTF-8
* using option '--no-vignettes'
* checking for file 'Guitar/DESCRIPTION' ... OK
* checking extension type ... Package
* this is package 'Guitar' version '2.15.0'
* package encoding: UTF-8
* checking package namespace information ... OK
* checking package dependencies ... NOTE
Depends: includes the non-default packages:
'GenomicFeatures', 'rtracklayer', 'AnnotationDbi', 'GenomicRanges',
'magrittr', 'ggplot2', 'knitr', 'dplyr'
Adding so many packages to the search path is excessive and importing
selectively is preferable.
* checking if this is a source package ... OK
* checking if there is a namespace ... OK
* checking for hidden files and directories ... OK
* checking for portable file names ... OK
* checking whether package 'Guitar' can be installed ... OK
* checking installed package size ... NOTE
installed size is 15.8Mb
sub-directories of 1Mb or more:
extdata 15.7Mb
* checking package directory ... OK
* checking 'build' directory ... OK
* checking DESCRIPTION meta-information ... OK
* checking top-level files ... OK
* checking for left-over files ... OK
* checking index information ... OK
* checking package subdirectories ... OK
* checking R files for non-ASCII characters ... OK
* checking R files for syntax errors ... OK
* checking whether the package can be loaded ... OK
* checking whether the package can be loaded with stated dependencies ... OK
* checking whether the package can be unloaded cleanly ... OK
* checking whether the namespace can be loaded with stated dependencies ... OK
* checking whether the namespace can be unloaded cleanly ... OK
* checking dependencies in R code ... NOTE
Package in Depends field not imported from: 'knitr'
These packages need to be imported from (in the NAMESPACE file)
for when this namespace is loaded but not attached.
Unexported object imported by a ':::' call: 'GenomicRanges:::get_out_of_bound_index'
See the note in ?`:::` about the use of this operator.
* checking S3 generic/method consistency ... OK
* checking replacement functions ... OK
* checking foreign function calls ... OK
* checking R code for possible problems ... NOTE
.extractComponent: no visible binding for global variable 'gene_id'
.generate_guitar_coordinates: no visible global function definition for
'makeGuitarCoordsFromTxDb'
.generate_guitar_coordinates: no visible binding for global variable
'noBins'
Undefined global functions or variables:
gene_id makeGuitarCoordsFromTxDb noBins
* checking Rd files ... OK
* checking Rd metadata ... OK
* checking Rd cross-references ... OK
* checking for missing documentation entries ... OK
* checking for code/documentation mismatches ... OK
* checking Rd \usage sections ... OK
* checking Rd contents ... OK
* checking for unstated dependencies in examples ... OK
* checking sizes of PDF files under 'inst/doc' ... OK
* checking files in 'vignettes' ... OK
* checking examples ... OK
Examples with CPU (user + system) or elapsed time > 5s
user system elapsed
GuitarPlot 21.50 0.50 22.00
GRangesListmapToTranscripts 10.04 0.17 10.23
samplePoints 9.54 0.03 9.57
normalize 9.10 0.08 9.18
makeGuitarTxdb 8.45 0.17 8.64
* checking for unstated dependencies in vignettes ... OK
* checking package vignettes in 'inst/doc' ... OK
* checking running R code from vignettes ... SKIPPED
* checking re-building of vignette outputs ... SKIPPED
* checking PDF version of manual ... OK
* DONE
Status: 4 NOTEs
See
'F:/biocbuild/bbs-3.17-bioc-rtools43/meat/Guitar.Rcheck/00check.log'
for details.
Guitar.Rcheck/00install.out
############################################################################## ############################################################################## ### ### Running command: ### ### F:\biocbuild\bbs-3.17-bioc\R\bin\R.exe CMD INSTALL Guitar ### ############################################################################## ############################################################################## * installing to library 'F:/biocbuild/bbs-3.17-bioc/R/library' * installing *source* package 'Guitar' ... ** using staged installation ** R ** inst ** byte-compile and prepare package for lazy loading ** help *** installing help indices ** building package indices ** installing vignettes ** testing if installed package can be loaded from temporary location ** testing if installed package can be loaded from final location ** testing if installed package keeps a record of temporary installation path * DONE (Guitar)
Guitar.Rcheck/Guitar-Ex.timings
| name | user | system | elapsed | |
| GRangesListmapToTranscripts | 10.04 | 0.17 | 10.23 | |
| GuitarPlot | 21.5 | 0.5 | 22.0 | |
| makeGuitarTxdb | 8.45 | 0.17 | 8.64 | |
| normalize | 9.10 | 0.08 | 9.18 | |
| samplePoints | 9.54 | 0.03 | 9.57 | |