| Back to Build/check report for BioC 3.17 |
|
This page was generated on 2023-01-02 09:00:32 -0500 (Mon, 02 Jan 2023).
| Hostname | OS | Arch (*) | R version | Installed pkgs |
|---|---|---|---|---|
| palomino5 | Windows Server 2022 Datacenter | x64 | R Under development (unstable) (2022-12-25 r83502 ucrt) -- "Unsuffered Consequences" | 4165 |
| Click on any hostname to see more info about the system (e.g. compilers) (*) as reported by 'uname -p', except on Windows and Mac OS X | ||||
|
To the developers/maintainers of the GOexpress package: Make sure to use the following settings in order to reproduce any error or warning you see on this page. |
| Package 822/2158 | Hostname | OS / Arch | INSTALL | BUILD | CHECK | BUILD BIN | ||||||||
| GOexpress 1.33.0 (landing page) Kevin Rue-Albrecht
| palomino5 | Windows Server 2022 Datacenter / x64 | OK | OK | OK | OK | ||||||||
| Package: GOexpress |
| Version: 1.33.0 |
| Command: F:\biocbuild\bbs-3.17-bioc\R\bin\R.exe CMD check --no-multiarch --install=check:GOexpress.install-out.txt --library=F:\biocbuild\bbs-3.17-bioc\R\library --no-vignettes --timings GOexpress_1.33.0.tar.gz |
| StartedAt: 2022-12-29 00:15:51 -0500 (Thu, 29 Dec 2022) |
| EndedAt: 2022-12-29 00:17:45 -0500 (Thu, 29 Dec 2022) |
| EllapsedTime: 114.2 seconds |
| RetCode: 0 |
| Status: OK |
| CheckDir: GOexpress.Rcheck |
| Warnings: 0 |
##############################################################################
##############################################################################
###
### Running command:
###
### F:\biocbuild\bbs-3.17-bioc\R\bin\R.exe CMD check --no-multiarch --install=check:GOexpress.install-out.txt --library=F:\biocbuild\bbs-3.17-bioc\R\library --no-vignettes --timings GOexpress_1.33.0.tar.gz
###
##############################################################################
##############################################################################
* using log directory 'F:/biocbuild/bbs-3.17-bioc-rtools43/meat/GOexpress.Rcheck'
* using R Under development (unstable) (2022-12-25 r83502 ucrt)
* using platform: x86_64-w64-mingw32 (64-bit)
* R was compiled by
gcc.exe (GCC) 10.4.0
GNU Fortran (GCC) 10.4.0
* running under: Windows Server x64 (build 20348)
* using session charset: UTF-8
* using option '--no-vignettes'
* checking for file 'GOexpress/DESCRIPTION' ... OK
* this is package 'GOexpress' version '1.33.0'
* checking package namespace information ... OK
* checking package dependencies ... OK
* checking if this is a source package ... OK
* checking if there is a namespace ... OK
* checking for hidden files and directories ... NOTE
Found the following hidden files and directories:
.travis.yml
These were most likely included in error. See section 'Package
structure' in the 'Writing R Extensions' manual.
* checking for portable file names ... OK
* checking whether package 'GOexpress' can be installed ... OK
* checking installed package size ... OK
* checking package directory ... OK
* checking 'build' directory ... OK
* checking DESCRIPTION meta-information ... OK
* checking top-level files ... OK
* checking for left-over files ... OK
* checking index information ... OK
* checking package subdirectories ... OK
* checking R files for non-ASCII characters ... OK
* checking R files for syntax errors ... OK
* checking whether the package can be loaded ... OK
* checking whether the package can be loaded with stated dependencies ... OK
* checking whether the package can be unloaded cleanly ... OK
* checking whether the namespace can be loaded with stated dependencies ... OK
* checking whether the namespace can be unloaded cleanly ... OK
* checking dependencies in R code ... OK
* checking S3 generic/method consistency ... OK
* checking replacement functions ... OK
* checking foreign function calls ... OK
* checking R code for possible problems ... NOTE
GO_analyse: no visible binding for global variable 'microarray2dataset'
GO_analyse: no visible binding for global variable 'prefix2dataset'
mart_from_ensembl: no visible binding for global variable
'prefix2dataset'
Undefined global functions or variables:
microarray2dataset prefix2dataset
* checking Rd files ... OK
* checking Rd metadata ... OK
* checking Rd cross-references ... OK
* checking for missing documentation entries ... OK
* checking for code/documentation mismatches ... OK
* checking Rd \usage sections ... OK
* checking Rd contents ... OK
* checking for unstated dependencies in examples ... OK
* checking contents of 'data' directory ... OK
* checking data for non-ASCII characters ... OK
* checking LazyData ... OK
* checking data for ASCII and uncompressed saves ... OK
* checking sizes of PDF files under 'inst/doc' ... OK
* checking files in 'vignettes' ... OK
* checking examples ... OK
* checking for unstated dependencies in vignettes ... OK
* checking package vignettes in 'inst/doc' ... OK
* checking running R code from vignettes ... SKIPPED
* checking re-building of vignette outputs ... SKIPPED
* checking PDF version of manual ... OK
* DONE
Status: 2 NOTEs
See
'F:/biocbuild/bbs-3.17-bioc-rtools43/meat/GOexpress.Rcheck/00check.log'
for details.
GOexpress.Rcheck/00install.out
############################################################################## ############################################################################## ### ### Running command: ### ### F:\biocbuild\bbs-3.17-bioc\R\bin\R.exe CMD INSTALL GOexpress ### ############################################################################## ############################################################################## * installing to library 'F:/biocbuild/bbs-3.17-bioc/R/library' * installing *source* package 'GOexpress' ... ** using staged installation ** R ** data *** moving datasets to lazyload DB ** inst ** byte-compile and prepare package for lazy loading ** help *** installing help indices ** building package indices ** installing vignettes ** testing if installed package can be loaded from temporary location ** testing if installed package can be loaded from final location ** testing if installed package keeps a record of temporary installation path * DONE (GOexpress)
GOexpress.Rcheck/GOexpress-Ex.timings
| name | user | system | elapsed | |
| AlvMac | 0.13 | 0.04 | 0.15 | |
| AlvMac_GOgenes | 0.31 | 0.00 | 0.32 | |
| AlvMac_allGO | 0.01 | 0.00 | 0.02 | |
| AlvMac_allgenes | 0.02 | 0.00 | 0.01 | |
| AlvMac_results | 0.12 | 0.00 | 0.13 | |
| AlvMac_results.pVal | 1.97 | 0.79 | 2.76 | |
| GO_analyse | 1.89 | 0.05 | 1.94 | |
| GOexpress-package | 0.02 | 0.00 | 0.02 | |
| cluster_GO | 0.11 | 0.00 | 0.11 | |
| expression_plot | 1.82 | 0.14 | 1.97 | |
| expression_plot_symbol | 0.68 | 0.05 | 0.71 | |
| expression_profiles | 0.98 | 0.03 | 1.02 | |
| expression_profiles_symbol | 0.63 | 0.01 | 0.64 | |
| heatmap_GO | 0.36 | 0.00 | 0.36 | |
| hist_scores | 0.14 | 0.04 | 0.17 | |
| list_genes | 0.07 | 0.00 | 0.08 | |
| microarray2dataset | 0.00 | 0.01 | 0.02 | |
| pValue_GO | 0 | 0 | 0 | |
| plot_design | 0.49 | 0.02 | 0.50 | |
| prefix2dataset | 0.00 | 0.01 | 0.01 | |
| quantiles_scores | 0.09 | 0.00 | 0.10 | |
| rerank | 0.16 | 0.02 | 0.17 | |
| subEset | 0.05 | 0.00 | 0.04 | |
| subset_scores | 0.14 | 0.02 | 0.16 | |
| table_genes | 0.06 | 0.00 | 0.06 | |