| Back to Build/check report for BioC 3.17 |
|
This page was generated on 2023-01-02 09:00:29 -0500 (Mon, 02 Jan 2023).
| Hostname | OS | Arch (*) | R version | Installed pkgs |
|---|---|---|---|---|
| palomino5 | Windows Server 2022 Datacenter | x64 | R Under development (unstable) (2022-12-25 r83502 ucrt) -- "Unsuffered Consequences" | 4165 |
| Click on any hostname to see more info about the system (e.g. compilers) (*) as reported by 'uname -p', except on Windows and Mac OS X | ||||
|
To the developers/maintainers of the FLAMES package: Make sure to use the following settings in order to reproduce any error or warning you see on this page. |
| Package 672/2158 | Hostname | OS / Arch | INSTALL | BUILD | CHECK | BUILD BIN | ||||||||
| FLAMES 1.5.1 (landing page) Voogd Oliver
| palomino5 | Windows Server 2022 Datacenter / x64 | OK | OK | ERROR | OK | ||||||||
| Package: FLAMES |
| Version: 1.5.1 |
| Command: rm -rf FLAMES.buildbin-libdir && mkdir FLAMES.buildbin-libdir && F:\biocbuild\bbs-3.17-bioc\R\bin\R.exe CMD INSTALL --build --library=FLAMES.buildbin-libdir FLAMES_1.5.1.tar.gz |
| StartedAt: 2022-12-29 05:09:10 -0500 (Thu, 29 Dec 2022) |
| EndedAt: 2022-12-29 05:10:28 -0500 (Thu, 29 Dec 2022) |
| EllapsedTime: 77.8 seconds |
| RetCode: 0 |
| Status: OK |
| PackageFile: FLAMES_1.5.1.zip |
| PackageFileSize: 6.134 MiB |
##############################################################################
##############################################################################
###
### Running command:
###
### rm -rf FLAMES.buildbin-libdir && mkdir FLAMES.buildbin-libdir && F:\biocbuild\bbs-3.17-bioc\R\bin\R.exe CMD INSTALL --build --library=FLAMES.buildbin-libdir FLAMES_1.5.1.tar.gz
###
##############################################################################
##############################################################################
* installing *source* package 'FLAMES' ...
** using staged installation
** libs
Warning: this package has a non-empty 'configure.win' file,
so building only the main architecture
using C compiler: 'gcc.exe (GCC) 12.2.0'
using C++ compiler: 'G__~1.EXE (GCC) 12.2.0'
using C++17
g++ -std=gnu++17 -I"F:/biocbuild/bbs-3.17-bioc/R/include" -DNDEBUG -D_FILE_OFFSET_BITS=64 -I'F:/biocbuild/bbs-3.17-bioc/R/library/Rcpp/include' -I'F:/biocbuild/bbs-3.17-bioc/R/library/Rhtslib/include' -I'F:/biocbuild/bbs-3.17-bioc/R/library/zlibbioc/include' -I"c:/rtools42/x86_64-w64-mingw32.static.posix/include" -O2 -Wall -mfpmath=sse -msse2 -mstackrealign -c RcppExports.cpp -o RcppExports.o
g++ -std=gnu++17 -I"F:/biocbuild/bbs-3.17-bioc/R/include" -DNDEBUG -D_FILE_OFFSET_BITS=64 -I'F:/biocbuild/bbs-3.17-bioc/R/library/Rcpp/include' -I'F:/biocbuild/bbs-3.17-bioc/R/library/Rhtslib/include' -I'F:/biocbuild/bbs-3.17-bioc/R/library/zlibbioc/include' -I"c:/rtools42/x86_64-w64-mingw32.static.posix/include" -O2 -Wall -mfpmath=sse -msse2 -mstackrealign -c RcppFunctions.cpp -o RcppFunctions.o
In file included from main-functions/../utility/fastq_utils.h:9,
from main-functions/match_cell_barcode.h:16,
from RcppFunctions.cpp:7:
F:/biocbuild/bbs-3.17-bioc/R/library/Rhtslib/include/htslib/kseq.h:185:19: warning: 'int kseq_read(kseq_t*)' defined but not used [-Wunused-function]
185 | SCOPE int kseq_read(kseq_t *seq) \
| ^~~~~~~~~
F:/biocbuild/bbs-3.17-bioc/R/library/Rhtslib/include/htslib/kseq.h:185:19: note: in definition of macro '__KSEQ_READ'
185 | SCOPE int kseq_read(kseq_t *seq) \
| ^~~~~~~~~
F:/biocbuild/bbs-3.17-bioc/R/library/Rhtslib/include/htslib/kseq.h:240:35: note: in expansion of macro 'KSEQ_INIT2'
240 | #define KSEQ_INIT(type_t, __read) KSEQ_INIT2(static, type_t, __read)
| ^~~~~~~~~~
main-functions/../utility/fastq_utils.h:15:1: note: in expansion of macro 'KSEQ_INIT'
15 | KSEQ_INIT(gzFile, gzread)
| ^~~~~~~~~
F:/biocbuild/bbs-3.17-bioc/R/library/Rhtslib/include/htslib/kseq.h:171:20: warning: 'void kseq_destroy(kseq_t*)' defined but not used [-Wunused-function]
171 | SCOPE void kseq_destroy(kseq_t *ks) \
| ^~~~~~~~~~~~
F:/biocbuild/bbs-3.17-bioc/R/library/Rhtslib/include/htslib/kseq.h:171:20: note: in definition of macro '__KSEQ_BASIC'
171 | SCOPE void kseq_destroy(kseq_t *ks) \
| ^~~~~~~~~~~~
F:/biocbuild/bbs-3.17-bioc/R/library/Rhtslib/include/htslib/kseq.h:240:35: note: in expansion of macro 'KSEQ_INIT2'
240 | #define KSEQ_INIT(type_t, __read) KSEQ_INIT2(static, type_t, __read)
| ^~~~~~~~~~
main-functions/../utility/fastq_utils.h:15:1: note: in expansion of macro 'KSEQ_INIT'
15 | KSEQ_INIT(gzFile, gzread)
| ^~~~~~~~~
F:/biocbuild/bbs-3.17-bioc/R/library/Rhtslib/include/htslib/kseq.h:165:23: warning: 'kseq_t* kseq_init(bioc_gzFile)' defined but not used [-Wunused-function]
165 | SCOPE kseq_t *kseq_init(type_t fd) \
| ^~~~~~~~~
F:/biocbuild/bbs-3.17-bioc/R/library/Rhtslib/include/htslib/kseq.h:165:23: note: in definition of macro '__KSEQ_BASIC'
165 | SCOPE kseq_t *kseq_init(type_t fd) \
| ^~~~~~~~~
F:/biocbuild/bbs-3.17-bioc/R/library/Rhtslib/include/htslib/kseq.h:240:35: note: in expansion of macro 'KSEQ_INIT2'
240 | #define KSEQ_INIT(type_t, __read) KSEQ_INIT2(static, type_t, __read)
| ^~~~~~~~~~
main-functions/../utility/fastq_utils.h:15:1: note: in expansion of macro 'KSEQ_INIT'
15 | KSEQ_INIT(gzFile, gzread)
| ^~~~~~~~~
/bin/sh: line 1: F:/biocbuild/bbs-3.17-bioc/R/bin.R: No such file or directory
gcc -I"F:/biocbuild/bbs-3.17-bioc/R/include" -DNDEBUG -D_FILE_OFFSET_BITS=64 -I'F:/biocbuild/bbs-3.17-bioc/R/library/Rcpp/include' -I'F:/biocbuild/bbs-3.17-bioc/R/library/Rhtslib/include' -I'F:/biocbuild/bbs-3.17-bioc/R/library/zlibbioc/include' -I"c:/rtools42/x86_64-w64-mingw32.static.posix/include" -O2 -Wall -std=gnu99 -mfpmath=sse -msse2 -mstackrealign -c bam.c -o bam.o
bam.c: In function 'bam_remove_B':
bam.c:163:9: warning: this 'for' clause does not guard... [-Wmisleading-indentation]
163 | for (k = 0; k < b->core.n_cigar; ++k)
| ^~~
bam.c:165:17: note: ...this statement, but the latter is misleadingly indented as if it were guarded by the 'for'
165 | if (k == b->core.n_cigar) return 0; // no 'B'
| ^~
bam.c:226:17: warning: this 'for' clause does not guard... [-Wmisleading-indentation]
226 | for (k = 1; k < l; ++k)
| ^~~
bam.c:230:25: note: ...this statement, but the latter is misleadingly indented as if it were guarded by the 'for'
230 | for (k = i = 0; k < l; ++k)
| ^~~
bam.c:230:25: warning: this 'for' clause does not guard... [-Wmisleading-indentation]
bam.c:233:33: note: ...this statement, but the latter is misleadingly indented as if it were guarded by the 'for'
233 | l = i;
| ^
g++ -shared -s -static-libgcc -o FLAMES.dll tmp.def RcppExports.o RcppFunctions.o main-functions/match_cell_barcode.o main-functions/merge_bulk.o utility/edit_dist.o utility/fastq_utils.o utility/ssw/ssw_cpp.o bam.o utility/ssw/ssw.o F:/biocbuild/bbs-3.17-bioc/R/library/Rhtslib/usrlib/x64/libhts.a -lz -lm -lbz2 -llzma -lcurl -lidn2 -lunistring -liconv -lssl -lcrypto -lcrypt32 -lwsock32 -lwldap32 -lssh2 -lgcrypt -lgpg-error -lws2_32 -lzstd -lregex -LF:/biocbuild/bbs-3.17-bioc/R/library/zlibbioc/libs/x64 -lzlib1bioc -Lc:/rtools42/x86_64-w64-mingw32.static.posix/lib/x64 -Lc:/rtools42/x86_64-w64-mingw32.static.posix/lib -LF:/biocbuild/bbs-3.17-bioc/R/bin/x64 -lR
installing to F:/biocbuild/bbs-3.17-bioc-rtools43/meat/FLAMES.buildbin-libdir/00LOCK-FLAMES/00new/FLAMES/libs/x64
** R
** inst
** byte-compile and prepare package for lazy loading
** help
*** installing help indices
** building package indices
** installing vignettes
** testing if installed package can be loaded from temporary location
** testing if installed package can be loaded from final location
** testing if installed package keeps a record of temporary installation path
* MD5 sums
packaged installation of 'FLAMES' as FLAMES_1.5.1.zip
* DONE (FLAMES)