| Back to Build/check report for BioC 3.17 | 
  | 
This page was generated on 2023-01-02 09:00:28 -0500 (Mon, 02 Jan 2023).
| Hostname | OS | Arch (*) | R version | Installed pkgs | 
|---|---|---|---|---|
| palomino5 | Windows Server 2022 Datacenter | x64 | R Under development (unstable) (2022-12-25 r83502 ucrt) -- "Unsuffered Consequences" | 4165 | 
| Click on any hostname to see more info about the system (e.g. compilers) (*) as reported by 'uname -p', except on Windows and Mac OS X | ||||
| 
To the developers/maintainers of the EnMCB package: Make sure to use the following settings in order to reproduce any error or warning you see on this page.  | 
| Package 597/2158 | Hostname | OS / Arch | INSTALL | BUILD | CHECK | BUILD BIN | ||||||||
| EnMCB 1.11.1  (landing page) Xin Yu 
  | palomino5 | Windows Server 2022 Datacenter / x64 | OK | OK | OK | OK | ||||||||
| Package: EnMCB | 
| Version: 1.11.1 | 
| Command: rm -rf EnMCB.buildbin-libdir && mkdir EnMCB.buildbin-libdir && F:\biocbuild\bbs-3.17-bioc\R\bin\R.exe CMD INSTALL --build --library=EnMCB.buildbin-libdir EnMCB_1.11.1.tar.gz | 
| StartedAt: 2022-12-29 05:06:40 -0500 (Thu, 29 Dec 2022) | 
| EndedAt: 2022-12-29 05:06:55 -0500 (Thu, 29 Dec 2022) | 
| EllapsedTime: 14.9 seconds | 
| RetCode: 0 | 
| Status: OK | 
| PackageFile: EnMCB_1.11.1.zip | 
| PackageFileSize: 318.4 KiB | 
############################################################################## ############################################################################## ### ### Running command: ### ### rm -rf EnMCB.buildbin-libdir && mkdir EnMCB.buildbin-libdir && F:\biocbuild\bbs-3.17-bioc\R\bin\R.exe CMD INSTALL --build --library=EnMCB.buildbin-libdir EnMCB_1.11.1.tar.gz ### ############################################################################## ############################################################################## * installing *source* package 'EnMCB' ... ** using staged installation ** R ** data ** inst ** byte-compile and prepare package for lazy loading ** help *** installing help indices ** building package indices ** installing vignettes ** testing if installed package can be loaded from temporary location ** testing if installed package can be loaded from final location ** testing if installed package keeps a record of temporary installation path * MD5 sums packaged installation of 'EnMCB' as EnMCB_1.11.1.zip * DONE (EnMCB)