| Back to Build/check report for BioC 3.17 |
|
This page was generated on 2023-01-02 09:00:26 -0500 (Mon, 02 Jan 2023).
| Hostname | OS | Arch (*) | R version | Installed pkgs |
|---|---|---|---|---|
| palomino5 | Windows Server 2022 Datacenter | x64 | R Under development (unstable) (2022-12-25 r83502 ucrt) -- "Unsuffered Consequences" | 4165 |
| Click on any hostname to see more info about the system (e.g. compilers) (*) as reported by 'uname -p', except on Windows and Mac OS X | ||||
|
To the developers/maintainers of the DelayedMatrixStats package: Make sure to use the following settings in order to reproduce any error or warning you see on this page. |
| Package 494/2158 | Hostname | OS / Arch | INSTALL | BUILD | CHECK | BUILD BIN | ||||||||
| DelayedMatrixStats 1.21.0 (landing page) Peter Hickey
| palomino5 | Windows Server 2022 Datacenter / x64 | OK | OK | OK | OK | ||||||||
| Package: DelayedMatrixStats |
| Version: 1.21.0 |
| Command: chmod a+r DelayedMatrixStats -R && F:\biocbuild\bbs-3.17-bioc\R\bin\R.exe CMD build --keep-empty-dirs --no-resave-data DelayedMatrixStats |
| StartedAt: 2022-12-28 17:34:11 -0500 (Wed, 28 Dec 2022) |
| EndedAt: 2022-12-28 17:37:42 -0500 (Wed, 28 Dec 2022) |
| EllapsedTime: 210.5 seconds |
| RetCode: 0 |
| Status: OK |
| PackageFile: DelayedMatrixStats_1.21.0.tar.gz |
| PackageFileSize: 270.2 KiB |
############################################################################## ############################################################################## ### ### Running command: ### ### chmod a+r DelayedMatrixStats -R && F:\biocbuild\bbs-3.17-bioc\R\bin\R.exe CMD build --keep-empty-dirs --no-resave-data DelayedMatrixStats ### ############################################################################## ############################################################################## * checking for file 'DelayedMatrixStats/DESCRIPTION' ... OK * preparing 'DelayedMatrixStats': * checking DESCRIPTION meta-information ... OK * installing the package to build vignettes * creating vignettes ... OK * checking for LF line-endings in source and make files and shell scripts * checking for empty or unneeded directories Omitted 'LazyData' from DESCRIPTION * building 'DelayedMatrixStats_1.21.0.tar.gz'