| Back to Build/check report for BioC 3.17 |
|
This page was generated on 2023-01-02 09:00:26 -0500 (Mon, 02 Jan 2023).
| Hostname | OS | Arch (*) | R version | Installed pkgs |
|---|---|---|---|---|
| palomino5 | Windows Server 2022 Datacenter | x64 | R Under development (unstable) (2022-12-25 r83502 ucrt) -- "Unsuffered Consequences" | 4165 |
| Click on any hostname to see more info about the system (e.g. compilers) (*) as reported by 'uname -p', except on Windows and Mac OS X | ||||
|
To the developers/maintainers of the DelayedArray package: Make sure to use the following settings in order to reproduce any error or warning you see on this page. |
| Package 492/2158 | Hostname | OS / Arch | INSTALL | BUILD | CHECK | BUILD BIN | ||||||||
| DelayedArray 0.25.0 (landing page) Hervé Pagès
| palomino5 | Windows Server 2022 Datacenter / x64 | OK | OK | WARNINGS | OK | ||||||||
| Package: DelayedArray |
| Version: 0.25.0 |
| Command: rm -rf DelayedArray.buildbin-libdir && mkdir DelayedArray.buildbin-libdir && F:\biocbuild\bbs-3.17-bioc\R\bin\R.exe CMD INSTALL --build --library=DelayedArray.buildbin-libdir DelayedArray_0.25.0.tar.gz |
| StartedAt: 2022-12-29 05:03:07 -0500 (Thu, 29 Dec 2022) |
| EndedAt: 2022-12-29 05:04:10 -0500 (Thu, 29 Dec 2022) |
| EllapsedTime: 63.0 seconds |
| RetCode: 0 |
| Status: OK |
| PackageFile: DelayedArray_0.25.0.zip |
| PackageFileSize: 2.357 MiB |
##############################################################################
##############################################################################
###
### Running command:
###
### rm -rf DelayedArray.buildbin-libdir && mkdir DelayedArray.buildbin-libdir && F:\biocbuild\bbs-3.17-bioc\R\bin\R.exe CMD INSTALL --build --library=DelayedArray.buildbin-libdir DelayedArray_0.25.0.tar.gz
###
##############################################################################
##############################################################################
* installing *source* package 'DelayedArray' ...
** using staged installation
** libs
using C compiler: 'gcc.exe (GCC) 12.2.0'
gcc -I"F:/biocbuild/bbs-3.17-bioc/R/include" -DNDEBUG -I'F:/biocbuild/bbs-3.17-bioc/R/library/S4Vectors/include' -I"c:/rtools42/x86_64-w64-mingw32.static.posix/include" -O2 -Wall -std=gnu99 -mfpmath=sse -msse2 -mstackrealign -c R_init_DelayedArray.c -o R_init_DelayedArray.o
gcc -I"F:/biocbuild/bbs-3.17-bioc/R/include" -DNDEBUG -I'F:/biocbuild/bbs-3.17-bioc/R/library/S4Vectors/include' -I"c:/rtools42/x86_64-w64-mingw32.static.posix/include" -O2 -Wall -std=gnu99 -mfpmath=sse -msse2 -mstackrealign -c S4Vectors_stubs.c -o S4Vectors_stubs.o
gcc -I"F:/biocbuild/bbs-3.17-bioc/R/include" -DNDEBUG -I'F:/biocbuild/bbs-3.17-bioc/R/library/S4Vectors/include' -I"c:/rtools42/x86_64-w64-mingw32.static.posix/include" -O2 -Wall -std=gnu99 -mfpmath=sse -msse2 -mstackrealign -c abind.c -o abind.o
gcc -I"F:/biocbuild/bbs-3.17-bioc/R/include" -DNDEBUG -I'F:/biocbuild/bbs-3.17-bioc/R/library/S4Vectors/include' -I"c:/rtools42/x86_64-w64-mingw32.static.posix/include" -O2 -Wall -std=gnu99 -mfpmath=sse -msse2 -mstackrealign -c array_selection.c -o array_selection.o
gcc -I"F:/biocbuild/bbs-3.17-bioc/R/include" -DNDEBUG -I'F:/biocbuild/bbs-3.17-bioc/R/library/S4Vectors/include' -I"c:/rtools42/x86_64-w64-mingw32.static.posix/include" -O2 -Wall -std=gnu99 -mfpmath=sse -msse2 -mstackrealign -c compress_atomic_vector.c -o compress_atomic_vector.o
compress_atomic_vector.c: In function 'C_encode_atomic_vector':
compress_atomic_vector.c:66:16: warning: 'ans' is used uninitialized [-Wuninitialized]
66 | return ans;
| ^~~
compress_atomic_vector.c:64:14: note: 'ans' was declared here
64 | SEXP ans;
| ^~~
compress_atomic_vector.c: In function 'C_decode_atomic_vector':
compress_atomic_vector.c:73:16: warning: 'ans' is used uninitialized [-Wuninitialized]
73 | return ans;
| ^~~
compress_atomic_vector.c:71:14: note: 'ans' was declared here
71 | SEXP ans;
| ^~~
compress_atomic_vector.c: In function 'C_compress_atomic_vector':
compress_atomic_vector.c:85:16: warning: 'ans' is used uninitialized [-Wuninitialized]
85 | return ans;
| ^~~
compress_atomic_vector.c:83:14: note: 'ans' was declared here
83 | SEXP ans;
| ^~~
compress_atomic_vector.c: In function 'C_decompress_atomic_vector':
compress_atomic_vector.c:92:16: warning: 'ans' is used uninitialized [-Wuninitialized]
92 | return ans;
| ^~~
compress_atomic_vector.c:90:14: note: 'ans' was declared here
90 | SEXP ans;
| ^~~
gcc -I"F:/biocbuild/bbs-3.17-bioc/R/include" -DNDEBUG -I'F:/biocbuild/bbs-3.17-bioc/R/library/S4Vectors/include' -I"c:/rtools42/x86_64-w64-mingw32.static.posix/include" -O2 -Wall -std=gnu99 -mfpmath=sse -msse2 -mstackrealign -c sparseMatrix_utils.c -o sparseMatrix_utils.o
gcc -shared -s -static-libgcc -o DelayedArray.dll tmp.def R_init_DelayedArray.o S4Vectors_stubs.o abind.o array_selection.o compress_atomic_vector.o sparseMatrix_utils.o -Lc:/rtools42/x86_64-w64-mingw32.static.posix/lib/x64 -Lc:/rtools42/x86_64-w64-mingw32.static.posix/lib -LF:/biocbuild/bbs-3.17-bioc/R/bin/x64 -lR
installing to F:/biocbuild/bbs-3.17-bioc-rtools43/meat/DelayedArray.buildbin-libdir/00LOCK-DelayedArray/00new/DelayedArray/libs/x64
** R
** inst
** byte-compile and prepare package for lazy loading
Creating a new generic function for 'rowsum' in package 'DelayedArray'
Creating a new generic function for 'apply' in package 'DelayedArray'
Creating a new generic function for 'sweep' in package 'DelayedArray'
Creating a new generic function for 'scale' in package 'DelayedArray'
Creating a generic function for 'dnorm' from package 'stats' in package 'DelayedArray'
Creating a generic function for 'pnorm' from package 'stats' in package 'DelayedArray'
Creating a generic function for 'qnorm' from package 'stats' in package 'DelayedArray'
Creating a generic function for 'dbinom' from package 'stats' in package 'DelayedArray'
Creating a generic function for 'pbinom' from package 'stats' in package 'DelayedArray'
Creating a generic function for 'qbinom' from package 'stats' in package 'DelayedArray'
Creating a generic function for 'dpois' from package 'stats' in package 'DelayedArray'
Creating a generic function for 'ppois' from package 'stats' in package 'DelayedArray'
Creating a generic function for 'qpois' from package 'stats' in package 'DelayedArray'
Creating a generic function for 'dlogis' from package 'stats' in package 'DelayedArray'
Creating a generic function for 'plogis' from package 'stats' in package 'DelayedArray'
Creating a generic function for 'qlogis' from package 'stats' in package 'DelayedArray'
** help
*** installing help indices
** building package indices
** installing vignettes
** testing if installed package can be loaded from temporary location
** testing if installed package can be loaded from final location
** testing if installed package keeps a record of temporary installation path
* MD5 sums
packaged installation of 'DelayedArray' as DelayedArray_0.25.0.zip
* DONE (DelayedArray)