| Back to Build/check report for BioC 3.17 |
|
This page was generated on 2023-01-02 09:00:23 -0500 (Mon, 02 Jan 2023).
| Hostname | OS | Arch (*) | R version | Installed pkgs |
|---|---|---|---|---|
| palomino5 | Windows Server 2022 Datacenter | x64 | R Under development (unstable) (2022-12-25 r83502 ucrt) -- "Unsuffered Consequences" | 4165 |
| Click on any hostname to see more info about the system (e.g. compilers) (*) as reported by 'uname -p', except on Windows and Mac OS X | ||||
|
To the developers/maintainers of the ChIPanalyser package: Make sure to use the following settings in order to reproduce any error or warning you see on this page. |
| Package 303/2158 | Hostname | OS / Arch | INSTALL | BUILD | CHECK | BUILD BIN | ||||||||
| ChIPanalyser 1.21.0 (landing page) Patrick C.N. Martin
| palomino5 | Windows Server 2022 Datacenter / x64 | OK | OK | OK | OK | ||||||||
| Package: ChIPanalyser |
| Version: 1.21.0 |
| Command: F:\biocbuild\bbs-3.17-bioc\R\bin\R.exe CMD check --no-multiarch --install=check:ChIPanalyser.install-out.txt --library=F:\biocbuild\bbs-3.17-bioc\R\library --no-vignettes --timings ChIPanalyser_1.21.0.tar.gz |
| StartedAt: 2022-12-28 22:25:28 -0500 (Wed, 28 Dec 2022) |
| EndedAt: 2022-12-28 22:30:16 -0500 (Wed, 28 Dec 2022) |
| EllapsedTime: 288.5 seconds |
| RetCode: 0 |
| Status: OK |
| CheckDir: ChIPanalyser.Rcheck |
| Warnings: 0 |
##############################################################################
##############################################################################
###
### Running command:
###
### F:\biocbuild\bbs-3.17-bioc\R\bin\R.exe CMD check --no-multiarch --install=check:ChIPanalyser.install-out.txt --library=F:\biocbuild\bbs-3.17-bioc\R\library --no-vignettes --timings ChIPanalyser_1.21.0.tar.gz
###
##############################################################################
##############################################################################
* using log directory 'F:/biocbuild/bbs-3.17-bioc-rtools43/meat/ChIPanalyser.Rcheck'
* using R Under development (unstable) (2022-12-25 r83502 ucrt)
* using platform: x86_64-w64-mingw32 (64-bit)
* R was compiled by
gcc.exe (GCC) 10.4.0
GNU Fortran (GCC) 10.4.0
* running under: Windows Server x64 (build 20348)
* using session charset: UTF-8
* using option '--no-vignettes'
* checking for file 'ChIPanalyser/DESCRIPTION' ... OK
* checking extension type ... Package
* this is package 'ChIPanalyser' version '1.21.0'
* package encoding: UTF-8
* checking package namespace information ... OK
* checking package dependencies ... OK
* checking if this is a source package ... OK
* checking if there is a namespace ... OK
* checking for hidden files and directories ... OK
* checking for portable file names ... OK
* checking whether package 'ChIPanalyser' can be installed ... OK
* checking installed package size ... OK
* checking package directory ... OK
* checking 'build' directory ... OK
* checking DESCRIPTION meta-information ... OK
* checking top-level files ... OK
* checking for left-over files ... OK
* checking index information ... OK
* checking package subdirectories ... OK
* checking R files for non-ASCII characters ... OK
* checking R files for syntax errors ... OK
* checking whether the package can be loaded ... OK
* checking whether the package can be loaded with stated dependencies ... OK
* checking whether the package can be unloaded cleanly ... OK
* checking whether the namespace can be loaded with stated dependencies ... OK
* checking whether the namespace can be unloaded cleanly ... OK
* checking dependencies in R code ... OK
* checking S3 generic/method consistency ... OK
* checking replacement functions ... OK
* checking foreign function calls ... OK
* checking R code for possible problems ... OK
* checking Rd files ... OK
* checking Rd metadata ... OK
* checking Rd cross-references ... OK
* checking for missing documentation entries ... OK
* checking for code/documentation mismatches ... OK
* checking Rd \usage sections ... OK
* checking Rd contents ... OK
* checking for unstated dependencies in examples ... OK
* checking contents of 'data' directory ... OK
* checking data for non-ASCII characters ... OK
* checking LazyData ... OK
* checking data for ASCII and uncompressed saves ... OK
* checking sizes of PDF files under 'inst/doc' ... OK
* checking files in 'vignettes' ... OK
* checking examples ... OK
* checking for unstated dependencies in 'tests' ... OK
* checking tests ...
Running 'runTests.R'
OK
* checking for unstated dependencies in vignettes ... OK
* checking package vignettes in 'inst/doc' ... OK
* checking running R code from vignettes ... SKIPPED
* checking re-building of vignette outputs ... SKIPPED
* checking PDF version of manual ... OK
* DONE
Status: OK
ChIPanalyser.Rcheck/00install.out
############################################################################## ############################################################################## ### ### Running command: ### ### F:\biocbuild\bbs-3.17-bioc\R\bin\R.exe CMD INSTALL ChIPanalyser ### ############################################################################## ############################################################################## * installing to library 'F:/biocbuild/bbs-3.17-bioc/R/library' * installing *source* package 'ChIPanalyser' ... ** using staged installation ** R ** data *** moving datasets to lazyload DB ** inst ** byte-compile and prepare package for lazy loading Creating a new generic function for 'drop' in package 'ChIPanalyser' ** help *** installing help indices ** building package indices ** installing vignettes ** testing if installed package can be loaded from temporary location ** testing if installed package can be loaded from final location ** testing if installed package keeps a record of temporary installation path * DONE (ChIPanalyser)
ChIPanalyser.Rcheck/tests/runTests.Rout
R Under development (unstable) (2022-12-25 r83502 ucrt) -- "Unsuffered Consequences"
Copyright (C) 2022 The R Foundation for Statistical Computing
Platform: x86_64-w64-mingw32/x64 (64-bit)
R is free software and comes with ABSOLUTELY NO WARRANTY.
You are welcome to redistribute it under certain conditions.
Type 'license()' or 'licence()' for distribution details.
R is a collaborative project with many contributors.
Type 'contributors()' for more information and
'citation()' on how to cite R or R packages in publications.
Type 'demo()' for some demos, 'help()' for on-line help, or
'help.start()' for an HTML browser interface to help.
Type 'q()' to quit R.
> BiocGenerics:::testPackage("ChIPanalyser")
Attaching package: 'BiocGenerics'
The following objects are masked from 'package:stats':
IQR, mad, sd, var, xtabs
The following objects are masked from 'package:base':
Filter, Find, Map, Position, Reduce, anyDuplicated, aperm, append,
as.data.frame, basename, cbind, colnames, dirname, do.call,
duplicated, eval, evalq, get, grep, grepl, intersect, is.unsorted,
lapply, mapply, match, mget, order, paste, pmax, pmax.int, pmin,
pmin.int, rank, rbind, rownames, sapply, setdiff, sort, table,
tapply, union, unique, unsplit, which.max, which.min
Attaching package: 'S4Vectors'
The following objects are masked from 'package:base':
I, expand.grid, unname
Attaching package: 'IRanges'
The following object is masked from 'package:grDevices':
windows
Attaching package: 'Biostrings'
The following object is masked from 'package:base':
strsplit
Attaching package: 'ChIPanalyser'
The following object is masked from 'package:IRanges':
drop
The following object is masked from 'package:base':
drop
Loading required package: BSgenome.Dmelanogaster.UCSC.dm6
RUNIT TEST PROTOCOL -- Wed Dec 28 22:29:58 2022
***********************************************
Number of test functions: 0
Number of errors: 0
Number of failures: 0
1 Test Suite :
ChIPanalyser RUnit Tests - 0 test functions, 0 errors, 0 failures
Number of test functions: 0
Number of errors: 0
Number of failures: 0
>
> proc.time()
user system elapsed
63.23 24.53 87.90
ChIPanalyser.Rcheck/ChIPanalyser-Ex.timings
| name | user | system | elapsed | |
| BPFrequency | 0.10 | 0.04 | 0.14 | |
| BPFrequency_- | 0.00 | 0.02 | 0.02 | |
| ChIPScore-class | 0 | 0 | 0 | |
| ChIPanalyser-package | 0 | 0 | 0 | |
| DNASequenceLength | 0 | 0 | 0 | |
| GRList-class | 0 | 0 | 0 | |
| PFMFormat | 0.16 | 0.02 | 0.18 | |
| PFMFormat_ | 0.06 | 0.00 | 0.06 | |
| PWMThreshold | 0.02 | 0.00 | 0.01 | |
| PWMThreshold_- | 0.01 | 0.00 | 0.02 | |
| PWMpseudocount | 0.02 | 0.00 | 0.02 | |
| PWMpseudocount_- | 0.01 | 0.00 | 0.01 | |
| PositionFrequencyMatrix | 0.05 | 0.03 | 0.08 | |
| PositionFrequencyMatrix_- | 0.03 | 0.00 | 0.03 | |
| PositionWeightMatrix | 0.06 | 0.01 | 0.08 | |
| PositionWeightMatrix_- | 0 | 0 | 0 | |
| averageExpPWMScore | 0.01 | 0.02 | 0.04 | |
| backgroundSignal | 0.02 | 0.00 | 0.01 | |
| backgroundSignal_- | 0.00 | 0.01 | 0.02 | |
| boundMolecules | 0 | 0 | 0 | |
| boundMolecules_- | 0.02 | 0.00 | 0.01 | |
| chipMean | 0 | 0 | 0 | |
| chipMean_- | 0.01 | 0.00 | 0.02 | |
| chipSd | 0.00 | 0.00 | 0.01 | |
| chipSd_- | 0 | 0 | 0 | |
| chipSmooth | 0 | 0 | 0 | |
| chipSmooth_- | 0 | 0 | 0 | |
| computeChIPProfile | 0 | 0 | 0 | |
| computeGenomeWideScores | 0 | 0 | 0 | |
| computeOccupancy | 0 | 0 | 0 | |
| computeOptimal | 0 | 0 | 0 | |
| computePWMScore | 0 | 0 | 0 | |
| data | 0 | 0 | 0 | |
| drop | 0.03 | 0.02 | 0.05 | |
| evolve | 0.01 | 0.00 | 0.01 | |
| generateStartingPopulation | 0.02 | 0.00 | 0.02 | |
| genomicProfiles-class | 0 | 0 | 0 | |
| genomicProfiles | 0.05 | 0.00 | 0.05 | |
| genomicProfilesInternal-class | 0 | 0 | 0 | |
| getHighestFitnessSolutions | 0 | 0 | 0 | |
| getTestingData | 2.88 | 0.23 | 3.17 | |
| getTrainingData | 0.92 | 0.22 | 1.14 | |
| lambdaPWM | 0.02 | 0.00 | 0.02 | |
| lambdaPWM_ | 0.01 | 0.00 | 0.02 | |
| loci-class | 0 | 0 | 0 | |
| loci | 1.00 | 0.15 | 1.15 | |
| lociWidth | 0.02 | 0.00 | 0.02 | |
| lociWidth_ | 0.01 | 0.00 | 0.01 | |
| maxPWMScore | 0 | 0 | 0 | |
| maxSignal | 0.02 | 0.00 | 0.02 | |
| maxSignal_- | 0 | 0 | 0 | |
| minPWMScore | 0.01 | 0.00 | 0.01 | |
| naturalLog | 0 | 0 | 0 | |
| naturalLog_- | 0 | 0 | 0 | |
| noOfSites | 0.00 | 0.02 | 0.02 | |
| noOfSites_- | 0.00 | 0.01 | 0.01 | |
| noiseFilter | 0.02 | 0.00 | 0.02 | |
| noiseFilter_ | 0.01 | 0.00 | 0.01 | |
| nos-class | 0 | 0 | 0 | |
| parameterOptions-class | 0 | 0 | 0 | |
| parameterOptions | 0.02 | 0.00 | 0.02 | |
| ploidy | 0 | 0 | 0 | |
| ploidy_- | 0.02 | 0.00 | 0.01 | |
| plotOccupancyProfile | 0 | 0 | 0 | |
| plotOptimalHeatMaps | 0.00 | 0.02 | 0.02 | |
| processingChIP | 0.98 | 0.18 | 1.17 | |
| profileAccuracyEstimate | 0 | 0 | 0 | |
| removeBackground | 0.02 | 0.00 | 0.02 | |
| removeBackground_- | 0 | 0 | 0 | |
| scores | 0.92 | 0.21 | 1.12 | |
| searchSites | 0 | 0 | 0 | |
| setChromatinStates | 1.31 | 0.04 | 1.36 | |
| singleRun | 0 | 0 | 0 | |
| splitData | 1.50 | 0.19 | 1.69 | |
| stepSize | 0.02 | 0.00 | 0.01 | |
| stepSize_- | 0 | 0 | 0 | |
| strandRule | 0.00 | 0.02 | 0.02 | |
| strandRule_- | 0.01 | 0.00 | 0.02 | |
| whichstrand | 0.02 | 0.00 | 0.01 | |
| whichstrand_- | 0.01 | 0.00 | 0.02 | |