| Back to Build/check report for BioC 3.17 |
|
This page was generated on 2023-01-02 09:00:22 -0500 (Mon, 02 Jan 2023).
| Hostname | OS | Arch (*) | R version | Installed pkgs |
|---|---|---|---|---|
| palomino5 | Windows Server 2022 Datacenter | x64 | R Under development (unstable) (2022-12-25 r83502 ucrt) -- "Unsuffered Consequences" | 4165 |
| Click on any hostname to see more info about the system (e.g. compilers) (*) as reported by 'uname -p', except on Windows and Mac OS X | ||||
|
To the developers/maintainers of the CausalR package: Make sure to use the following settings in order to reproduce any error or warning you see on this page. |
| Package 255/2158 | Hostname | OS / Arch | INSTALL | BUILD | CHECK | BUILD BIN | ||||||||
| CausalR 1.31.0 (landing page) Glyn Bradley
| palomino5 | Windows Server 2022 Datacenter / x64 | OK | OK | OK | OK | ||||||||
| Package: CausalR |
| Version: 1.31.0 |
| Command: F:\biocbuild\bbs-3.17-bioc\R\bin\R.exe CMD check --no-multiarch --install=check:CausalR.install-out.txt --library=F:\biocbuild\bbs-3.17-bioc\R\library --no-vignettes --timings CausalR_1.31.0.tar.gz |
| StartedAt: 2022-12-28 22:16:51 -0500 (Wed, 28 Dec 2022) |
| EndedAt: 2022-12-28 22:17:41 -0500 (Wed, 28 Dec 2022) |
| EllapsedTime: 49.8 seconds |
| RetCode: 0 |
| Status: OK |
| CheckDir: CausalR.Rcheck |
| Warnings: 0 |
##############################################################################
##############################################################################
###
### Running command:
###
### F:\biocbuild\bbs-3.17-bioc\R\bin\R.exe CMD check --no-multiarch --install=check:CausalR.install-out.txt --library=F:\biocbuild\bbs-3.17-bioc\R\library --no-vignettes --timings CausalR_1.31.0.tar.gz
###
##############################################################################
##############################################################################
* using log directory 'F:/biocbuild/bbs-3.17-bioc-rtools43/meat/CausalR.Rcheck'
* using R Under development (unstable) (2022-12-25 r83502 ucrt)
* using platform: x86_64-w64-mingw32 (64-bit)
* R was compiled by
gcc.exe (GCC) 10.4.0
GNU Fortran (GCC) 10.4.0
* running under: Windows Server x64 (build 20348)
* using session charset: UTF-8
* using option '--no-vignettes'
* checking for file 'CausalR/DESCRIPTION' ... OK
* checking extension type ... Package
* this is package 'CausalR' version '1.31.0'
* checking package namespace information ... OK
* checking package dependencies ... OK
* checking if this is a source package ... OK
* checking if there is a namespace ... OK
* checking for hidden files and directories ... OK
* checking for portable file names ... OK
* checking whether package 'CausalR' can be installed ... OK
* checking installed package size ... OK
* checking package directory ... OK
* checking 'build' directory ... OK
* checking DESCRIPTION meta-information ... OK
* checking top-level files ... OK
* checking for left-over files ... OK
* checking index information ... OK
* checking package subdirectories ... OK
* checking R files for non-ASCII characters ... OK
* checking R files for syntax errors ... OK
* checking whether the package can be loaded ... OK
* checking whether the package can be loaded with stated dependencies ... OK
* checking whether the package can be unloaded cleanly ... OK
* checking whether the namespace can be loaded with stated dependencies ... OK
* checking whether the namespace can be unloaded cleanly ... OK
* checking dependencies in R code ... OK
* checking S3 generic/method consistency ... OK
* checking replacement functions ... OK
* checking foreign function calls ... OK
* checking R code for possible problems ... OK
* checking Rd files ... OK
* checking Rd metadata ... OK
* checking Rd cross-references ... OK
* checking for missing documentation entries ... OK
* checking for code/documentation mismatches ... OK
* checking Rd \usage sections ... OK
* checking Rd contents ... OK
* checking for unstated dependencies in examples ... OK
* checking sizes of PDF files under 'inst/doc' ... OK
* checking files in 'vignettes' ... NOTE
The following directory looks like a leftover from 'knitr':
'figure'
Please remove from your package.
* checking examples ... OK
* checking for unstated dependencies in 'tests' ... OK
* checking tests ...
Running 'runTests.R'
OK
* checking for unstated dependencies in vignettes ... OK
* checking package vignettes in 'inst/doc' ... OK
* checking running R code from vignettes ... SKIPPED
* checking re-building of vignette outputs ... SKIPPED
* checking PDF version of manual ... OK
* DONE
Status: 1 NOTE
See
'F:/biocbuild/bbs-3.17-bioc-rtools43/meat/CausalR.Rcheck/00check.log'
for details.
CausalR.Rcheck/00install.out
############################################################################## ############################################################################## ### ### Running command: ### ### F:\biocbuild\bbs-3.17-bioc\R\bin\R.exe CMD INSTALL CausalR ### ############################################################################## ############################################################################## * installing to library 'F:/biocbuild/bbs-3.17-bioc/R/library' * installing *source* package 'CausalR' ... ** using staged installation ** R ** inst ** byte-compile and prepare package for lazy loading ** help *** installing help indices ** building package indices ** installing vignettes ** testing if installed package can be loaded from temporary location ** testing if installed package can be loaded from final location ** testing if installed package keeps a record of temporary installation path * DONE (CausalR)
CausalR.Rcheck/tests/runTests.Rout
R Under development (unstable) (2022-12-25 r83502 ucrt) -- "Unsuffered Consequences"
Copyright (C) 2022 The R Foundation for Statistical Computing
Platform: x86_64-w64-mingw32/x64 (64-bit)
R is free software and comes with ABSOLUTELY NO WARRANTY.
You are welcome to redistribute it under certain conditions.
Type 'license()' or 'licence()' for distribution details.
R is a collaborative project with many contributors.
Type 'contributors()' for more information and
'citation()' on how to cite R or R packages in publications.
Type 'demo()' for some demos, 'help()' for on-line help, or
'help.start()' for an HTML browser interface to help.
Type 'q()' to quit R.
> # Make sure that the igraph package has been loaded
>
> library(igraph)
Attaching package: 'igraph'
The following objects are masked from 'package:stats':
decompose, spectrum
The following object is masked from 'package:base':
union
>
> BiocGenerics:::testPackage("CausalR")
[1] "File read complete - read in 3 lines. Now constructing network"
[1] "Network has been created - now adding edge properties"
[1] "Added weights to edges"
[1] "File read complete - read in 2 lines. Now constructing network"
[1] "Network has been created - now adding edge properties"
[1] "Added weights to edges"
[1] "File read complete - read in 2 lines. Now constructing network"
[1] "Network has been created - now adding edge properties"
[1] "Added weights to edges"
[1] "File read complete - read in 4 lines. Now constructing network"
[1] "Network has been created - now adding edge properties"
[1] "Added weights to edges"
[1] "File read complete - read in 4 lines. Now constructing network"
[1] "Network has been created - now adding edge properties"
[1] "Added weights to edges"
[1] "The values in the second column do not match what is expected. They should be (+)1, 0 or -1"
[1] "The experimental data read in didn't have two columns"
Number of Nodes to analyse: 3
Number of Nodes to analyse: 1
Number of Nodes to analyse: 1
Parallel processing. Number of cores: 2
Number of Nodes to analyse: 3
Number of Nodes to analyse: 3
Parallel processing. Number of cores: 2
Number of Nodes to analyse: 3
Number of Nodes to analyse: 3
Parallel processing. Number of cores: 2
Number of Nodes to analyse: 3
Number of Nodes to analyse: 3
Number of Nodes to analyse: 3
Parallel processing. Number of cores: 2
Number of Nodes to analyse: 3
Number of Nodes to analyse: 3
Parallel processing. Number of cores: 2
Number of Nodes to analyse: 3
Number of Nodes to analyse: 3
Parallel processing. Number of cores: 2
Number of Nodes to analyse: 1
Number of Nodes to analyse: 1
Parallel processing. Number of cores: 2
Number of Nodes to analyse: 1
Number of Nodes to analyse: 1
Parallel processing. Number of cores: 2
Number of Nodes to analyse: 2
Number of Nodes to analyse: 2
Parallel processing. Number of cores: 2
Number of Nodes to analyse: 1
Number of Nodes to analyse: 1
Parallel processing. Number of cores: 2
Number of Nodes to analyse: 1
Number of Nodes to analyse: 1
Parallel processing. Number of cores: 2
Number of Nodes to analyse: 2
Number of Nodes to analyse: 2
Parallel processing. Number of cores: 2
Number of Nodes to analyse: 2
Number of Nodes to analyse: 2
Parallel processing. Number of cores: 2
Number of Nodes to analyse: 1
Number of Nodes to analyse: 1
Parallel processing. Number of cores: 2
Number of Nodes to analyse: 1
Number of Nodes to analyse: 1
Parallel processing. Number of cores: 2
Number of Nodes to analyse: 3
Number of Nodes to analyse: 3
Parallel processing. Number of cores: 2
[1] "File read complete - read in 2 lines. Now constructing network"
[1] "Network has been created - now adding edge properties"
[1] "Added weights to edges"
Writing sif file to: F:/biocbuild/bbs-3.17-bioc-rtools43/tmpdir/RtmpojwctT-883153193/corExplainedNodes-file45145f4214ee.sif
Writing annotation file to: F:/biocbuild/bbs-3.17-bioc-rtools43/tmpdir/RtmpojwctT-883153193/corExplainedNodes-file45145f4214ee_anno.txt
corExplainedNodes
Node0 Activates Node1
Node0 Inhibits Node2
Node1 Activates Node3
Node2 Activates Node6
Node2 Activates Node7
Writing sif file to: F:/biocbuild/bbs-3.17-bioc-rtools43/tmpdir/RtmpojwctT-378312269/corExplainedNodes-testNetwork1-testData1-delta2-Node0+.sif
Writing annotation file to: F:/biocbuild/bbs-3.17-bioc-rtools43/tmpdir/RtmpojwctT-378312269/corExplainedNodes-testNetwork1-testData1-delta2-Node0+_anno.txt
corExplainedNodes
Node0 Activates Node1
Node0 Inhibits Node2
Node1 Activates Node3
Node2 Activates Node6
Node2 Activates Node7
Writing sif file to: F:/biocbuild/bbs-3.17-bioc-rtools43/tmpdir/RtmpojwctT-310585262/corExplainedNodes-testNetwork1-testData1-delta2-Node0+.sif
Writing annotation file to: F:/biocbuild/bbs-3.17-bioc-rtools43/tmpdir/RtmpojwctT-310585262/corExplainedNodes-testNetwork1-testData1-delta2-Node0+_anno.txt
corExplainedNodes
Node0 Activates Node1
Node0 Inhibits Node2
Node1 Activates Node3
Node2 Activates Node6
Node2 Activates Node7
Writing sif file to: F:/biocbuild/bbs-3.17-bioc-rtools43/tmpdir/RtmpojwctT-310585262/incorExplainedNodes-testNetwork1-testData1-delta2-Node0+.sif
Writing annotation file to: F:/biocbuild/bbs-3.17-bioc-rtools43/tmpdir/RtmpojwctT-310585262/incorExplainedNodes-testNetwork1-testData1-delta2-Node0+_anno.txt
incorExplainedNodes
Node0 Inhibits Node2
Writing sif file to: F:/biocbuild/bbs-3.17-bioc-rtools43/tmpdir/RtmpojwctT-310585262/ambExplainedNodes-testNetwork1-testData1-delta2-Node0+.sif
Writing annotation file to: F:/biocbuild/bbs-3.17-bioc-rtools43/tmpdir/RtmpojwctT-310585262/ambExplainedNodes-testNetwork1-testData1-delta2-Node0+_anno.txt
ambExplainedNodes
Node0 Activates Node1
Node0 Inhibits Node2
Node1 Inhibits Node5
Node2 Inhibits Node5
Writing sif file to: F:/biocbuild/bbs-3.17-bioc-rtools43/tmpdir/RtmpojwctT/corExplainedNodes-file451479a67611.sif
Writing annotation file to: F:/biocbuild/bbs-3.17-bioc-rtools43/tmpdir/RtmpojwctT/corExplainedNodes-file451479a67611_anno.txt
corExplainedNodes
Node0 Activates Node1
Writing sif file to: F:/biocbuild/bbs-3.17-bioc-rtools43/tmpdir/RtmpojwctT/incorExplainedNodes-file451479a67611.sif
Writing annotation file to: F:/biocbuild/bbs-3.17-bioc-rtools43/tmpdir/RtmpojwctT/incorExplainedNodes-file451479a67611_anno.txt
incorExplainedNodes
Node0 Inhibits Node2
Writing sif file to: F:/biocbuild/bbs-3.17-bioc-rtools43/tmpdir/RtmpojwctT/ambExplainedNodes-file451479a67611.sif
Writing annotation file to: F:/biocbuild/bbs-3.17-bioc-rtools43/tmpdir/RtmpojwctT/ambExplainedNodes-file451479a67611_anno.txt
ambExplainedNodes
Writing sif file to: F:/biocbuild/bbs-3.17-bioc-rtools43/tmpdir/RtmpojwctT/corExplainedNodes-file451476ff59ab.sif
Writing annotation file to: F:/biocbuild/bbs-3.17-bioc-rtools43/tmpdir/RtmpojwctT/corExplainedNodes-file451476ff59ab_anno.txt
corExplainedNodes
Node0 Activates Node1
Node0 Inhibits Node2
Node1 Activates Node3
Node2 Activates Node6
Node2 Activates Node7
Writing sif file to: F:/biocbuild/bbs-3.17-bioc-rtools43/tmpdir/RtmpojwctT/incorExplainedNodes-file451476ff59ab.sif
Writing annotation file to: F:/biocbuild/bbs-3.17-bioc-rtools43/tmpdir/RtmpojwctT/incorExplainedNodes-file451476ff59ab_anno.txt
incorExplainedNodes
Node0 Inhibits Node2
Writing sif file to: F:/biocbuild/bbs-3.17-bioc-rtools43/tmpdir/RtmpojwctT/ambExplainedNodes-file451476ff59ab.sif
Writing annotation file to: F:/biocbuild/bbs-3.17-bioc-rtools43/tmpdir/RtmpojwctT/ambExplainedNodes-file451476ff59ab_anno.txt
ambExplainedNodes
Node0 Activates Node1
Node0 Inhibits Node2
Node1 Inhibits Node5
Node2 Inhibits Node5
Writing sif file to: F:/biocbuild/bbs-3.17-bioc-rtools43/tmpdir/RtmpojwctT-902907773/corExplainedNodes-file451448612dc5.sif
Writing annotation file to: F:/biocbuild/bbs-3.17-bioc-rtools43/tmpdir/RtmpojwctT-902907773/corExplainedNodes-file451448612dc5_anno.txt
corExplainedNodes
Node0 Activates Node1
Node0 Inhibits Node2
Node1 Activates Node3
Node2 Activates Node6
Node2 Activates Node7
Writing sif file to: F:/biocbuild/bbs-3.17-bioc-rtools43/tmpdir/RtmpojwctT-151716295/corExplainedNodes-testNetwork1-testData1-delta2-Node0+.sif
Writing annotation file to: F:/biocbuild/bbs-3.17-bioc-rtools43/tmpdir/RtmpojwctT-151716295/corExplainedNodes-testNetwork1-testData1-delta2-Node0+_anno.txt
corExplainedNodes
Node0 Activates Node1
Node0 Inhibits Node2
Node1 Activates Node3
Node2 Activates Node6
Node2 Activates Node7
Writing sif file to: F:/biocbuild/bbs-3.17-bioc-rtools43/tmpdir/RtmpojwctT-677997129/corExplainedNodes-testNetwork1-testData1-delta2-Node0+.sif
Writing annotation file to: F:/biocbuild/bbs-3.17-bioc-rtools43/tmpdir/RtmpojwctT-677997129/corExplainedNodes-testNetwork1-testData1-delta2-Node0+_anno.txt
corExplainedNodes
Node0 Activates Node1
Node0 Inhibits Node2
Node1 Activates Node3
Node2 Activates Node6
Node2 Activates Node7
Writing sif file to: F:/biocbuild/bbs-3.17-bioc-rtools43/tmpdir/RtmpojwctT-677997129/incorExplainedNodes-testNetwork1-testData1-delta2-Node0+.sif
Writing annotation file to: F:/biocbuild/bbs-3.17-bioc-rtools43/tmpdir/RtmpojwctT-677997129/incorExplainedNodes-testNetwork1-testData1-delta2-Node0+_anno.txt
incorExplainedNodes
Node0 Inhibits Node2
Writing sif file to: F:/biocbuild/bbs-3.17-bioc-rtools43/tmpdir/RtmpojwctT-677997129/ambExplainedNodes-testNetwork1-testData1-delta2-Node0+.sif
Writing annotation file to: F:/biocbuild/bbs-3.17-bioc-rtools43/tmpdir/RtmpojwctT-677997129/ambExplainedNodes-testNetwork1-testData1-delta2-Node0+_anno.txt
ambExplainedNodes
Node0 Activates Node1
Node0 Inhibits Node2
Node1 Inhibits Node5
Node2 Inhibits Node5
RUNIT TEST PROTOCOL -- Wed Dec 28 22:17:29 2022
***********************************************
Number of test functions: 129
Number of errors: 0
Number of failures: 0
1 Test Suite :
CausalR RUnit Tests - 129 test functions, 0 errors, 0 failures
Number of test functions: 129
Number of errors: 0
Number of failures: 0
Warning messages:
1: In file(file, "rt") :
cannot open file 'nonExistentFile.sif': No such file or directory
2: In file(file, "rt") :
cannot open file 'nonExistentFile.sif': No such file or directory
>
> proc.time()
user system elapsed
1.54 0.46 10.00
CausalR.Rcheck/CausalR-Ex.timings
| name | user | system | elapsed | |
| AnalysePredictionsList | 0.01 | 0.00 | 0.01 | |
| CalculateEnrichmentPValue | 0 | 0 | 0 | |
| CalculateSignificance | 0.04 | 0.00 | 0.04 | |
| CalculateSignificanceUsingCubicAlgorithm | 0.04 | 0.00 | 0.04 | |
| CalculateSignificanceUsingCubicAlgorithm1b | 0.04 | 0.00 | 0.04 | |
| CalculateSignificanceUsingQuarticAlgorithm | 0.06 | 0.00 | 0.07 | |
| CompareHypothesis | 0 | 0 | 0 | |
| CreateCCG | 0 | 0 | 0 | |
| CreateCG | 0.02 | 0.00 | 0.02 | |
| GetNodeName | 0 | 0 | 0 | |
| GetNumberOfPositiveAndNegativeEntries | 0.00 | 0.01 | 0.01 | |
| GetShortestPathsFromCCG | 0 | 0 | 0 | |
| MakePredictions | 0.02 | 0.00 | 0.02 | |
| MakePredictionsFromCCG | 0.01 | 0.00 | 0.01 | |
| MakePredictionsFromCG | 0.03 | 0.00 | 0.03 | |
| PlotGraphWithNodeNames | 0.1 | 0.0 | 0.1 | |
| RankTheHypotheses | 0.12 | 0.00 | 0.61 | |
| ReadExperimentalData | 0.02 | 0.00 | 0.01 | |
| ScoreHypothesis | 0 | 0 | 0 | |
| WriteAllExplainedNodesToSifFile | 0.04 | 0.05 | 1.13 | |
| WriteExplainedNodesToSifFile | 0.04 | 0.02 | 0.05 | |
| runSCANR | 0.29 | 0.03 | 1.12 | |