| Back to Build/check report for BioC 3.17 |
|
This page was generated on 2023-01-02 09:00:20 -0500 (Mon, 02 Jan 2023).
| Hostname | OS | Arch (*) | R version | Installed pkgs |
|---|---|---|---|---|
| palomino5 | Windows Server 2022 Datacenter | x64 | R Under development (unstable) (2022-12-25 r83502 ucrt) -- "Unsuffered Consequences" | 4165 |
| Click on any hostname to see more info about the system (e.g. compilers) (*) as reported by 'uname -p', except on Windows and Mac OS X | ||||
|
To the developers/maintainers of the BiGGR package: Make sure to use the following settings in order to reproduce any error or warning you see on this page. |
| Package 147/2158 | Hostname | OS / Arch | INSTALL | BUILD | CHECK | BUILD BIN | ||||||||
| BiGGR 1.35.0 (landing page) Anand K. Gavai
| palomino5 | Windows Server 2022 Datacenter / x64 | OK | OK | OK | OK | ||||||||
| Package: BiGGR |
| Version: 1.35.0 |
| Command: F:\biocbuild\bbs-3.17-bioc\R\bin\R.exe CMD check --no-multiarch --install=check:BiGGR.install-out.txt --library=F:\biocbuild\bbs-3.17-bioc\R\library --no-vignettes --timings BiGGR_1.35.0.tar.gz |
| StartedAt: 2022-12-28 21:51:32 -0500 (Wed, 28 Dec 2022) |
| EndedAt: 2022-12-28 21:55:14 -0500 (Wed, 28 Dec 2022) |
| EllapsedTime: 222.4 seconds |
| RetCode: 0 |
| Status: OK |
| CheckDir: BiGGR.Rcheck |
| Warnings: 0 |
##############################################################################
##############################################################################
###
### Running command:
###
### F:\biocbuild\bbs-3.17-bioc\R\bin\R.exe CMD check --no-multiarch --install=check:BiGGR.install-out.txt --library=F:\biocbuild\bbs-3.17-bioc\R\library --no-vignettes --timings BiGGR_1.35.0.tar.gz
###
##############################################################################
##############################################################################
* using log directory 'F:/biocbuild/bbs-3.17-bioc-rtools43/meat/BiGGR.Rcheck'
* using R Under development (unstable) (2022-12-25 r83502 ucrt)
* using platform: x86_64-w64-mingw32 (64-bit)
* R was compiled by
gcc.exe (GCC) 10.4.0
GNU Fortran (GCC) 10.4.0
* running under: Windows Server x64 (build 20348)
* using session charset: UTF-8
* using option '--no-vignettes'
* checking for file 'BiGGR/DESCRIPTION' ... OK
* checking extension type ... Package
* this is package 'BiGGR' version '1.35.0'
* checking package namespace information ... OK
* checking package dependencies ... OK
* checking if this is a source package ... OK
* checking if there is a namespace ... OK
* checking for hidden files and directories ... NOTE
Found the following hidden files and directories:
.BBSoptions
These were most likely included in error. See section 'Package
structure' in the 'Writing R Extensions' manual.
* checking for portable file names ... OK
* checking whether package 'BiGGR' can be installed ... OK
* checking installed package size ... OK
* checking package directory ... OK
* checking 'build' directory ... OK
* checking DESCRIPTION meta-information ... OK
* checking top-level files ... OK
* checking for left-over files ... OK
* checking index information ... OK
* checking package subdirectories ... OK
* checking R files for non-ASCII characters ... OK
* checking R files for syntax errors ... OK
* checking whether the package can be loaded ... OK
* checking whether the package can be loaded with stated dependencies ... OK
* checking whether the package can be unloaded cleanly ... OK
* checking whether the namespace can be loaded with stated dependencies ... OK
* checking whether the namespace can be unloaded cleanly ... OK
* checking dependencies in R code ... NOTE
Package in Depends field not imported from: 'stringr'
These packages need to be imported from (in the NAMESPACE file)
for when this namespace is loaded but not attached.
* checking S3 generic/method consistency ... OK
* checking replacement functions ... OK
* checking foreign function calls ... OK
* checking R code for possible problems ... NOTE
.buildSubModel: no visible global function definition for 'new'
buildSBMLFromBiGG: no visible global function definition for
'read.delim'
buildSBMLFromBiGG : <anonymous>: no visible global function definition
for 'new'
buildSBMLFromBiGG: no visible global function definition for 'new'
createLIMFromSBML: no visible global function definition for 'hasArg'
gprMapping: no visible global function definition for 'str_detect'
gprMapping: no visible global function definition for 'na.omit'
gprMappingAvg: no visible global function definition for 'na.omit'
sampleFluxEnsemble: no visible global function definition for 'Xsample'
sbml2hyperdraw : <anonymous>: no visible binding for global variable
'species'
sbml2hyperdraw: no visible global function definition for 'hasArg'
sbml2hyperdraw: no visible global function definition for 'graphLayout'
sbml2hyperdraw: no visible global function definition for
'nodeDataDefaults<-'
sbml2hyperdraw: no visible global function definition for
'edgeDataDefaults<-'
sbml2hyperdraw: no visible global function definition for
'graphDataDefaults<-'
sbml2hyperdraw : <anonymous>: no visible global function definition for
'edgeData<-'
Undefined global functions or variables:
Xsample edgeData<- edgeDataDefaults<- graphDataDefaults<- graphLayout
hasArg na.omit new nodeDataDefaults<- read.delim species str_detect
Consider adding
importFrom("methods", "hasArg", "new")
importFrom("stats", "na.omit")
importFrom("utils", "read.delim")
to your NAMESPACE file (and ensure that your DESCRIPTION Imports field
contains 'methods').
* checking Rd files ... OK
* checking Rd metadata ... OK
* checking Rd cross-references ... OK
* checking for missing documentation entries ... OK
* checking for code/documentation mismatches ... OK
* checking Rd \usage sections ... OK
* checking Rd contents ... OK
* checking for unstated dependencies in examples ... OK
* checking contents of 'data' directory ... OK
* checking data for non-ASCII characters ... OK
* checking data for ASCII and uncompressed saves ... OK
* checking sizes of PDF files under 'inst/doc' ... OK
* checking installed files from 'inst/doc' ... OK
* checking files in 'vignettes' ... OK
* checking examples ... OK
Examples with CPU (user + system) or elapsed time > 5s
user system elapsed
gprMapping 98.03 2.15 100.23
gprMappingAvg 10.77 1.21 11.97
buildSBMLFromGenes 4.41 0.75 5.16
* checking for unstated dependencies in vignettes ... OK
* checking package vignettes in 'inst/doc' ... OK
* checking running R code from vignettes ... SKIPPED
* checking re-building of vignette outputs ... SKIPPED
* checking PDF version of manual ... OK
* DONE
Status: 3 NOTEs
See
'F:/biocbuild/bbs-3.17-bioc-rtools43/meat/BiGGR.Rcheck/00check.log'
for details.
BiGGR.Rcheck/00install.out
############################################################################## ############################################################################## ### ### Running command: ### ### F:\biocbuild\bbs-3.17-bioc\R\bin\R.exe CMD INSTALL BiGGR ### ############################################################################## ############################################################################## * installing to library 'F:/biocbuild/bbs-3.17-bioc/R/library' * installing *source* package 'BiGGR' ... ** using staged installation ** R ** data ** inst ** byte-compile and prepare package for lazy loading ** help *** installing help indices ** building package indices ** installing vignettes ** testing if installed package can be loaded from temporary location ** testing if installed package can be loaded from final location ** testing if installed package keeps a record of temporary installation path * DONE (BiGGR)
BiGGR.Rcheck/BiGGR-Ex.timings
| name | user | system | elapsed | |
| BiGGR-package | 2.04 | 0.16 | 2.22 | |
| E.coli_iAF1260 | 0.80 | 0.23 | 1.03 | |
| E.coli_iJR904 | 0.20 | 0.02 | 0.22 | |
| E.coli_textbook | 0.07 | 0.11 | 0.17 | |
| H.pylori_ilT341 | 0.14 | 0.11 | 0.25 | |
| H.sapiens_Recon1 | 0.93 | 0.12 | 1.06 | |
| M.barkeri_iAF692 | 0.28 | 0.25 | 0.53 | |
| M.tuberculosis_iNJ661 | 0.30 | 0.11 | 0.40 | |
| P.putida_iJN746 | 0.26 | 0.14 | 0.41 | |
| Recon2 | 1.52 | 0.10 | 1.61 | |
| S.aureus_iSB619 | 0.22 | 0.09 | 0.31 | |
| S.cerevisiae_iND750 | 0.25 | 0.13 | 0.38 | |
| buildSBMLFromBiGG | 0.06 | 0.03 | 0.09 | |
| buildSBMLFromGenes | 4.41 | 0.75 | 5.16 | |
| buildSBMLFromPathways | 2.96 | 0.17 | 3.13 | |
| buildSBMLFromReactionIDs | 1.14 | 0.01 | 1.16 | |
| createLIMFromBiGG | 0.06 | 0.02 | 0.08 | |
| createLIMFromSBML | 0.65 | 0.15 | 0.81 | |
| extractGeneAssociations | 1.68 | 0.00 | 1.67 | |
| extractPathways | 1.45 | 0.00 | 1.45 | |
| getPathwaysForSBML | 1.73 | 0.00 | 1.75 | |
| getRates | 0.00 | 0.02 | 0.02 | |
| gprMapping | 98.03 | 2.15 | 100.23 | |
| gprMappingAvg | 10.77 | 1.21 | 11.97 | |
| lying.tunell.data | 0.01 | 0.00 | 0.01 | |
| rmvSpliceVariant | 1.71 | 0.04 | 1.75 | |
| sampleFluxEnsemble | 1.90 | 0.49 | 2.41 | |
| sbml2hyperdraw | 1.94 | 0.05 | 1.98 | |