| Back to Build/check report for BioC 3.17 |
|
This page was generated on 2023-01-02 09:00:18 -0500 (Mon, 02 Jan 2023).
| Hostname | OS | Arch (*) | R version | Installed pkgs |
|---|---|---|---|---|
| palomino5 | Windows Server 2022 Datacenter | x64 | R Under development (unstable) (2022-12-25 r83502 ucrt) -- "Unsuffered Consequences" | 4165 |
| Click on any hostname to see more info about the system (e.g. compilers) (*) as reported by 'uname -p', except on Windows and Mac OS X | ||||
|
To the developers/maintainers of the APL package: Make sure to use the following settings in order to reproduce any error or warning you see on this page. |
| Package 71/2158 | Hostname | OS / Arch | INSTALL | BUILD | CHECK | BUILD BIN | ||||||||
| APL 1.3.0 (landing page) Elzbieta Gralinska
| palomino5 | Windows Server 2022 Datacenter / x64 | OK | OK | OK | OK | ||||||||
| Package: APL |
| Version: 1.3.0 |
| Command: F:\biocbuild\bbs-3.17-bioc\R\bin\R.exe CMD check --no-multiarch --install=check:APL.install-out.txt --library=F:\biocbuild\bbs-3.17-bioc\R\library --no-vignettes --timings APL_1.3.0.tar.gz |
| StartedAt: 2022-12-28 21:35:07 -0500 (Wed, 28 Dec 2022) |
| EndedAt: 2022-12-28 21:39:04 -0500 (Wed, 28 Dec 2022) |
| EllapsedTime: 236.2 seconds |
| RetCode: 0 |
| Status: OK |
| CheckDir: APL.Rcheck |
| Warnings: 0 |
##############################################################################
##############################################################################
###
### Running command:
###
### F:\biocbuild\bbs-3.17-bioc\R\bin\R.exe CMD check --no-multiarch --install=check:APL.install-out.txt --library=F:\biocbuild\bbs-3.17-bioc\R\library --no-vignettes --timings APL_1.3.0.tar.gz
###
##############################################################################
##############################################################################
* using log directory 'F:/biocbuild/bbs-3.17-bioc-rtools43/meat/APL.Rcheck'
* using R Under development (unstable) (2022-12-25 r83502 ucrt)
* using platform: x86_64-w64-mingw32 (64-bit)
* R was compiled by
gcc.exe (GCC) 10.4.0
GNU Fortran (GCC) 10.4.0
* running under: Windows Server x64 (build 20348)
* using session charset: UTF-8
* using option '--no-vignettes'
* checking for file 'APL/DESCRIPTION' ... OK
* checking extension type ... Package
* this is package 'APL' version '1.3.0'
* package encoding: UTF-8
* checking package namespace information ... OK
* checking package dependencies ... OK
* checking if this is a source package ... OK
* checking if there is a namespace ... OK
* checking for hidden files and directories ... OK
* checking for portable file names ... OK
* checking whether package 'APL' can be installed ... OK
* checking installed package size ... OK
* checking package directory ... OK
* checking 'build' directory ... OK
* checking DESCRIPTION meta-information ... OK
* checking top-level files ... OK
* checking for left-over files ... OK
* checking index information ... OK
* checking package subdirectories ... NOTE
Problems with news in 'NEWS.md':
No news entries found.
* checking R files for non-ASCII characters ... OK
* checking R files for syntax errors ... OK
* checking whether the package can be loaded ... OK
* checking whether the package can be loaded with stated dependencies ... OK
* checking whether the package can be unloaded cleanly ... OK
* checking whether the namespace can be loaded with stated dependencies ... OK
* checking whether the namespace can be unloaded cleanly ... OK
* checking dependencies in R code ... OK
* checking S3 generic/method consistency ... OK
* checking replacement functions ... OK
* checking foreign function calls ... OK
* checking R code for possible problems ... OK
* checking Rd files ... OK
* checking Rd metadata ... OK
* checking Rd cross-references ... OK
* checking for missing documentation entries ... OK
* checking for code/documentation mismatches ... OK
* checking Rd \usage sections ... OK
* checking Rd contents ... OK
* checking for unstated dependencies in examples ... OK
* checking files in 'vignettes' ... OK
* checking examples ... OK
* checking for unstated dependencies in 'tests' ... OK
* checking tests ...
Running 'testthat.R'
OK
* checking for unstated dependencies in vignettes ... OK
* checking package vignettes in 'inst/doc' ... OK
* checking running R code from vignettes ... SKIPPED
* checking re-building of vignette outputs ... SKIPPED
* checking PDF version of manual ... OK
* DONE
Status: 1 NOTE
See
'F:/biocbuild/bbs-3.17-bioc-rtools43/meat/APL.Rcheck/00check.log'
for details.
APL.Rcheck/00install.out
############################################################################## ############################################################################## ### ### Running command: ### ### F:\biocbuild\bbs-3.17-bioc\R\bin\R.exe CMD INSTALL APL ### ############################################################################## ############################################################################## * installing to library 'F:/biocbuild/bbs-3.17-bioc/R/library' * installing *source* package 'APL' ... ** using staged installation ** R ** inst ** byte-compile and prepare package for lazy loading ** help *** installing help indices *** copying figures ** building package indices ** installing vignettes ** testing if installed package can be loaded from temporary location ** testing if installed package can be loaded from final location ** testing if installed package keeps a record of temporary installation path * DONE (APL)
APL.Rcheck/tests/testthat.Rout
R Under development (unstable) (2022-12-25 r83502 ucrt) -- "Unsuffered Consequences"
Copyright (C) 2022 The R Foundation for Statistical Computing
Platform: x86_64-w64-mingw32/x64 (64-bit)
R is free software and comes with ABSOLUTELY NO WARRANTY.
You are welcome to redistribute it under certain conditions.
Type 'license()' or 'licence()' for distribution details.
R is a collaborative project with many contributors.
Type 'contributors()' for more information and
'citation()' on how to cite R or R packages in publications.
Type 'demo()' for some demos, 'help()' for on-line help, or
'help.start()' for an HTML browser interface to help.
Type 'q()' to quit R.
> library(testthat)
> library(APL)
> test_check("APL")
Calling cacomp to recompute from matrix.
[ FAIL 0 | WARN 0 | SKIP 0 | PASS 38 ]
>
> proc.time()
user system elapsed
10.29 1.28 17.37
APL.Rcheck/APL-Ex.timings
| name | user | system | elapsed | |
| apl | 0.28 | 0.02 | 0.40 | |
| apl_coords | 0 | 0 | 0 | |
| apl_score | 0.80 | 0.00 | 0.79 | |
| apl_topGO | 4.58 | 0.14 | 4.74 | |
| as.cacomp | 1.51 | 0.04 | 1.57 | |
| as.list-cacomp-method | 0 | 0 | 0 | |
| ca_3Dplot | 0.14 | 0.03 | 1.13 | |
| ca_biplot | 0.06 | 0.05 | 0.11 | |
| ca_coords | 0 | 0 | 0 | |
| cacomp-class | 0.02 | 0.00 | 0.01 | |
| cacomp | 0.53 | 0.02 | 0.55 | |
| cacomp_names | 0 | 0 | 0 | |
| cacomp_slot | 0.00 | 0.01 | 0.01 | |
| check_cacomp | 0 | 0 | 0 | |
| elbow_method | 0.39 | 0.00 | 0.40 | |
| pick_dims | 0.83 | 0.06 | 0.89 | |
| pipe | 0 | 0 | 0 | |
| plot_enrichment | 3.97 | 0.11 | 4.10 | |
| runAPL | 1.25 | 0.04 | 1.28 | |
| show.cacomp | 0 | 0 | 0 | |
| subset_dims | 0 | 0 | 0 | |
| var_rows | 0.01 | 0.00 | 0.01 | |