| Back to Build/check report for BioC 3.17 |
|
This page was generated on 2023-01-02 09:00:18 -0500 (Mon, 02 Jan 2023).
| Hostname | OS | Arch (*) | R version | Installed pkgs |
|---|---|---|---|---|
| palomino5 | Windows Server 2022 Datacenter | x64 | R Under development (unstable) (2022-12-25 r83502 ucrt) -- "Unsuffered Consequences" | 4165 |
| Click on any hostname to see more info about the system (e.g. compilers) (*) as reported by 'uname -p', except on Windows and Mac OS X | ||||
|
To the developers/maintainers of the AMOUNTAIN package: Make sure to use the following settings in order to reproduce any error or warning you see on this page. |
| Package 45/2158 | Hostname | OS / Arch | INSTALL | BUILD | CHECK | BUILD BIN | ||||||||
| AMOUNTAIN 1.25.0 (landing page) Dong Li
| palomino5 | Windows Server 2022 Datacenter / x64 | OK | OK | OK | OK | ||||||||
| Package: AMOUNTAIN |
| Version: 1.25.0 |
| Command: F:\biocbuild\bbs-3.17-bioc\R\bin\R.exe CMD check --no-multiarch --install=check:AMOUNTAIN.install-out.txt --library=F:\biocbuild\bbs-3.17-bioc\R\library --no-vignettes --timings AMOUNTAIN_1.25.0.tar.gz |
| StartedAt: 2022-12-28 21:30:40 -0500 (Wed, 28 Dec 2022) |
| EndedAt: 2022-12-28 21:31:07 -0500 (Wed, 28 Dec 2022) |
| EllapsedTime: 27.2 seconds |
| RetCode: 0 |
| Status: OK |
| CheckDir: AMOUNTAIN.Rcheck |
| Warnings: 0 |
##############################################################################
##############################################################################
###
### Running command:
###
### F:\biocbuild\bbs-3.17-bioc\R\bin\R.exe CMD check --no-multiarch --install=check:AMOUNTAIN.install-out.txt --library=F:\biocbuild\bbs-3.17-bioc\R\library --no-vignettes --timings AMOUNTAIN_1.25.0.tar.gz
###
##############################################################################
##############################################################################
* using log directory 'F:/biocbuild/bbs-3.17-bioc-rtools43/meat/AMOUNTAIN.Rcheck'
* using R Under development (unstable) (2022-12-25 r83502 ucrt)
* using platform: x86_64-w64-mingw32 (64-bit)
* R was compiled by
gcc.exe (GCC) 10.4.0
GNU Fortran (GCC) 10.4.0
* running under: Windows Server x64 (build 20348)
* using session charset: UTF-8
* using option '--no-vignettes'
* checking for file 'AMOUNTAIN/DESCRIPTION' ... OK
* checking extension type ... Package
* this is package 'AMOUNTAIN' version '1.25.0'
* checking package namespace information ... OK
* checking package dependencies ... OK
* checking if this is a source package ... OK
* checking if there is a namespace ... OK
* checking for hidden files and directories ... OK
* checking for portable file names ... OK
* checking whether package 'AMOUNTAIN' can be installed ... OK
* used C compiler: 'gcc.exe (GCC) 12.2.0'
* checking installed package size ... OK
* checking package directory ... OK
* checking 'build' directory ... OK
* checking DESCRIPTION meta-information ... OK
* checking top-level files ... OK
* checking for left-over files ... OK
* checking index information ... OK
* checking package subdirectories ... OK
* checking R files for non-ASCII characters ... OK
* checking R files for syntax errors ... OK
* checking whether the package can be loaded ... OK
* checking whether the package can be loaded with stated dependencies ... OK
* checking whether the package can be unloaded cleanly ... OK
* checking whether the namespace can be loaded with stated dependencies ... OK
* checking whether the namespace can be unloaded cleanly ... OK
* checking dependencies in R code ... OK
* checking S3 generic/method consistency ... OK
* checking replacement functions ... OK
* checking foreign function calls ... OK
* checking R code for possible problems ... OK
* checking Rd files ... OK
* checking Rd metadata ... OK
* checking Rd cross-references ... OK
* checking for missing documentation entries ... OK
* checking for code/documentation mismatches ... OK
* checking Rd \usage sections ... OK
* checking Rd contents ... OK
* checking for unstated dependencies in examples ... OK
* checking line endings in C/C++/Fortran sources/headers ... OK
* checking line endings in Makefiles ... OK
* checking compilation flags in Makevars ... OK
* checking for GNU extensions in Makefiles ... OK
* checking for portable use of $(BLAS_LIBS) and $(LAPACK_LIBS) ... OK
* checking use of PKG_*FLAGS in Makefiles ... OK
* checking compiled code ... NOTE
Note: information on .o files for x64 is not available
File 'F:/biocbuild/bbs-3.17-bioc/R/library/AMOUNTAIN/libs/x64/AMOUNTAIN.dll':
Found 'abort', possibly from 'abort' (C), 'runtime' (Fortran)
Compiled code should not call entry points which might terminate R nor
write to stdout/stderr instead of to the console, nor use Fortran I/O
nor system RNGs nor [v]sprintf. The detected symbols are linked into
the code but might come from libraries and not actually be called.
See 'Writing portable packages' in the 'Writing R Extensions' manual.
* checking installed files from 'inst/doc' ... OK
* checking files in 'vignettes' ... OK
* checking examples ... OK
* checking for unstated dependencies in vignettes ... OK
* checking package vignettes in 'inst/doc' ... OK
* checking running R code from vignettes ... SKIPPED
* checking re-building of vignette outputs ... SKIPPED
* checking PDF version of manual ... OK
* DONE
Status: 1 NOTE
See
'F:/biocbuild/bbs-3.17-bioc-rtools43/meat/AMOUNTAIN.Rcheck/00check.log'
for details.
AMOUNTAIN.Rcheck/00install.out
############################################################################## ############################################################################## ### ### Running command: ### ### F:\biocbuild\bbs-3.17-bioc\R\bin\R.exe CMD INSTALL AMOUNTAIN ### ############################################################################## ############################################################################## * installing to library 'F:/biocbuild/bbs-3.17-bioc/R/library' * installing *source* package 'AMOUNTAIN' ... ** using staged installation ** libs using C compiler: 'gcc.exe (GCC) 12.2.0' gcc -I"F:/biocbuild/bbs-3.17-bioc/R/include" -DNDEBUG -I/src/include -I/x64/include -I"c:/rtools42/x86_64-w64-mingw32.static.posix/include" -O2 -Wall -std=gnu99 -mfpmath=sse -msse2 -mstackrealign -c AMOUNTAIN.c -o AMOUNTAIN.o gcc -shared -s -static-libgcc -o AMOUNTAIN.dll tmp.def AMOUNTAIN.o -L/x64/lib -lgsl -lgslcblas -lm -Lc:/rtools42/x86_64-w64-mingw32.static.posix/lib/x64 -Lc:/rtools42/x86_64-w64-mingw32.static.posix/lib -LF:/biocbuild/bbs-3.17-bioc/R/bin/x64 -lR installing to F:/biocbuild/bbs-3.17-bioc/R/library/00LOCK-AMOUNTAIN/00new/AMOUNTAIN/libs/x64 ** R ** inst ** byte-compile and prepare package for lazy loading ** help *** installing help indices ** building package indices ** installing vignettes ** testing if installed package can be loaded from temporary location ** testing if installed package can be loaded from final location ** testing if installed package keeps a record of temporary installation path * DONE (AMOUNTAIN)
AMOUNTAIN.Rcheck/AMOUNTAIN-Ex.timings
| name | user | system | elapsed | |
| CGPFixSS | 0 | 0 | 0 | |
| CGPFixSSMultiLayer | 0 | 0 | 0 | |
| CGPFixSSTwolayer | 0.00 | 0.01 | 0.02 | |
| EuclideanProjectionENNORM | 0 | 0 | 0 | |
| moduleIdentificationGPFixSS | 0 | 0 | 0 | |
| moduleIdentificationGPFixSSMultilayer | 0 | 0 | 0 | |
| moduleIdentificationGPFixSSTwolayer | 0.03 | 0.00 | 0.04 | |
| multilayernetworkSimulation | 0 | 0 | 0 | |
| networkSimulation | 0 | 0 | 0 | |
| twolayernetworkSimulation | 0.02 | 0.00 | 0.01 | |