| Back to Mac ARM64 build report for BioC 3.17 |
|
This page was generated on 2023-10-20 09:38:15 -0400 (Fri, 20 Oct 2023).
| Hostname | OS | Arch (*) | R version | Installed pkgs |
|---|---|---|---|---|
| kjohnson2 | macOS 12.6.1 Monterey | arm64 | 4.3.1 (2023-06-16) -- "Beagle Scouts" | 4347 |
| Click on any hostname to see more info about the system (e.g. compilers) (*) as reported by 'uname -p', except on Windows and Mac OS X | ||||
| Package 2211/2230 | Hostname | OS / Arch | INSTALL | BUILD | CHECK | BUILD BIN | ||||||||
| wpm 1.10.0 (landing page) Helene Borges
| kjohnson2 | macOS 12.6.1 Monterey / arm64 | OK | OK | OK | OK | ||||||||
|
To the developers/maintainers of the wpm package: - Use the following Renviron settings to reproduce errors and warnings. - If 'R CMD check' started to fail recently on the Linux builder(s) over a missing dependency, add the missing dependency to 'Suggests:' in your DESCRIPTION file. See Renviron.bioc for more information. |
| Package: wpm |
| Version: 1.10.0 |
| Command: rm -rf wpm.buildbin-libdir && mkdir wpm.buildbin-libdir && /Users/biocbuild/BBS/utils/build-universal.sh wpm_1.10.0.tar.gz /Library/Frameworks/R.framework/Resources/bin/R wpm.buildbin-libdir |
| StartedAt: 2023-10-19 18:10:52 -0400 (Thu, 19 Oct 2023) |
| EndedAt: 2023-10-19 18:11:04 -0400 (Thu, 19 Oct 2023) |
| EllapsedTime: 12.2 seconds |
| RetCode: 0 |
| Status: OK |
| PackageFile: wpm_1.10.0.tgz |
| PackageFileSize: 1.923 MiB |
##############################################################################
##############################################################################
###
### Running command:
###
### rm -rf wpm.buildbin-libdir && mkdir wpm.buildbin-libdir && /Users/biocbuild/BBS/utils/build-universal.sh wpm_1.10.0.tar.gz /Library/Frameworks/R.framework/Resources/bin/R wpm.buildbin-libdir
###
##############################################################################
##############################################################################
>>>>>>>
>>>>>>> INSTALLATION WITH 'R CMD INSTALL --preclean --no-multiarch --library=wpm.buildbin-libdir wpm_1.10.0.tar.gz'
>>>>>>>
* installing *source* package ‘wpm’ ...
** using staged installation
** R
** data
** inst
** byte-compile and prepare package for lazy loading
** help
*** installing help indices
** building package indices
** installing vignettes
** testing if installed package can be loaded from temporary location
── This is the Well-Plate Maker package. ───────────────────────────────────────
If you want to use the shiny application, then simply run: `wpm()`.If you want
to see the Tutorial vignette and use WPM in command line, run:
`browseVignettes('wpm')`.
** testing if installed package can be loaded from final location
── This is the Well-Plate Maker package. ───────────────────────────────────────
If you want to use the shiny application, then simply run: `wpm()`.If you want
to see the Tutorial vignette and use WPM in command line, run:
`browseVignettes('wpm')`.
** testing if installed package keeps a record of temporary installation path
* DONE (wpm)