| Back to Mac ARM64 build report for BioC 3.17 |
|
This page was generated on 2023-10-20 09:38:13 -0400 (Fri, 20 Oct 2023).
| Hostname | OS | Arch (*) | R version | Installed pkgs |
|---|---|---|---|---|
| kjohnson2 | macOS 12.6.1 Monterey | arm64 | 4.3.1 (2023-06-16) -- "Beagle Scouts" | 4347 |
| Click on any hostname to see more info about the system (e.g. compilers) (*) as reported by 'uname -p', except on Windows and Mac OS X | ||||
| Package 2043/2230 | Hostname | OS / Arch | INSTALL | BUILD | CHECK | BUILD BIN | ||||||||
| supraHex 1.38.0 (landing page) Hai Fang
| kjohnson2 | macOS 12.6.1 Monterey / arm64 | OK | OK | OK | OK | ||||||||
|
To the developers/maintainers of the supraHex package: - Use the following Renviron settings to reproduce errors and warnings. - If 'R CMD check' started to fail recently on the Linux builder(s) over a missing dependency, add the missing dependency to 'Suggests:' in your DESCRIPTION file. See Renviron.bioc for more information. |
| Package: supraHex |
| Version: 1.38.0 |
| Command: /Library/Frameworks/R.framework/Resources/bin/R CMD check --install=check:supraHex.install-out.txt --library=/Library/Frameworks/R.framework/Resources/library --no-vignettes --timings supraHex_1.38.0.tar.gz |
| StartedAt: 2023-10-19 05:31:50 -0400 (Thu, 19 Oct 2023) |
| EndedAt: 2023-10-19 05:34:13 -0400 (Thu, 19 Oct 2023) |
| EllapsedTime: 143.3 seconds |
| RetCode: 0 |
| Status: OK |
| CheckDir: supraHex.Rcheck |
| Warnings: 0 |
##############################################################################
##############################################################################
###
### Running command:
###
### /Library/Frameworks/R.framework/Resources/bin/R CMD check --install=check:supraHex.install-out.txt --library=/Library/Frameworks/R.framework/Resources/library --no-vignettes --timings supraHex_1.38.0.tar.gz
###
##############################################################################
##############################################################################
* using log directory ‘/Users/biocbuild/bbs-3.17-bioc-mac-arm64/meat/supraHex.Rcheck’
* using R version 4.3.1 (2023-06-16)
* using platform: aarch64-apple-darwin20 (64-bit)
* R was compiled by
Apple clang version 14.0.0 (clang-1400.0.29.202)
GNU Fortran (GCC) 12.2.0
* running under: macOS Monterey 12.6.7
* using session charset: UTF-8
* using option ‘--no-vignettes’
* checking for file ‘supraHex/DESCRIPTION’ ... OK
* checking extension type ... Package
* this is package ‘supraHex’ version ‘1.38.0’
* checking package namespace information ... OK
* checking package dependencies ... OK
* checking if this is a source package ... OK
* checking if there is a namespace ... OK
* checking for hidden files and directories ... OK
* checking for portable file names ... OK
* checking for sufficient/correct file permissions ... OK
* checking whether package ‘supraHex’ can be installed ... OK
* checking installed package size ... OK
* checking package directory ... OK
* checking ‘build’ directory ... OK
* checking DESCRIPTION meta-information ... OK
* checking top-level files ... OK
* checking for left-over files ... OK
* checking index information ... OK
* checking package subdirectories ... OK
* checking R files for non-ASCII characters ... OK
* checking R files for syntax errors ... OK
* checking whether the package can be loaded ... OK
* checking whether the package can be loaded with stated dependencies ... OK
* checking whether the package can be unloaded cleanly ... OK
* checking whether the namespace can be loaded with stated dependencies ... OK
* checking whether the namespace can be unloaded cleanly ... OK
* checking dependencies in R code ... OK
* checking S3 generic/method consistency ... OK
* checking replacement functions ... OK
* checking foreign function calls ... OK
* checking R code for possible problems ... OK
* checking Rd files ... OK
* checking Rd metadata ... OK
* checking Rd cross-references ... OK
* checking for missing documentation entries ... OK
* checking for code/documentation mismatches ... OK
* checking Rd \usage sections ... OK
* checking Rd contents ... OK
* checking for unstated dependencies in examples ... OK
* checking contents of ‘data’ directory ... OK
* checking data for non-ASCII characters ... OK
* checking data for ASCII and uncompressed saves ... OK
* checking sizes of PDF files under ‘inst/doc’ ... OK
* checking files in ‘vignettes’ ... OK
* checking examples ... OK
Examples with CPU (user + system) or elapsed time > 5s
user system elapsed
visCompReorder 3.966 0.225 7.437
sCompReorder 2.904 0.120 5.343
* checking for unstated dependencies in vignettes ... OK
* checking package vignettes in ‘inst/doc’ ... OK
* checking running R code from vignettes ... SKIPPED
* checking re-building of vignette outputs ... SKIPPED
* checking PDF version of manual ... OK
* DONE
Status: OK
supraHex.Rcheck/00install.out
############################################################################## ############################################################################## ### ### Running command: ### ### /Library/Frameworks/R.framework/Resources/bin/R CMD INSTALL supraHex ### ############################################################################## ############################################################################## * installing to library ‘/Library/Frameworks/R.framework/Versions/4.3-arm64/Resources/library’ * installing *source* package ‘supraHex’ ... ** using staged installation ** R ** data ** inst ** byte-compile and prepare package for lazy loading ** help *** installing help indices ** building package indices ** installing vignettes ** testing if installed package can be loaded from temporary location ** testing if installed package can be loaded from final location ** testing if installed package keeps a record of temporary installation path * DONE (supraHex)
supraHex.Rcheck/supraHex-Ex.timings
| name | user | system | elapsed | |
| sBMH | 0.062 | 0.009 | 0.138 | |
| sCompReorder | 2.904 | 0.120 | 5.343 | |
| sDistance | 0.406 | 0.009 | 0.761 | |
| sDmat | 0.443 | 0.010 | 0.806 | |
| sDmatCluster | 0.552 | 0.013 | 0.994 | |
| sDmatMinima | 0.448 | 0.010 | 0.821 | |
| sHexDist | 0.008 | 0.000 | 0.015 | |
| sHexGrid | 0.002 | 0.000 | 0.002 | |
| sHexGridVariant | 0.001 | 0.001 | 0.006 | |
| sHexPolygon | 0.142 | 0.002 | 0.261 | |
| sInitial | 0.008 | 0.001 | 0.019 | |
| sMapOverlay | 0.499 | 0.020 | 0.932 | |
| sNeighAny | 0.011 | 0.000 | 0.021 | |
| sNeighDirect | 0.008 | 0.001 | 0.016 | |
| sPipeline | 0.001 | 0.001 | 0.001 | |
| sTopology | 0.054 | 0.012 | 0.116 | |
| sTrainBatch | 0.044 | 0.003 | 0.088 | |
| sTrainSeq | 0.387 | 0.006 | 0.699 | |
| sTrainology | 0.009 | 0.001 | 0.022 | |
| sWriteData | 0.925 | 0.053 | 1.913 | |
| visColoralpha | 0.004 | 0.001 | 0.007 | |
| visColorbar | 0.024 | 0.002 | 0.043 | |
| visColormap | 0.003 | 0.001 | 0.006 | |
| visCompReorder | 3.966 | 0.225 | 7.437 | |
| visDmatCluster | 0.000 | 0.000 | 0.004 | |
| visDmatHeatmap | 0.000 | 0.000 | 0.001 | |
| visHeatmap | 0.091 | 0.004 | 0.177 | |
| visHeatmapAdv | 0.378 | 0.014 | 0.697 | |
| visHexAnimate | 0.002 | 0.001 | 0.006 | |
| visHexBarplot | 1.010 | 0.042 | 1.889 | |
| visHexComp | 0.408 | 0.012 | 0.761 | |
| visHexGrid | 0.378 | 0.010 | 0.674 | |
| visHexMapping | 1.777 | 0.089 | 3.296 | |
| visHexMulComp | 1.298 | 0.058 | 2.385 | |
| visHexPattern | 1.818 | 0.173 | 3.485 | |
| visKernels | 0.011 | 0.009 | 0.036 | |
| visTreeBSclust | 0.001 | 0.000 | 0.000 | |
| visTreeBootstrap | 0.001 | 0.000 | 0.001 | |
| visVp | 0.016 | 0.008 | 0.039 | |