| Back to Mac ARM64 build report for BioC 3.17 |
|
This page was generated on 2023-09-29 11:32:32 -0400 (Fri, 29 Sep 2023).
| Hostname | OS | Arch (*) | R version | Installed pkgs |
|---|---|---|---|---|
| kjohnson2 | macOS 12.6.1 Monterey | arm64 | 4.3.1 (2023-06-16) -- "Beagle Scouts" | 4345 |
| Click on any hostname to see more info about the system (e.g. compilers) (*) as reported by 'uname -p', except on Windows and Mac OS X | ||||
| Package 1763/2230 | Hostname | OS / Arch | INSTALL | BUILD | CHECK | BUILD BIN | ||||||||
| rpx 2.8.0 (landing page) Laurent Gatto
| kjohnson2 | macOS 12.6.1 Monterey / arm64 | OK | OK | ERROR | OK | ||||||||
|
To the developers/maintainers of the rpx package: - Use the following Renviron settings to reproduce errors and warnings. - If 'R CMD check' started to fail recently on the Linux builder(s) over a missing dependency, add the missing dependency to 'Suggests:' in your DESCRIPTION file. See Renviron.bioc for more information. |
| Package: rpx |
| Version: 2.8.0 |
| Command: /Library/Frameworks/R.framework/Resources/bin/R CMD check --install=check:rpx.install-out.txt --library=/Library/Frameworks/R.framework/Resources/library --no-vignettes --timings rpx_2.8.0.tar.gz |
| StartedAt: 2023-09-27 18:16:18 -0400 (Wed, 27 Sep 2023) |
| EndedAt: 2023-09-27 18:17:43 -0400 (Wed, 27 Sep 2023) |
| EllapsedTime: 84.5 seconds |
| RetCode: 1 |
| Status: ERROR |
| CheckDir: rpx.Rcheck |
| Warnings: NA |
##############################################################################
##############################################################################
###
### Running command:
###
### /Library/Frameworks/R.framework/Resources/bin/R CMD check --install=check:rpx.install-out.txt --library=/Library/Frameworks/R.framework/Resources/library --no-vignettes --timings rpx_2.8.0.tar.gz
###
##############################################################################
##############################################################################
* using log directory ‘/Users/biocbuild/bbs-3.17-bioc-mac-arm64/meat/rpx.Rcheck’
* using R version 4.3.1 (2023-06-16)
* using platform: aarch64-apple-darwin20 (64-bit)
* R was compiled by
Apple clang version 14.0.0 (clang-1400.0.29.202)
GNU Fortran (GCC) 12.2.0
* running under: macOS Monterey 12.6.7
* using session charset: UTF-8
* using option ‘--no-vignettes’
* checking for file ‘rpx/DESCRIPTION’ ... OK
* checking extension type ... Package
* this is package ‘rpx’ version ‘2.8.0’
* package encoding: UTF-8
* checking package namespace information ... OK
* checking package dependencies ... OK
* checking if this is a source package ... OK
* checking if there is a namespace ... OK
* checking for hidden files and directories ... OK
* checking for portable file names ... OK
* checking for sufficient/correct file permissions ... OK
* checking whether package ‘rpx’ can be installed ... OK
* checking installed package size ... OK
* checking package directory ... OK
* checking ‘build’ directory ... OK
* checking DESCRIPTION meta-information ... OK
* checking top-level files ... OK
* checking for left-over files ... OK
* checking index information ... OK
* checking package subdirectories ... OK
* checking R files for non-ASCII characters ... OK
* checking R files for syntax errors ... OK
* checking whether the package can be loaded ... OK
* checking whether the package can be loaded with stated dependencies ... OK
* checking whether the package can be unloaded cleanly ... OK
* checking whether the namespace can be loaded with stated dependencies ... OK
* checking whether the namespace can be unloaded cleanly ... OK
* checking dependencies in R code ... OK
* checking S3 generic/method consistency ... OK
* checking replacement functions ... OK
* checking foreign function calls ... OK
* checking R code for possible problems ... OK
* checking Rd files ... OK
* checking Rd metadata ... OK
* checking Rd cross-references ... OK
* checking for missing documentation entries ... OK
* checking for code/documentation mismatches ... OK
* checking Rd \usage sections ... OK
* checking Rd contents ... OK
* checking for unstated dependencies in examples ... OK
* checking files in ‘vignettes’ ... OK
* checking examples ... OK
Examples with CPU (user + system) or elapsed time > 5s
user system elapsed
PXDataset2 3.663 0.185 5.63
* checking for unstated dependencies in ‘tests’ ... OK
* checking tests ...
Running ‘testthat.R’
ERROR
Running the tests in ‘tests/testthat.R’ failed.
Last 13 lines of output:
── Failure ('test_px2.R:34:5'): Object content is valid (v2) ───────────────────
length(pxf) not identical to 11L.
1/1 mismatches
[1] 2 - 11 == -9
── Error ('test_px2.R:38:5'): Object content is valid (v2) ─────────────────────
Error in `.local(object, ...)`: No files to download.
Backtrace:
▆
1. ├─rpx::pxget(px1, "erwinia_carotovora.fasta") at test_px2.R:38:4
2. └─rpx::pxget(px1, "erwinia_carotovora.fasta")
3. └─rpx (local) .local(object, ...)
[ FAIL 3 | WARN 3 | SKIP 1 | PASS 11 ]
Error: Test failures
Execution halted
* checking for unstated dependencies in vignettes ... OK
* checking package vignettes in ‘inst/doc’ ... OK
* checking running R code from vignettes ... SKIPPED
* checking re-building of vignette outputs ... SKIPPED
* checking PDF version of manual ... OK
* DONE
Status: 1 ERROR
See
‘/Users/biocbuild/bbs-3.17-bioc-mac-arm64/meat/rpx.Rcheck/00check.log’
for details.
rpx.Rcheck/00install.out
############################################################################## ############################################################################## ### ### Running command: ### ### /Library/Frameworks/R.framework/Resources/bin/R CMD INSTALL rpx ### ############################################################################## ############################################################################## * installing to library ‘/Library/Frameworks/R.framework/Versions/4.3-arm64/Resources/library’ * installing *source* package ‘rpx’ ... ** using staged installation ** R ** inst ** byte-compile and prepare package for lazy loading ** help *** installing help indices ** building package indices ** installing vignettes ** testing if installed package can be loaded from temporary location ** testing if installed package can be loaded from final location ** testing if installed package keeps a record of temporary installation path * DONE (rpx)
rpx.Rcheck/tests/testthat.Rout.fail
R version 4.3.1 (2023-06-16) -- "Beagle Scouts"
Copyright (C) 2023 The R Foundation for Statistical Computing
Platform: aarch64-apple-darwin20 (64-bit)
R is free software and comes with ABSOLUTELY NO WARRANTY.
You are welcome to redistribute it under certain conditions.
Type 'license()' or 'licence()' for distribution details.
R is a collaborative project with many contributors.
Type 'contributors()' for more information and
'citation()' on how to cite R or R packages in publications.
Type 'demo()' for some demos, 'help()' for on-line help, or
'help.start()' for an HTML browser interface to help.
Type 'q()' to quit R.
> # setting R_TESTS to empty string because of
> # https://github.com/hadley/testthat/issues/144
> # revert this when that issue in R is fixed.
> Sys.setenv("R_TESTS" = "")
> library(testthat)
> library(rpx)
>
> test_check("rpx")
Project PXD000001 with 2 files
'PRIDE_Exp_Complete_Ac_22134.pride.mgf.gz', 'PRIDE_Exp_Complete_Ac_22134.pride.mztab.gz'
[ FAIL 3 | WARN 3 | SKIP 1 | PASS 11 ]
══ Skipped tests (1) ═══════════════════════════════════════════════════════════
• empty test (1): 'test_px2.R:42:1'
══ Failed tests ════════════════════════════════════════════════════════════════
── Failure ('test_px2.R:33:5'): Object content is valid (v2) ───────────────────
sort(pxf) not identical to `fls`.
Lengths differ: 2 is not 11
── Failure ('test_px2.R:34:5'): Object content is valid (v2) ───────────────────
length(pxf) not identical to 11L.
1/1 mismatches
[1] 2 - 11 == -9
── Error ('test_px2.R:38:5'): Object content is valid (v2) ─────────────────────
Error in `.local(object, ...)`: No files to download.
Backtrace:
▆
1. ├─rpx::pxget(px1, "erwinia_carotovora.fasta") at test_px2.R:38:4
2. └─rpx::pxget(px1, "erwinia_carotovora.fasta")
3. └─rpx (local) .local(object, ...)
[ FAIL 3 | WARN 3 | SKIP 1 | PASS 11 ]
Error: Test failures
Execution halted
rpx.Rcheck/rpx-Ex.timings
| name | user | system | elapsed | |
| PXDataset2 | 3.663 | 0.185 | 5.630 | |
| cache | 0.118 | 0.009 | 0.153 | |
| pxFileTypes | 0.077 | 0.011 | 0.112 | |
| pxannounced | 0.001 | 0.000 | 0.000 | |