| Back to Mac ARM64 build report for BioC 3.17 |
|
This page was generated on 2023-10-20 09:38:08 -0400 (Fri, 20 Oct 2023).
| Hostname | OS | Arch (*) | R version | Installed pkgs |
|---|---|---|---|---|
| kjohnson2 | macOS 12.6.1 Monterey | arm64 | 4.3.1 (2023-06-16) -- "Beagle Scouts" | 4347 |
| Click on any hostname to see more info about the system (e.g. compilers) (*) as reported by 'uname -p', except on Windows and Mac OS X | ||||
| Package 1483/2230 | Hostname | OS / Arch | INSTALL | BUILD | CHECK | BUILD BIN | ||||||||
| pcaExplorer 2.26.1 (landing page) Federico Marini
| kjohnson2 | macOS 12.6.1 Monterey / arm64 | OK | OK | OK | OK | ||||||||
|
To the developers/maintainers of the pcaExplorer package: - Use the following Renviron settings to reproduce errors and warnings. - If 'R CMD check' started to fail recently on the Linux builder(s) over a missing dependency, add the missing dependency to 'Suggests:' in your DESCRIPTION file. See Renviron.bioc for more information. |
| Package: pcaExplorer |
| Version: 2.26.1 |
| Command: /Library/Frameworks/R.framework/Resources/bin/R CMD check --install=check:pcaExplorer.install-out.txt --library=/Library/Frameworks/R.framework/Resources/library --no-vignettes --timings pcaExplorer_2.26.1.tar.gz |
| StartedAt: 2023-10-18 13:46:56 -0400 (Wed, 18 Oct 2023) |
| EndedAt: 2023-10-18 13:57:46 -0400 (Wed, 18 Oct 2023) |
| EllapsedTime: 649.9 seconds |
| RetCode: 0 |
| Status: OK |
| CheckDir: pcaExplorer.Rcheck |
| Warnings: 0 |
##############################################################################
##############################################################################
###
### Running command:
###
### /Library/Frameworks/R.framework/Resources/bin/R CMD check --install=check:pcaExplorer.install-out.txt --library=/Library/Frameworks/R.framework/Resources/library --no-vignettes --timings pcaExplorer_2.26.1.tar.gz
###
##############################################################################
##############################################################################
* using log directory ‘/Users/biocbuild/bbs-3.17-bioc-mac-arm64/meat/pcaExplorer.Rcheck’
* using R version 4.3.1 (2023-06-16)
* using platform: aarch64-apple-darwin20 (64-bit)
* R was compiled by
Apple clang version 14.0.0 (clang-1400.0.29.202)
GNU Fortran (GCC) 12.2.0
* running under: macOS Monterey 12.6.7
* using session charset: UTF-8
* using option ‘--no-vignettes’
* checking for file ‘pcaExplorer/DESCRIPTION’ ... OK
* checking extension type ... Package
* this is package ‘pcaExplorer’ version ‘2.26.1’
* package encoding: UTF-8
* checking package namespace information ... OK
* checking package dependencies ... OK
* checking if this is a source package ... OK
* checking if there is a namespace ... OK
* checking for hidden files and directories ... OK
* checking for portable file names ... OK
* checking for sufficient/correct file permissions ... OK
* checking whether package ‘pcaExplorer’ can be installed ... OK
* checking installed package size ... OK
* checking package directory ... OK
* checking ‘build’ directory ... OK
* checking DESCRIPTION meta-information ... OK
* checking top-level files ... OK
* checking for left-over files ... OK
* checking index information ... OK
* checking package subdirectories ... OK
* checking R files for non-ASCII characters ... OK
* checking R files for syntax errors ... OK
* checking whether the package can be loaded ... OK
* checking whether the package can be loaded with stated dependencies ... OK
* checking whether the package can be unloaded cleanly ... OK
* checking whether the namespace can be loaded with stated dependencies ... OK
* checking whether the namespace can be unloaded cleanly ... OK
* checking startup messages can be suppressed ... OK
* checking dependencies in R code ... OK
* checking S3 generic/method consistency ... OK
* checking replacement functions ... OK
* checking foreign function calls ... OK
* checking R code for possible problems ... NOTE
pcaExplorer: no visible binding for '<<-' assignment to
‘pcaexplorer_env’
pcaExplorer : <anonymous>: no visible binding for global variable
‘airway’
pcaExplorer : <anonymous>: no visible binding for global variable
‘pcaexplorer_env’
Undefined global functions or variables:
airway pcaexplorer_env
* checking Rd files ... OK
* checking Rd metadata ... OK
* checking Rd cross-references ... OK
* checking for missing documentation entries ... OK
* checking for code/documentation mismatches ... OK
* checking Rd \usage sections ... OK
* checking Rd contents ... OK
* checking for unstated dependencies in examples ... OK
* checking files in ‘vignettes’ ... OK
* checking examples ... OK
Examples with CPU (user + system) or elapsed time > 5s
user system elapsed
get_annotation_orgdb 4.399 0.117 6.954
get_annotation 3.875 0.117 6.124
pca2go 3.196 0.076 5.015
* checking for unstated dependencies in ‘tests’ ... OK
* checking tests ...
Running ‘testthat.R’
OK
* checking for unstated dependencies in vignettes ... OK
* checking package vignettes in ‘inst/doc’ ... OK
* checking running R code from vignettes ... SKIPPED
* checking re-building of vignette outputs ... SKIPPED
* checking PDF version of manual ... OK
* DONE
Status: 1 NOTE
See
‘/Users/biocbuild/bbs-3.17-bioc-mac-arm64/meat/pcaExplorer.Rcheck/00check.log’
for details.
pcaExplorer.Rcheck/00install.out
############################################################################## ############################################################################## ### ### Running command: ### ### /Library/Frameworks/R.framework/Resources/bin/R CMD INSTALL pcaExplorer ### ############################################################################## ############################################################################## * installing to library ‘/Library/Frameworks/R.framework/Versions/4.3-arm64/Resources/library’ * installing *source* package ‘pcaExplorer’ ... ** using staged installation ** R ** inst ** byte-compile and prepare package for lazy loading ** help *** installing help indices *** copying figures ** building package indices ** installing vignettes ** testing if installed package can be loaded from temporary location ** testing if installed package can be loaded from final location ** testing if installed package keeps a record of temporary installation path * DONE (pcaExplorer)
pcaExplorer.Rcheck/tests/testthat.Rout
R version 4.3.1 (2023-06-16) -- "Beagle Scouts"
Copyright (C) 2023 The R Foundation for Statistical Computing
Platform: aarch64-apple-darwin20 (64-bit)
R is free software and comes with ABSOLUTELY NO WARRANTY.
You are welcome to redistribute it under certain conditions.
Type 'license()' or 'licence()' for distribution details.
R is a collaborative project with many contributors.
Type 'contributors()' for more information and
'citation()' on how to cite R or R packages in publications.
Type 'demo()' for some demos, 'help()' for on-line help, or
'help.start()' for an HTML browser interface to help.
Type 'q()' to quit R.
> library(testthat)
> library(pcaExplorer)
Welcome to pcaExplorer v2.26.1
If you use pcaExplorer in your work, please cite:
Federico Marini, Harald Binder
pcaExplorer: an R/Bioconductor package for interacting with RNA-seq principal components
BMC Bioinformatics, 2019 - https://doi.org/10.1186/s12859-019-2879-1
>
> test_check("pcaExplorer")
[ FAIL 0 | WARN 2 | SKIP 0 | PASS 17 ]
[ FAIL 0 | WARN 2 | SKIP 0 | PASS 17 ]
>
> proc.time()
user system elapsed
64.697 1.762 98.640
pcaExplorer.Rcheck/pcaExplorer-Ex.timings
| name | user | system | elapsed | |
| correlatePCs | 2.511 | 0.065 | 3.947 | |
| distro_expr | 2.933 | 0.056 | 4.609 | |
| geneprofiler | 1.644 | 0.042 | 2.587 | |
| genespca | 2.443 | 0.059 | 3.828 | |
| get_annotation | 3.875 | 0.117 | 6.124 | |
| get_annotation_orgdb | 4.399 | 0.117 | 6.954 | |
| hi_loadings | 1.693 | 0.019 | 2.622 | |
| limmaquickpca2go | 2.323 | 0.069 | 3.643 | |
| makeExampleDESeqDataSet_multifac | 0.410 | 0.006 | 0.628 | |
| pair_corr | 2.511 | 0.080 | 3.964 | |
| pca2go | 3.196 | 0.076 | 5.015 | |
| pcaExplorer | 2.289 | 0.063 | 3.805 | |
| pcaplot | 2.251 | 0.028 | 3.507 | |
| pcaplot3d | 2.439 | 0.050 | 3.924 | |
| pcascree | 1.910 | 0.027 | 3.070 | |
| plotPCcorrs | 1.838 | 0.033 | 2.857 | |
| topGOtable | 2.485 | 0.064 | 3.922 | |