| Back to Mac ARM64 build report for BioC 3.17 |
|
This page was generated on 2023-10-20 09:38:06 -0400 (Fri, 20 Oct 2023).
| Hostname | OS | Arch (*) | R version | Installed pkgs |
|---|---|---|---|---|
| kjohnson2 | macOS 12.6.1 Monterey | arm64 | 4.3.1 (2023-06-16) -- "Beagle Scouts" | 4347 |
| Click on any hostname to see more info about the system (e.g. compilers) (*) as reported by 'uname -p', except on Windows and Mac OS X | ||||
| Package 1176/2230 | Hostname | OS / Arch | INSTALL | BUILD | CHECK | BUILD BIN | ||||||||
| metagenomeSeq 1.42.0 (landing page) Joseph N. Paulson
| kjohnson2 | macOS 12.6.1 Monterey / arm64 | OK | OK | ERROR | OK | ||||||||
|
To the developers/maintainers of the metagenomeSeq package: - Use the following Renviron settings to reproduce errors and warnings. - If 'R CMD check' started to fail recently on the Linux builder(s) over a missing dependency, add the missing dependency to 'Suggests:' in your DESCRIPTION file. See Renviron.bioc for more information. |
| Package: metagenomeSeq |
| Version: 1.42.0 |
| Command: /Library/Frameworks/R.framework/Resources/bin/R CMD check --install=check:metagenomeSeq.install-out.txt --library=/Library/Frameworks/R.framework/Resources/library --no-vignettes --timings metagenomeSeq_1.42.0.tar.gz |
| StartedAt: 2023-10-18 06:01:52 -0400 (Wed, 18 Oct 2023) |
| EndedAt: 2023-10-18 06:08:23 -0400 (Wed, 18 Oct 2023) |
| EllapsedTime: 391.3 seconds |
| RetCode: 1 |
| Status: ERROR |
| CheckDir: metagenomeSeq.Rcheck |
| Warnings: NA |
##############################################################################
##############################################################################
###
### Running command:
###
### /Library/Frameworks/R.framework/Resources/bin/R CMD check --install=check:metagenomeSeq.install-out.txt --library=/Library/Frameworks/R.framework/Resources/library --no-vignettes --timings metagenomeSeq_1.42.0.tar.gz
###
##############################################################################
##############################################################################
* using log directory ‘/Users/biocbuild/bbs-3.17-bioc-mac-arm64/meat/metagenomeSeq.Rcheck’
* using R version 4.3.1 (2023-06-16)
* using platform: aarch64-apple-darwin20 (64-bit)
* R was compiled by
Apple clang version 14.0.0 (clang-1400.0.29.202)
GNU Fortran (GCC) 12.2.0
* running under: macOS Monterey 12.6.7
* using session charset: UTF-8
* using option ‘--no-vignettes’
* checking for file ‘metagenomeSeq/DESCRIPTION’ ... OK
* this is package ‘metagenomeSeq’ version ‘1.42.0’
* checking package namespace information ... OK
* checking package dependencies ... OK
* checking if this is a source package ... OK
* checking if there is a namespace ... OK
* checking for hidden files and directories ... OK
* checking for portable file names ... OK
* checking for sufficient/correct file permissions ... OK
* checking whether package ‘metagenomeSeq’ can be installed ... OK
* checking installed package size ... OK
* checking package directory ... OK
* checking ‘build’ directory ... OK
* checking DESCRIPTION meta-information ... OK
* checking top-level files ... OK
* checking for left-over files ... OK
* checking index information ... OK
* checking package subdirectories ... OK
* checking R files for non-ASCII characters ... OK
* checking R files for syntax errors ... OK
* checking whether the package can be loaded ... OK
* checking whether the package can be loaded with stated dependencies ... OK
* checking whether the package can be unloaded cleanly ... OK
* checking whether the namespace can be loaded with stated dependencies ... OK
* checking whether the namespace can be unloaded cleanly ... OK
* checking dependencies in R code ... OK
* checking S3 generic/method consistency ... OK
* checking replacement functions ... OK
* checking foreign function calls ... OK
* checking R code for possible problems ... OK
* checking Rd files ... OK
* checking Rd metadata ... OK
* checking Rd cross-references ... OK
* checking for missing documentation entries ... OK
* checking for code/documentation mismatches ... OK
* checking Rd \usage sections ... OK
* checking Rd contents ... OK
* checking for unstated dependencies in examples ... OK
* checking contents of ‘data’ directory ... OK
* checking data for non-ASCII characters ... OK
* checking data for ASCII and uncompressed saves ... OK
* checking sizes of PDF files under ‘inst/doc’ ... OK
* checking files in ‘vignettes’ ... OK
* checking examples ... OK
Examples with CPU (user + system) or elapsed time > 5s
user system elapsed
wrenchNorm 15.784 0.741 23.432
exportMat 1.138 2.394 5.204
MRfulltable 1.172 0.044 9.654
fitPA 0.574 0.036 5.397
fitDO 0.410 0.025 5.261
plotBubble 0.275 0.022 5.040
* checking for unstated dependencies in ‘tests’ ... OK
* checking tests ...
Running ‘testthat.R’
ERROR
Running the tests in ‘tests/testthat.R’ failed.
Last 13 lines of output:
Loaded glmnet 4.1-7
Loading required package: RColorBrewer
[ FAIL 2 | WARN 6 | SKIP 0 | PASS 13 ]
══ Failed tests ════════════════════════════════════════════════════════════════
── Failure ('test-norm.R:28:3'): `cumNormStat` returns the correct value ───────
cumNormStat(lungData) not equal to 0.7014946.
names for target but not for current
── Failure ('test-norm.R:34:3'): `cumNormStatFast` returns the correct value ───
cumNormStatFast(lungData) not equal to 0.7014946.
names for target but not for current
[ FAIL 2 | WARN 6 | SKIP 0 | PASS 13 ]
Error: Test failures
Execution halted
* checking for unstated dependencies in vignettes ... OK
* checking package vignettes in ‘inst/doc’ ... OK
* checking running R code from vignettes ... SKIPPED
* checking re-building of vignette outputs ... SKIPPED
* checking PDF version of manual ... OK
* DONE
Status: 1 ERROR
See
‘/Users/biocbuild/bbs-3.17-bioc-mac-arm64/meat/metagenomeSeq.Rcheck/00check.log’
for details.
metagenomeSeq.Rcheck/00install.out
############################################################################## ############################################################################## ### ### Running command: ### ### /Library/Frameworks/R.framework/Resources/bin/R CMD INSTALL metagenomeSeq ### ############################################################################## ############################################################################## * installing to library ‘/Library/Frameworks/R.framework/Versions/4.3-arm64/Resources/library’ * installing *source* package ‘metagenomeSeq’ ... ** using staged installation ** R ** data ** inst ** byte-compile and prepare package for lazy loading in method for ‘MRihw’ with signature ‘"fitFeatureModelResults"’: no definition for class “fitFeatureModelResults” in method for ‘MRihw’ with signature ‘"fitZigResults"’: no definition for class “fitZigResults” ** help *** installing help indices ** building package indices ** installing vignettes ** testing if installed package can be loaded from temporary location ** testing if installed package can be loaded from final location ** testing if installed package keeps a record of temporary installation path * DONE (metagenomeSeq)
metagenomeSeq.Rcheck/tests/testthat.Rout.fail
R version 4.3.1 (2023-06-16) -- "Beagle Scouts"
Copyright (C) 2023 The R Foundation for Statistical Computing
Platform: aarch64-apple-darwin20 (64-bit)
R is free software and comes with ABSOLUTELY NO WARRANTY.
You are welcome to redistribute it under certain conditions.
Type 'license()' or 'licence()' for distribution details.
R is a collaborative project with many contributors.
Type 'contributors()' for more information and
'citation()' on how to cite R or R packages in publications.
Type 'demo()' for some demos, 'help()' for on-line help, or
'help.start()' for an HTML browser interface to help.
Type 'q()' to quit R.
> library("testthat")
> packageVersion("metagenomeSeq")
[1] '1.42.0'
> # As suggested for opt-out option on testing by users,
> # recommended by CRAN: http://adv-r.had.co.nz/Testing.html
> # Previously, best practice was to put all test files in inst/tests
> # and ensure that R CMD check ran them by putting the following code in tests/test-all.R:
> # >library(testthat)
> # >library(yourpackage)
> # >test_package("yourpackage")
> # Now, recommended practice is to put your tests in tests/testthat,
> # and ensure R CMD check runs them by putting the following code in tests/test-all.R:
> # >library(testthat)
> # >test_check("yourpackage")
> # The advantage of this new structure is that the user has control over whether or not tests are installed using the –install-tests parameter to
> # R CMD install, or INSTALL_opts = c(“–install-tests”) argument to install.packages(). I’m not sure why you wouldn’t want to install the tests,
> # but now you have the flexibility as requested by CRAN maintainers.
> test_check("metagenomeSeq")
Loading required package: metagenomeSeq
Loading required package: Biobase
Loading required package: BiocGenerics
Attaching package: 'BiocGenerics'
The following objects are masked from 'package:stats':
IQR, mad, sd, var, xtabs
The following objects are masked from 'package:base':
Filter, Find, Map, Position, Reduce, anyDuplicated, aperm, append,
as.data.frame, basename, cbind, colnames, dirname, do.call,
duplicated, eval, evalq, get, grep, grepl, intersect, is.unsorted,
lapply, mapply, match, mget, order, paste, pmax, pmax.int, pmin,
pmin.int, rank, rbind, rownames, sapply, setdiff, sort, table,
tapply, union, unique, unsplit, which.max, which.min
Welcome to Bioconductor
Vignettes contain introductory material; view with
'browseVignettes()'. To cite Bioconductor, see
'citation("Biobase")', and for packages 'citation("pkgname")'.
Loading required package: limma
Attaching package: 'limma'
The following object is masked from 'package:BiocGenerics':
plotMA
Loading required package: glmnet
Loading required package: Matrix
Loaded glmnet 4.1-7
Loading required package: RColorBrewer
[ FAIL 2 | WARN 6 | SKIP 0 | PASS 13 ]
══ Failed tests ════════════════════════════════════════════════════════════════
── Failure ('test-norm.R:28:3'): `cumNormStat` returns the correct value ───────
cumNormStat(lungData) not equal to 0.7014946.
names for target but not for current
── Failure ('test-norm.R:34:3'): `cumNormStatFast` returns the correct value ───
cumNormStatFast(lungData) not equal to 0.7014946.
names for target but not for current
[ FAIL 2 | WARN 6 | SKIP 0 | PASS 13 ]
Error: Test failures
Execution halted
metagenomeSeq.Rcheck/metagenomeSeq-Ex.timings
| name | user | system | elapsed | |
| MRcoefs | 1.240 | 0.080 | 1.693 | |
| MRcounts | 0.488 | 0.025 | 0.652 | |
| MRexperiment-class | 0 | 0 | 0 | |
| MRfulltable | 1.172 | 0.044 | 9.654 | |
| MRtable | 1.105 | 0.027 | 1.562 | |
| aggregateBySample | 0.171 | 0.009 | 0.274 | |
| aggregateByTaxonomy | 0.186 | 0.010 | 0.312 | |
| biom2MRexperiment | 0.255 | 0.014 | 0.422 | |
| calcNormFactors | 0.525 | 0.043 | 0.886 | |
| correctIndices | 0.128 | 0.010 | 0.214 | |
| correlationTest | 0.262 | 0.017 | 0.429 | |
| cumNorm | 0.662 | 0.056 | 1.049 | |
| cumNormMat | 0.534 | 0.044 | 0.895 | |
| cumNormStat | 0.525 | 0.030 | 0.853 | |
| cumNormStatFast | 0.337 | 0.012 | 0.538 | |
| expSummary | 0.121 | 0.008 | 0.207 | |
| exportMat | 1.138 | 2.394 | 5.204 | |
| exportStats | 0.582 | 0.021 | 0.824 | |
| extractMR | 1.169 | 1.059 | 3.244 | |
| filterData | 0.171 | 0.010 | 0.272 | |
| fitDO | 0.410 | 0.025 | 5.261 | |
| fitFeatureModel | 1.164 | 0.035 | 1.806 | |
| fitLogNormal | 1.670 | 0.089 | 2.667 | |
| fitMultipleTimeSeries | 2.092 | 0.112 | 3.315 | |
| fitPA | 0.574 | 0.036 | 5.397 | |
| fitSSTimeSeries | 0.503 | 0.026 | 0.782 | |
| fitTimeSeries | 0.497 | 0.027 | 0.755 | |
| fitZig | 1.667 | 0.068 | 2.573 | |
| libSize-set | 0.324 | 0.008 | 0.481 | |
| libSize | 0.303 | 0.009 | 0.463 | |
| loadBiom | 0.049 | 0.002 | 0.076 | |
| loadMeta | 0.020 | 0.002 | 0.026 | |
| loadMetaQ | 0 | 0 | 0 | |
| loadPhenoData | 0.008 | 0.002 | 0.016 | |
| makeLabels | 0.000 | 0.001 | 0.001 | |
| mergeMRexperiments | 1.254 | 0.121 | 2.074 | |
| newMRexperiment | 0.035 | 0.001 | 0.052 | |
| normFactors-set | 0.331 | 0.013 | 0.507 | |
| normFactors | 0.295 | 0.008 | 0.462 | |
| plotBubble | 0.275 | 0.022 | 5.040 | |
| plotClassTimeSeries | 1.316 | 0.072 | 2.090 | |
| plotCorr | 0.488 | 0.034 | 0.807 | |
| plotFeature | 0.168 | 0.011 | 0.270 | |
| plotGenus | 0.148 | 0.014 | 0.258 | |
| plotMRheatmap | 2.220 | 0.089 | 3.542 | |
| plotOTU | 0.156 | 0.011 | 0.249 | |
| plotOrd | 0.262 | 0.021 | 0.404 | |
| plotRare | 0.135 | 0.013 | 0.211 | |
| plotTimeSeries | 1.269 | 0.108 | 2.053 | |
| posteriorProbs | 1.529 | 0.090 | 2.246 | |
| returnAppropriateObj | 0.318 | 0.021 | 0.510 | |
| ssFit | 0 | 0 | 0 | |
| ssIntervalCandidate | 0 | 0 | 0 | |
| ssPerm | 0 | 0 | 0 | |
| ssPermAnalysis | 0.000 | 0.001 | 0.000 | |
| trapz | 0.001 | 0.001 | 0.004 | |
| ts2MRexperiment | 2.065 | 0.134 | 3.330 | |
| uniqueFeatures | 0.137 | 0.009 | 0.223 | |
| wrenchNorm | 15.784 | 0.741 | 23.432 | |
| zigControl | 0 | 0 | 0 | |