| Back to Mac ARM64 build report for BioC 3.17 |
|
This page was generated on 2023-10-20 09:38:02 -0400 (Fri, 20 Oct 2023).
| Hostname | OS | Arch (*) | R version | Installed pkgs |
|---|---|---|---|---|
| kjohnson2 | macOS 12.6.1 Monterey | arm64 | 4.3.1 (2023-06-16) -- "Beagle Scouts" | 4347 |
| Click on any hostname to see more info about the system (e.g. compilers) (*) as reported by 'uname -p', except on Windows and Mac OS X | ||||
| Package 687/2230 | Hostname | OS / Arch | INSTALL | BUILD | CHECK | BUILD BIN | ||||||||
| fCI 1.30.0 (landing page) Shaojun Tang
| kjohnson2 | macOS 12.6.1 Monterey / arm64 | OK | OK | OK | OK | ||||||||
|
To the developers/maintainers of the fCI package: - Use the following Renviron settings to reproduce errors and warnings. - If 'R CMD check' started to fail recently on the Linux builder(s) over a missing dependency, add the missing dependency to 'Suggests:' in your DESCRIPTION file. See Renviron.bioc for more information. |
| Package: fCI |
| Version: 1.30.0 |
| Command: /Library/Frameworks/R.framework/Resources/bin/R CMD check --install=check:fCI.install-out.txt --library=/Library/Frameworks/R.framework/Resources/library --no-vignettes --timings fCI_1.30.0.tar.gz |
| StartedAt: 2023-10-17 19:18:26 -0400 (Tue, 17 Oct 2023) |
| EndedAt: 2023-10-17 19:19:46 -0400 (Tue, 17 Oct 2023) |
| EllapsedTime: 80.1 seconds |
| RetCode: 0 |
| Status: OK |
| CheckDir: fCI.Rcheck |
| Warnings: 0 |
##############################################################################
##############################################################################
###
### Running command:
###
### /Library/Frameworks/R.framework/Resources/bin/R CMD check --install=check:fCI.install-out.txt --library=/Library/Frameworks/R.framework/Resources/library --no-vignettes --timings fCI_1.30.0.tar.gz
###
##############################################################################
##############################################################################
* using log directory ‘/Users/biocbuild/bbs-3.17-bioc-mac-arm64/meat/fCI.Rcheck’
* using R version 4.3.1 (2023-06-16)
* using platform: aarch64-apple-darwin20 (64-bit)
* R was compiled by
Apple clang version 14.0.0 (clang-1400.0.29.202)
GNU Fortran (GCC) 12.2.0
* running under: macOS Monterey 12.6.7
* using session charset: UTF-8
* using option ‘--no-vignettes’
* checking for file ‘fCI/DESCRIPTION’ ... OK
* checking extension type ... Package
* this is package ‘fCI’ version ‘1.30.0’
* checking package namespace information ... OK
* checking package dependencies ... NOTE
Depends: includes the non-default packages:
'FNN', 'psych', 'gtools', 'zoo', 'rgl', 'grid', 'VennDiagram'
Adding so many packages to the search path is excessive and importing
selectively is preferable.
* checking if this is a source package ... OK
* checking if there is a namespace ... OK
* checking for hidden files and directories ... OK
* checking for portable file names ... OK
* checking for sufficient/correct file permissions ... OK
* checking whether package ‘fCI’ can be installed ... OK
* checking installed package size ... OK
* checking package directory ... OK
* checking ‘build’ directory ... OK
* checking DESCRIPTION meta-information ... OK
* checking top-level files ... OK
* checking for left-over files ... OK
* checking index information ... OK
* checking package subdirectories ... OK
* checking R files for non-ASCII characters ... OK
* checking R files for syntax errors ... OK
* checking whether the package can be loaded ... OK
* checking whether the package can be loaded with stated dependencies ... OK
* checking whether the package can be unloaded cleanly ... OK
* checking whether the namespace can be loaded with stated dependencies ... OK
* checking whether the namespace can be unloaded cleanly ... OK
* checking dependencies in R code ... NOTE
package 'methods' is used but not declared
* checking S3 generic/method consistency ... OK
* checking replacement functions ... OK
* checking foreign function calls ... OK
* checking R code for possible problems ... NOTE
fCI.call.by.index: no visible global function definition for ‘new’
fCI.call.by.index: no visible global function definition for
‘initialize’
find.fci.targets,NPCI: no visible global function definition for
‘initialize’
populate,NPCI: no visible global function definition for ‘.hasSlot’
populate,NPCI: no visible global function definition for ‘slot’
Undefined global functions or variables:
.hasSlot initialize new slot
Consider adding
importFrom("methods", ".hasSlot", "initialize", "new", "slot")
to your NAMESPACE file (and ensure that your DESCRIPTION Imports field
contains 'methods').
* checking Rd files ... OK
* checking Rd metadata ... OK
* checking Rd cross-references ... OK
* checking for missing documentation entries ... OK
* checking for code/documentation mismatches ... OK
* checking Rd \usage sections ... OK
* checking Rd contents ... OK
* checking for unstated dependencies in examples ... OK
* checking contents of ‘data’ directory ... OK
* checking data for non-ASCII characters ... OK
* checking data for ASCII and uncompressed saves ... OK
* checking installed files from ‘inst/doc’ ... OK
* checking files in ‘vignettes’ ... OK
* checking examples ... OK
Examples with CPU (user + system) or elapsed time > 5s
user system elapsed
find.fci.targets 4.623 0.134 6.858
fCI.call.by.index 2.316 1.415 5.898
* checking for unstated dependencies in vignettes ... OK
* checking package vignettes in ‘inst/doc’ ... OK
* checking running R code from vignettes ... SKIPPED
* checking re-building of vignette outputs ... SKIPPED
* checking PDF version of manual ... OK
* DONE
Status: 3 NOTEs
See
‘/Users/biocbuild/bbs-3.17-bioc-mac-arm64/meat/fCI.Rcheck/00check.log’
for details.
fCI.Rcheck/00install.out
############################################################################## ############################################################################## ### ### Running command: ### ### /Library/Frameworks/R.framework/Resources/bin/R CMD INSTALL fCI ### ############################################################################## ############################################################################## * installing to library ‘/Library/Frameworks/R.framework/Versions/4.3-arm64/Resources/library’ * installing *source* package ‘fCI’ ... ** using staged installation ** R ** data ** inst ** byte-compile and prepare package for lazy loading in method for ‘initialize’ with signature ‘"NPCI"’: no definition for class “NPCI” in method for ‘normalization’ with signature ‘"NPCI"’: no definition for class “NPCI” in method for ‘setfCI’ with signature ‘"NPCI"’: no definition for class “NPCI” in method for ‘populate’ with signature ‘"NPCI"’: no definition for class “NPCI” in method for ‘find.fci.targets’ with signature ‘"NPCI"’: no definition for class “NPCI” in method for ‘show.targets’ with signature ‘"NPCI"’: no definition for class “NPCI” in method for ‘call.npci’ with signature ‘"NPCI"’: no definition for class “NPCI” in method for ‘compute’ with signature ‘"NPCI"’: no definition for class “NPCI” ** help *** installing help indices ** building package indices ** installing vignettes ** testing if installed package can be loaded from temporary location ** testing if installed package can be loaded from final location ** testing if installed package keeps a record of temporary installation path * DONE (fCI)
fCI.Rcheck/fCI-Ex.timings
| name | user | system | elapsed | |
| NPCI-class | 0.002 | 0.002 | 0.003 | |
| call.npci | 0 | 0 | 0 | |
| compute | 0 | 0 | 0 | |
| deg.pairwise.fold.change | 0.001 | 0.000 | 0.001 | |
| deg.up.down.info | 0.001 | 0.000 | 0.000 | |
| deseq.median.ratio.normalization | 0.007 | 0.001 | 0.012 | |
| divergence.multivariate.distributions | 0.006 | 0.002 | 0.014 | |
| fCI-class | 0.001 | 0.001 | 0.003 | |
| fCI.call.by.index | 2.316 | 1.415 | 5.898 | |
| figures | 0 | 0 | 0 | |
| find.fci.targets | 4.623 | 0.134 | 6.858 | |
| find.mid.point | 0.289 | 0.008 | 0.447 | |
| get.fold.large.step | 0.001 | 0.000 | 0.001 | |
| get.npci.data | 0.001 | 0.001 | 0.004 | |
| get.npci.distance.matrix | 0.022 | 0.001 | 0.035 | |
| get.outline.index | 0.020 | 0.003 | 0.035 | |
| get.protein.fold.step | 0.000 | 0.001 | 0.001 | |
| get.rank.combinations | 0.001 | 0.000 | 0.001 | |
| get.rna.fold.step | 0 | 0 | 0 | |
| intersect.of.lists | 0.000 | 0.000 | 0.001 | |
| is.installed | 0.043 | 0.001 | 0.068 | |
| normalization | 0.000 | 0.000 | 0.002 | |
| npci.gene.by.pvalues | 0.005 | 0.001 | 0.007 | |
| npci.index.reconsidered | 0.148 | 0.005 | 0.228 | |
| npci.index.to.be.removed | 0 | 0 | 0 | |
| npci.venn.diagram | 0.163 | 0.034 | 0.301 | |
| pairwise.change.occupancy | 0.001 | 0.000 | 0.001 | |
| populate | 0 | 0 | 0 | |
| report.target.summary | 0 | 0 | 0 | |
| setfCI | 0.001 | 0.000 | 0.000 | |
| show.targets | 0.000 | 0.001 | 0.000 | |
| summarize | 0.006 | 0.000 | 0.007 | |
| total.library.size.normalization | 0.004 | 0.002 | 0.014 | |
| trim.size.normalization | 0.004 | 0.002 | 0.008 | |
| two.sample.log.ratio | 0 | 0 | 0 | |
| two.sample.permutation.test | 0.036 | 0.001 | 0.051 | |
| venndiagram | 0.001 | 0.000 | 0.000 | |