| Back to Mac ARM64 build report for BioC 3.17 |
|
This page was generated on 2023-10-20 09:38:01 -0400 (Fri, 20 Oct 2023).
| Hostname | OS | Arch (*) | R version | Installed pkgs |
|---|---|---|---|---|
| kjohnson2 | macOS 12.6.1 Monterey | arm64 | 4.3.1 (2023-06-16) -- "Beagle Scouts" | 4347 |
| Click on any hostname to see more info about the system (e.g. compilers) (*) as reported by 'uname -p', except on Windows and Mac OS X | ||||
| Package 568/2230 | Hostname | OS / Arch | INSTALL | BUILD | CHECK | BUILD BIN | ||||||||
| divergence 1.16.0 (landing page) Wikum Dinalankara
| kjohnson2 | macOS 12.6.1 Monterey / arm64 | OK | OK | OK | OK | ||||||||
|
To the developers/maintainers of the divergence package: - Use the following Renviron settings to reproduce errors and warnings. - If 'R CMD check' started to fail recently on the Linux builder(s) over a missing dependency, add the missing dependency to 'Suggests:' in your DESCRIPTION file. See Renviron.bioc for more information. |
| Package: divergence |
| Version: 1.16.0 |
| Command: /Library/Frameworks/R.framework/Resources/bin/R CMD check --install=check:divergence.install-out.txt --library=/Library/Frameworks/R.framework/Resources/library --no-vignettes --timings divergence_1.16.0.tar.gz |
| StartedAt: 2023-10-17 16:05:59 -0400 (Tue, 17 Oct 2023) |
| EndedAt: 2023-10-17 16:11:09 -0400 (Tue, 17 Oct 2023) |
| EllapsedTime: 309.8 seconds |
| RetCode: 0 |
| Status: OK |
| CheckDir: divergence.Rcheck |
| Warnings: 0 |
##############################################################################
##############################################################################
###
### Running command:
###
### /Library/Frameworks/R.framework/Resources/bin/R CMD check --install=check:divergence.install-out.txt --library=/Library/Frameworks/R.framework/Resources/library --no-vignettes --timings divergence_1.16.0.tar.gz
###
##############################################################################
##############################################################################
* using log directory ‘/Users/biocbuild/bbs-3.17-bioc-mac-arm64/meat/divergence.Rcheck’
* using R version 4.3.1 (2023-06-16)
* using platform: aarch64-apple-darwin20 (64-bit)
* R was compiled by
Apple clang version 14.0.0 (clang-1400.0.29.202)
GNU Fortran (GCC) 12.2.0
* running under: macOS Monterey 12.6.7
* using session charset: UTF-8
* using option ‘--no-vignettes’
* checking for file ‘divergence/DESCRIPTION’ ... OK
* this is package ‘divergence’ version ‘1.16.0’
* package encoding: UTF-8
* checking package namespace information ... OK
* checking package dependencies ... OK
* checking if this is a source package ... OK
* checking if there is a namespace ... OK
* checking for hidden files and directories ... OK
* checking for portable file names ... OK
* checking for sufficient/correct file permissions ... OK
* checking whether package ‘divergence’ can be installed ... OK
* checking installed package size ... OK
* checking package directory ... OK
* checking ‘build’ directory ... OK
* checking DESCRIPTION meta-information ... OK
* checking top-level files ... NOTE
File
LICENSE
is not mentioned in the DESCRIPTION file.
* checking for left-over files ... OK
* checking index information ... OK
* checking package subdirectories ... OK
* checking R files for non-ASCII characters ... OK
* checking R files for syntax errors ... OK
* checking whether the package can be loaded ... OK
* checking whether the package can be loaded with stated dependencies ... OK
* checking whether the package can be unloaded cleanly ... OK
* checking whether the namespace can be loaded with stated dependencies ... OK
* checking whether the namespace can be unloaded cleanly ... OK
* checking dependencies in R code ... OK
* checking S3 generic/method consistency ... OK
* checking replacement functions ... OK
* checking foreign function calls ... OK
* checking R code for possible problems ... NOTE
check_SE: no visible binding for global variable ‘data’
computeSingleFeaturesetBinaryVector: no visible global function
definition for ‘dist’
computeSingleFeaturesetSupport: no visible global function definition
for ‘dist’
computeSingleFeaturesetSupport: no visible global function definition
for ‘quantile’
computeSingleRange: no visible global function definition for
‘quantile’
getRangesBySections: no visible global function definition for
‘detectCores’
rowChiSq: no visible global function definition for ‘chisq.test’
rowChiSq: no visible global function definition for ‘xtabs’
Undefined global functions or variables:
chisq.test data detectCores dist quantile xtabs
Consider adding
importFrom("stats", "chisq.test", "dist", "quantile", "xtabs")
importFrom("utils", "data")
to your NAMESPACE file.
* checking Rd files ... OK
* checking Rd metadata ... OK
* checking Rd cross-references ... OK
* checking for missing documentation entries ... OK
* checking for code/documentation mismatches ... OK
* checking Rd \usage sections ... OK
* checking Rd contents ... OK
* checking for unstated dependencies in examples ... OK
* checking contents of ‘data’ directory ... OK
* checking data for non-ASCII characters ... OK
* checking LazyData ... OK
* checking data for ASCII and uncompressed saves ... OK
* checking files in ‘vignettes’ ... OK
* checking examples ... OK
Examples with CPU (user + system) or elapsed time > 5s
user system elapsed
computeUnivariateDigitization 37.202 15.126 23.933
computeChiSquaredTest 16.323 6.670 12.376
findUnivariateGammaWithSupport 14.372 6.516 9.703
computeMultivariateDigitization 4.200 0.146 5.918
* checking for unstated dependencies in vignettes ... OK
* checking package vignettes in ‘inst/doc’ ... OK
* checking running R code from vignettes ... SKIPPED
* checking re-building of vignette outputs ... SKIPPED
* checking PDF version of manual ... OK
* DONE
Status: 2 NOTEs
See
‘/Users/biocbuild/bbs-3.17-bioc-mac-arm64/meat/divergence.Rcheck/00check.log’
for details.
divergence.Rcheck/00install.out
############################################################################## ############################################################################## ### ### Running command: ### ### /Library/Frameworks/R.framework/Resources/bin/R CMD INSTALL divergence ### ############################################################################## ############################################################################## * installing to library ‘/Library/Frameworks/R.framework/Versions/4.3-arm64/Resources/library’ * installing *source* package ‘divergence’ ... ** using staged installation ** R ** data *** moving datasets to lazyload DB ** byte-compile and prepare package for lazy loading ** help *** installing help indices ** building package indices ** installing vignettes ** testing if installed package can be loaded from temporary location ** testing if installed package can be loaded from final location ** testing if installed package keeps a record of temporary installation path * DONE (divergence)
divergence.Rcheck/divergence-Ex.timings
| name | user | system | elapsed | |
| computeChiSquaredTest | 16.323 | 6.670 | 12.376 | |
| computeMultivariateBinaryMatrix | 1.853 | 0.079 | 2.916 | |
| computeMultivariateDigitization | 4.200 | 0.146 | 5.918 | |
| computeMultivariateSupport | 0.321 | 0.007 | 0.413 | |
| computeQuantileMatrix | 0.053 | 0.001 | 0.067 | |
| computeUnivariateDigitization | 37.202 | 15.126 | 23.933 | |
| computeUnivariateSupport | 1.288 | 0.482 | 0.958 | |
| computeUnivariateTernaryMatrix | 1.459 | 0.435 | 1.163 | |
| findMultivariateGammaWithSupport | 0.594 | 0.037 | 0.950 | |
| findUnivariateGammaWithSupport | 14.372 | 6.516 | 9.703 | |