| Back to Mac ARM64 build report for BioC 3.17 |
|
This page was generated on 2023-10-13 11:32:30 -0400 (Fri, 13 Oct 2023).
| Hostname | OS | Arch (*) | R version | Installed pkgs |
|---|---|---|---|---|
| kjohnson2 | macOS 12.6.1 Monterey | arm64 | 4.3.1 (2023-06-16) -- "Beagle Scouts" | 4346 |
| Click on any hostname to see more info about the system (e.g. compilers) (*) as reported by 'uname -p', except on Windows and Mac OS X | ||||
| Package 1780/2230 | Hostname | OS / Arch | INSTALL | BUILD | CHECK | BUILD BIN | ||||||||
| RTCGAToolbox 2.30.0 (landing page) Marcel Ramos
| kjohnson2 | macOS 12.6.1 Monterey / arm64 | OK | OK | OK | OK | ||||||||
|
To the developers/maintainers of the RTCGAToolbox package: - Use the following Renviron settings to reproduce errors and warnings. - If 'R CMD check' started to fail recently on the Linux builder(s) over a missing dependency, add the missing dependency to 'Suggests:' in your DESCRIPTION file. See Renviron.bioc for more information. |
| Package: RTCGAToolbox |
| Version: 2.30.0 |
| Command: /Library/Frameworks/R.framework/Resources/bin/R CMD check --install=check:RTCGAToolbox.install-out.txt --library=/Library/Frameworks/R.framework/Resources/library --no-vignettes --timings RTCGAToolbox_2.30.0.tar.gz |
| StartedAt: 2023-10-11 22:30:41 -0400 (Wed, 11 Oct 2023) |
| EndedAt: 2023-10-11 22:36:13 -0400 (Wed, 11 Oct 2023) |
| EllapsedTime: 332.2 seconds |
| RetCode: 0 |
| Status: OK |
| CheckDir: RTCGAToolbox.Rcheck |
| Warnings: 0 |
##############################################################################
##############################################################################
###
### Running command:
###
### /Library/Frameworks/R.framework/Resources/bin/R CMD check --install=check:RTCGAToolbox.install-out.txt --library=/Library/Frameworks/R.framework/Resources/library --no-vignettes --timings RTCGAToolbox_2.30.0.tar.gz
###
##############################################################################
##############################################################################
* using log directory ‘/Users/biocbuild/bbs-3.17-bioc-mac-arm64/meat/RTCGAToolbox.Rcheck’
* using R version 4.3.1 (2023-06-16)
* using platform: aarch64-apple-darwin20 (64-bit)
* R was compiled by
Apple clang version 14.0.0 (clang-1400.0.29.202)
GNU Fortran (GCC) 12.2.0
* running under: macOS Monterey 12.6.7
* using session charset: UTF-8
* using option ‘--no-vignettes’
* checking for file ‘RTCGAToolbox/DESCRIPTION’ ... OK
* checking extension type ... Package
* this is package ‘RTCGAToolbox’ version ‘2.30.0’
* package encoding: UTF-8
* checking package namespace information ... OK
* checking package dependencies ... OK
* checking if this is a source package ... OK
* checking if there is a namespace ... OK
* checking for hidden files and directories ... OK
* checking for portable file names ... OK
* checking for sufficient/correct file permissions ... OK
* checking whether package ‘RTCGAToolbox’ can be installed ... OK
* checking installed package size ... OK
* checking package directory ... OK
* checking ‘build’ directory ... OK
* checking DESCRIPTION meta-information ... OK
* checking top-level files ... OK
* checking for left-over files ... OK
* checking index information ... OK
* checking package subdirectories ... OK
* checking R files for non-ASCII characters ... OK
* checking R files for syntax errors ... OK
* checking whether the package can be loaded ... OK
* checking whether the package can be loaded with stated dependencies ... OK
* checking whether the package can be unloaded cleanly ... OK
* checking whether the namespace can be loaded with stated dependencies ... OK
* checking whether the namespace can be unloaded cleanly ... OK
* checking dependencies in R code ... OK
* checking S3 generic/method consistency ... OK
* checking replacement functions ... OK
* checking foreign function calls ... OK
* checking R code for possible problems ... OK
* checking Rd files ... OK
* checking Rd metadata ... OK
* checking Rd cross-references ... OK
* checking for missing documentation entries ... OK
* checking for code/documentation mismatches ... OK
* checking Rd \usage sections ... OK
* checking Rd contents ... OK
* checking for unstated dependencies in examples ... OK
* checking contents of ‘data’ directory ... OK
* checking data for non-ASCII characters ... OK
* checking data for ASCII and uncompressed saves ... OK
* checking files in ‘vignettes’ ... OK
* checking examples ... OK
Examples with CPU (user + system) or elapsed time > 5s
user system elapsed
biocExtract 7.794 0.354 12.673
makeSummarizedExperimentFromGISTIC 7.106 0.701 22.612
getGISTICPeaks 5.309 0.276 10.676
getReport 4.202 0.178 6.878
* checking for unstated dependencies in vignettes ... OK
* checking package vignettes in ‘inst/doc’ ... OK
* checking running R code from vignettes ... SKIPPED
* checking re-building of vignette outputs ... SKIPPED
* checking PDF version of manual ... OK
* DONE
Status: OK
RTCGAToolbox.Rcheck/00install.out
############################################################################## ############################################################################## ### ### Running command: ### ### /Library/Frameworks/R.framework/Resources/bin/R CMD INSTALL RTCGAToolbox ### ############################################################################## ############################################################################## * installing to library ‘/Library/Frameworks/R.framework/Versions/4.3-arm64/Resources/library’ * installing *source* package ‘RTCGAToolbox’ ... ** using staged installation ** R ** data ** inst ** byte-compile and prepare package for lazy loading ** help *** installing help indices ** building package indices ** installing vignettes ** testing if installed package can be loaded from temporary location ** testing if installed package can be loaded from final location ** testing if installed package keeps a record of temporary installation path * DONE (RTCGAToolbox)
RTCGAToolbox.Rcheck/RTCGAToolbox-Ex.timings
| name | user | system | elapsed | |
| biocExtract | 7.794 | 0.354 | 12.673 | |
| getBroadSubtypes | 0.044 | 0.009 | 0.812 | |
| getData | 0.026 | 0.013 | 0.058 | |
| getFirehoseAnalyzeDates | 0.001 | 0.000 | 0.003 | |
| getFirehoseData | 0.011 | 0.002 | 0.020 | |
| getFirehoseDatasets | 0.000 | 0.000 | 0.001 | |
| getFirehoseRunningDates | 0.000 | 0.000 | 0.001 | |
| getGISTICPeaks | 5.309 | 0.276 | 10.676 | |
| getLinks | 0.101 | 0.015 | 0.935 | |
| getMutationRate | 0.012 | 0.002 | 0.019 | |
| getReport | 4.202 | 0.178 | 6.878 | |
| makeSummarizedExperimentFromGISTIC | 7.106 | 0.701 | 22.612 | |
| showResults-CorResult | 0.010 | 0.002 | 0.022 | |
| showResults-DGEResult | 0.009 | 0.002 | 0.018 | |
| showResults | 0.010 | 0.001 | 0.017 | |