| Back to Mac ARM64 build report for BioC 3.17 |
|
This page was generated on 2023-10-20 09:38:10 -0400 (Fri, 20 Oct 2023).
| Hostname | OS | Arch (*) | R version | Installed pkgs |
|---|---|---|---|---|
| kjohnson2 | macOS 12.6.1 Monterey | arm64 | 4.3.1 (2023-06-16) -- "Beagle Scouts" | 4347 |
| Click on any hostname to see more info about the system (e.g. compilers) (*) as reported by 'uname -p', except on Windows and Mac OS X | ||||
| Package 1727/2230 | Hostname | OS / Arch | INSTALL | BUILD | CHECK | BUILD BIN | ||||||||
| RIVER 1.24.0 (landing page) Yungil Kim
| kjohnson2 | macOS 12.6.1 Monterey / arm64 | OK | OK | OK | OK | ||||||||
|
To the developers/maintainers of the RIVER package: - Use the following Renviron settings to reproduce errors and warnings. - If 'R CMD check' started to fail recently on the Linux builder(s) over a missing dependency, add the missing dependency to 'Suggests:' in your DESCRIPTION file. See Renviron.bioc for more information. |
| Package: RIVER |
| Version: 1.24.0 |
| Command: /Library/Frameworks/R.framework/Resources/bin/R CMD check --install=check:RIVER.install-out.txt --library=/Library/Frameworks/R.framework/Resources/library --no-vignettes --timings RIVER_1.24.0.tar.gz |
| StartedAt: 2023-10-18 19:28:28 -0400 (Wed, 18 Oct 2023) |
| EndedAt: 2023-10-18 19:31:28 -0400 (Wed, 18 Oct 2023) |
| EllapsedTime: 179.6 seconds |
| RetCode: 0 |
| Status: OK |
| CheckDir: RIVER.Rcheck |
| Warnings: 0 |
##############################################################################
##############################################################################
###
### Running command:
###
### /Library/Frameworks/R.framework/Resources/bin/R CMD check --install=check:RIVER.install-out.txt --library=/Library/Frameworks/R.framework/Resources/library --no-vignettes --timings RIVER_1.24.0.tar.gz
###
##############################################################################
##############################################################################
* using log directory ‘/Users/biocbuild/bbs-3.17-bioc-mac-arm64/meat/RIVER.Rcheck’
* using R version 4.3.1 (2023-06-16)
* using platform: aarch64-apple-darwin20 (64-bit)
* R was compiled by
Apple clang version 14.0.0 (clang-1400.0.29.202)
GNU Fortran (GCC) 12.2.0
* running under: macOS Monterey 12.6.7
* using session charset: UTF-8
* using option ‘--no-vignettes’
* checking for file ‘RIVER/DESCRIPTION’ ... OK
* this is package ‘RIVER’ version ‘1.24.0’
* checking package namespace information ... OK
* checking package dependencies ... OK
* checking if this is a source package ... OK
* checking if there is a namespace ... OK
* checking for hidden files and directories ... OK
* checking for portable file names ... OK
* checking for sufficient/correct file permissions ... OK
* checking whether package ‘RIVER’ can be installed ... OK
* checking installed package size ... OK
* checking package directory ... OK
* checking ‘build’ directory ... OK
* checking DESCRIPTION meta-information ... OK
* checking top-level files ... OK
* checking for left-over files ... OK
* checking index information ... OK
* checking package subdirectories ... OK
* checking R files for non-ASCII characters ... OK
* checking R files for syntax errors ... OK
* checking whether the package can be loaded ... OK
* checking whether the package can be loaded with stated dependencies ... OK
* checking whether the package can be unloaded cleanly ... OK
* checking whether the namespace can be loaded with stated dependencies ... OK
* checking whether the namespace can be unloaded cleanly ... OK
* checking dependencies in R code ... OK
* checking S3 generic/method consistency ... OK
* checking replacement functions ... OK
* checking foreign function calls ... OK
* checking R code for possible problems ... OK
* checking Rd files ... OK
* checking Rd metadata ... OK
* checking Rd cross-references ... OK
* checking for missing documentation entries ... OK
* checking for code/documentation mismatches ... OK
* checking Rd \usage sections ... OK
* checking Rd contents ... OK
* checking for unstated dependencies in examples ... OK
* checking files in ‘vignettes’ ... OK
* checking examples ... OK
* checking for unstated dependencies in ‘tests’ ... OK
* checking tests ...
Running ‘testthat.R’
OK
* checking for unstated dependencies in vignettes ... OK
* checking package vignettes in ‘inst/doc’ ... OK
* checking running R code from vignettes ... SKIPPED
* checking re-building of vignette outputs ... SKIPPED
* checking PDF version of manual ... OK
* DONE
Status: OK
RIVER.Rcheck/00install.out
############################################################################## ############################################################################## ### ### Running command: ### ### /Library/Frameworks/R.framework/Resources/bin/R CMD INSTALL RIVER ### ############################################################################## ############################################################################## * installing to library ‘/Library/Frameworks/R.framework/Versions/4.3-arm64/Resources/library’ * installing *source* package ‘RIVER’ ... ** using staged installation ** R ** inst ** byte-compile and prepare package for lazy loading ** help *** installing help indices ** building package indices ** installing vignettes ** testing if installed package can be loaded from temporary location ** testing if installed package can be loaded from final location ** testing if installed package keeps a record of temporary installation path * DONE (RIVER)
RIVER.Rcheck/tests/testthat.Rout
R version 4.3.1 (2023-06-16) -- "Beagle Scouts"
Copyright (C) 2023 The R Foundation for Statistical Computing
Platform: aarch64-apple-darwin20 (64-bit)
R is free software and comes with ABSOLUTELY NO WARRANTY.
You are welcome to redistribute it under certain conditions.
Type 'license()' or 'licence()' for distribution details.
R is a collaborative project with many contributors.
Type 'contributors()' for more information and
'citation()' on how to cite R or R packages in publications.
Type 'demo()' for some demos, 'help()' for on-line help, or
'help.start()' for an HTML browser interface to help.
Type 'q()' to quit R.
> library(testthat)
> library(RIVER)
>
> test_check("RIVER")
::: EM iteration is terminated since it converges within a
predefined tolerance (0.001) :::
::: EM iteration is terminated since it converges within a
predefined tolerance (0.001) :::
::: EM iteration is terminated since it converges within a
predefined tolerance (0.001) :::
::: EM iteration is terminated since it converges within a
predefined tolerance (0.001) :::
::: EM iteration is terminated since it converges within a
predefined tolerance (0.001) :::
[ FAIL 0 | WARN 2 | SKIP 0 | PASS 33 ]
[ FAIL 0 | WARN 2 | SKIP 0 | PASS 33 ]
>
> proc.time()
user system elapsed
15.100 0.501 26.589
RIVER.Rcheck/RIVER-Ex.timings
| name | user | system | elapsed | |
| appRIVER | 2.393 | 0.075 | 4.215 | |
| evaRIVER | 2.432 | 0.061 | 4.256 | |
| getData | 0.216 | 0.004 | 0.388 | |
| getFuncRvFeat | 0.588 | 0.014 | 1.007 | |
| getFuncRvPosteriors | 0.571 | 0.012 | 1.033 | |
| integratedEM | 2.106 | 0.033 | 3.610 | |
| mleBeta | 0.611 | 0.013 | 0.993 | |
| mleTheta | 0.567 | 0.011 | 0.989 | |
| plotPosteriors | 2.470 | 0.063 | 4.321 | |
| testPosteriors | 2.265 | 0.045 | 3.945 | |