| Back to Mac ARM64 build report for BioC 3.17 |
|
This page was generated on 2023-10-20 09:38:06 -0400 (Fri, 20 Oct 2023).
| Hostname | OS | Arch (*) | R version | Installed pkgs |
|---|---|---|---|---|
| kjohnson2 | macOS 12.6.1 Monterey | arm64 | 4.3.1 (2023-06-16) -- "Beagle Scouts" | 4347 |
| Click on any hostname to see more info about the system (e.g. compilers) (*) as reported by 'uname -p', except on Windows and Mac OS X | ||||
| Package 1268/2230 | Hostname | OS / Arch | INSTALL | BUILD | CHECK | BUILD BIN | ||||||||
| ModCon 1.8.0 (landing page) Johannes Ptok
| kjohnson2 | macOS 12.6.1 Monterey / arm64 | OK | OK | OK | OK | ||||||||
|
To the developers/maintainers of the ModCon package: - Use the following Renviron settings to reproduce errors and warnings. - If 'R CMD check' started to fail recently on the Linux builder(s) over a missing dependency, add the missing dependency to 'Suggests:' in your DESCRIPTION file. See Renviron.bioc for more information. |
| Package: ModCon |
| Version: 1.8.0 |
| Command: /Library/Frameworks/R.framework/Resources/bin/R CMD check --install=check:ModCon.install-out.txt --library=/Library/Frameworks/R.framework/Resources/library --no-vignettes --timings ModCon_1.8.0.tar.gz |
| StartedAt: 2023-10-18 08:38:38 -0400 (Wed, 18 Oct 2023) |
| EndedAt: 2023-10-18 08:46:04 -0400 (Wed, 18 Oct 2023) |
| EllapsedTime: 446.5 seconds |
| RetCode: 0 |
| Status: OK |
| CheckDir: ModCon.Rcheck |
| Warnings: 0 |
##############################################################################
##############################################################################
###
### Running command:
###
### /Library/Frameworks/R.framework/Resources/bin/R CMD check --install=check:ModCon.install-out.txt --library=/Library/Frameworks/R.framework/Resources/library --no-vignettes --timings ModCon_1.8.0.tar.gz
###
##############################################################################
##############################################################################
* using log directory ‘/Users/biocbuild/bbs-3.17-bioc-mac-arm64/meat/ModCon.Rcheck’
* using R version 4.3.1 (2023-06-16)
* using platform: aarch64-apple-darwin20 (64-bit)
* R was compiled by
Apple clang version 14.0.0 (clang-1400.0.29.202)
GNU Fortran (GCC) 12.2.0
* running under: macOS Monterey 12.6.7
* using session charset: UTF-8
* using option ‘--no-vignettes’
* checking for file ‘ModCon/DESCRIPTION’ ... OK
* checking extension type ... Package
* this is package ‘ModCon’ version ‘1.8.0’
* package encoding: UTF-8
* checking package namespace information ... OK
* checking package dependencies ... OK
* checking if this is a source package ... OK
* checking if there is a namespace ... OK
* checking for hidden files and directories ... OK
* checking for portable file names ... OK
* checking for sufficient/correct file permissions ... OK
* checking whether package ‘ModCon’ can be installed ... OK
* checking installed package size ... NOTE
installed size is 6.5Mb
sub-directories of 1Mb or more:
R 1.2Mb
data 1.1Mb
extdata 4.0Mb
* checking package directory ... OK
* checking ‘build’ directory ... OK
* checking DESCRIPTION meta-information ... OK
* checking top-level files ... OK
* checking for left-over files ... OK
* checking index information ... OK
* checking package subdirectories ... OK
* checking R files for non-ASCII characters ... OK
* checking R files for syntax errors ... OK
* checking whether the package can be loaded ... OK
* checking whether the package can be loaded with stated dependencies ... OK
* checking whether the package can be unloaded cleanly ... OK
* checking whether the namespace can be loaded with stated dependencies ... OK
* checking whether the namespace can be unloaded cleanly ... OK
* checking dependencies in R code ... OK
* checking S3 generic/method consistency ... OK
* checking replacement functions ... OK
* checking foreign function calls ... OK
* checking R code for possible problems ... OK
* checking Rd files ... OK
* checking Rd metadata ... OK
* checking Rd cross-references ... OK
* checking for missing documentation entries ... OK
* checking for code/documentation mismatches ... OK
* checking Rd \usage sections ... OK
* checking Rd contents ... OK
* checking for unstated dependencies in examples ... OK
* checking contents of ‘data’ directory ... OK
* checking data for non-ASCII characters ... OK
* checking LazyData ... OK
* checking data for ASCII and uncompressed saves ... OK
* checking R/sysdata.rda ... OK
* checking files in ‘vignettes’ ... OK
* checking examples ... OK
Examples with CPU (user + system) or elapsed time > 5s
user system elapsed
slidingWindowHZEImanipulation 27.082 0.624 42.593
ModCon 21.098 0.683 50.130
changeSequenceHZEI 7.613 0.188 11.279
* checking for unstated dependencies in ‘tests’ ... OK
* checking tests ...
Running ‘testthat.R’
OK
* checking for unstated dependencies in vignettes ... OK
* checking package vignettes in ‘inst/doc’ ... OK
* checking running R code from vignettes ... SKIPPED
* checking re-building of vignette outputs ... SKIPPED
* checking PDF version of manual ... OK
* DONE
Status: 1 NOTE
See
‘/Users/biocbuild/bbs-3.17-bioc-mac-arm64/meat/ModCon.Rcheck/00check.log’
for details.
ModCon.Rcheck/00install.out
############################################################################## ############################################################################## ### ### Running command: ### ### /Library/Frameworks/R.framework/Resources/bin/R CMD INSTALL ModCon ### ############################################################################## ############################################################################## * installing to library ‘/Library/Frameworks/R.framework/Versions/4.3-arm64/Resources/library’ * installing *source* package ‘ModCon’ ... ** using staged installation ** R ** data *** moving datasets to lazyload DB ** inst ** byte-compile and prepare package for lazy loading ** help *** installing help indices ** building package indices ** installing vignettes ** testing if installed package can be loaded from temporary location ** testing if installed package can be loaded from final location ** testing if installed package keeps a record of temporary installation path * DONE (ModCon)
ModCon.Rcheck/tests/testthat.Rout
R version 4.3.1 (2023-06-16) -- "Beagle Scouts"
Copyright (C) 2023 The R Foundation for Statistical Computing
Platform: aarch64-apple-darwin20 (64-bit)
R is free software and comes with ABSOLUTELY NO WARRANTY.
You are welcome to redistribute it under certain conditions.
Type 'license()' or 'licence()' for distribution details.
R is a collaborative project with many contributors.
Type 'contributors()' for more information and
'citation()' on how to cite R or R packages in publications.
Type 'demo()' for some demos, 'help()' for on-line help, or
'help.start()' for an HTML browser interface to help.
Type 'q()' to quit R.
> library(testthat)
> library(ModCon)
Loading required package: data.table
Loading required package: parallel
>
> test_check("ModCon")
[ FAIL 0 | WARN 0 | SKIP 0 | PASS 27 ]
>
> proc.time()
user system elapsed
124.592 3.792 261.012
ModCon.Rcheck/ModCon-Ex.timings
| name | user | system | elapsed | |
| Codons | 0.005 | 0.003 | 0.013 | |
| ModCon | 21.098 | 0.683 | 50.130 | |
| calculateHZEIint | 0.001 | 0.000 | 0.003 | |
| calculateMaxEntScanScore | 0.192 | 0.032 | 0.427 | |
| cds | 0.001 | 0.000 | 0.000 | |
| changeSequenceHZEI | 7.613 | 0.188 | 11.279 | |
| createCodonMatrix | 0.000 | 0.000 | 0.001 | |
| createFilialSequencePopulation | 0.001 | 0.000 | 0.000 | |
| decreaseGTsiteStrength | 0.484 | 0.034 | 0.664 | |
| degradeSAs | 2.819 | 0.109 | 3.780 | |
| degradeSDs | 1.831 | 0.079 | 2.578 | |
| generateRandomCodonsPerAA | 0 | 0 | 0 | |
| getOverlappingVectorsFromVector | 0.000 | 0.000 | 0.001 | |
| hbg | 0.799 | 0.537 | 1.979 | |
| hex | 0.101 | 0.131 | 0.341 | |
| increaseGTsiteStrength | 0.470 | 0.029 | 0.729 | |
| mutatePopulation | 0.001 | 0.000 | 0.003 | |
| recombineTwoSequences | 0.000 | 0.001 | 0.001 | |
| selectBestAndMean | 0.008 | 0.007 | 0.795 | |
| selectMatingIndividuals | 0.009 | 0.006 | 0.828 | |
| slidingWindowHZEImanipulation | 27.082 | 0.624 | 42.593 | |
| startModConApp | 0.000 | 0.001 | 0.000 | |